Workbook

Sheet Mode d'emploi
A4: Cette matrice de menus dispose des onglets suivants :
A7: pictos | C7: Onglet protégé à partir duquel vous pouvez copier les logos pour les insérer dans vos menus, au jour ou à la semaine.
C8: Vous devez imprimer cet onglet et afficher à l'entrée de votre salle de restaurant, à proximité des menus.
A10: Plan alimentaire choix multiple MIDI | C10: Onglet protégé qui présente le plan alimentaire équilibré, sur 4 à 5 semaines, pour le midi. Vous ne pouvez pas le modifier.
C11: Le plan alimentaire demeure la référence lorsque vous modifiez le menu. Les modifications doivent se faire dans la même famille alimentaire (crudité, féculent, bœuf, dessert lacté …)
C12: Le plan alimentaire couvre également le service du soir pour les sites ayant un internat.
A14: Choix mutiple hebdo | C14: C'est à partir de cet onglet (non protégé!) que tout se pilote. Il est donc modifiable
C15: Vous changez la date du 1er lundi et tout s'enregistre automatiquement sur le soir, sur les autres semaines et sur les autres onglets
C16: Vous changez le nom de l'établissement (la 1ère semaine) et tout s'enregistre automatiquement sur le soir, sur les semaines qui suivent, et même sur les autres onglets
C17: Vous pouvez modifier les menus.
C18: Dans le menu, les lignes bleues représentent le menu conseillé, conformément au GEMRCN.
A21: Allergènes | C21: Ces onglets ne sont pas protégés. Ils s'alimentent directement depuis l'onglet Choix multiple hebdo.
C22: Si vous faites des modifications dans le menu hebdo, elles se reportent sur les onglets allergènes.
C23: All MS1, MS2, MS3 … concernent les allergènes du midi.
C24: ! Attention ! En revanche, vous devez modifier le cochage des allergènes lorsque vous faites des modifications !
A27: Menus du jour | C27: Onglet protégé sur lequel vous diposez des menus au jour le jour avec le menu équilibré recommandé mis en avant.

Sheet Plan ali. choix multiple Midi
C1: Nom établissement | J1: =+C1 -> Nom établissement | Q1: =+J1 -> Nom établissement | X1: =+Q1 -> Nom établissement | AE1: =+X1 -> Nom établissement
B3: Déjeuners du | C3: ='Choix multiple hebdo Soir'!F3 -> 46293 | D3: au | E3: =C3+4 -> 46297 | I3: Déjeuners du | J3: =E3+3 -> 46300 | K3: au | L3: =J3+4 -> 46304 | P3: Déjeuners du | Q3: =L3+3 -> 46307 | R3: au | S3: =Q3+4 -> 46311 | W3: Déjeuners du | X3: =S3+3 -> 46314 | Y3: au | Z3: =X3+4 -> 46318 | AD3: Déjeuners du | AE3: =Z3+3 -> 46321 | AF3: au | AG3: =AE3+4 -> 46325
B5: Plan alimentaire déjeuner SEMAINE 1 | I5: Plan alimentaire déjeuner SEMAINE 2 | P5: Plan alimentaire déjeuner SEMAINE 3 | W5: Plan alimentaire déjeuner SEMAINE 4 | AD5: Plan alimentaire déjeuner SEMAINE 5
D7: * Menus indicatifs sous réserve de modifications * | K7: * Menus indicatifs sous réserve de modifications * | R7: * Menus indicatifs sous réserve de modifications * | Y7: * Menus indicatifs sous réserve de modifications * | AF7: * Menus indicatifs sous réserve de modifications *
A8: SEMAINE 1 | B8: Lundi | C8: Mardi | D8: Mercredi | E8: Jeudi | F8: Vendredi | H8: SEMAINE 2 | I8: Lundi | J8: Mardi | K8: Mercredi | L8: Jeudi | M8: Vendredi | O8: SEMAINE 3 | P8: Lundi | Q8: Mardi | R8: Mercredi | S8: Jeudi | T8: Vendredi | V8: SEMAINE 4 | W8: Lundi | X8: Mardi | Y8: Mercredi | Z8: Jeudi | AA8: Vendredi | AC8: SEMAINE 5 | AD8: Lundi | AE8: Mardi | AF8: Mercredi | AG8: Jeudi | AH8: Vendredi
A10: Entrées | B10: crudité | C10: pâtisserie salée | D10: crudité | E10: crudité | F10: cuidité | H10: Entrées | I10: crudité | J10: cuidité | K10: pâtisserie salée | L10: crudité | M10: entrée féculent | O10: Entrées | P10: cuidité | Q10: pâtisserie salée | R10: crudité | S10: crudité | T10: crudité | V10: Entrées | W10: entrée féculent | X10: crudité | Z10: cuidité | AA10: crudité | AC10: Entrées
B11: crudité | C11: pâtisserie salée | D11: crudité | E11: crudité | F11: cuidité | I11: crudité | J11: cuidité | K11: pâtisserie salée | L11: crudité | M11: entrée féculent | P11: cuidité | Q11: pâtisserie salée | R11: crudité | S11: crudité | T11: crudité | W11: entrée féculent | X11: crudité | Z11: cuidité | AA11: crudité
B12: entrée féculent | C12: crudité | D12: entrée féculent | E12: entrée protidique | F12: crudité | I12: entrée féculent | J12: crudité | K12: crudité | L12: entrée féculent | M12: crudité | P12: crudité | Q12: crudité | R12: cuidité | S12: entrée protidique | T12: entrée féculent | W12: crudité | X12: pâtisserie salée | Z12: crudité | AA12: entrée protidique
B13: cuidité | C13: crudité | D13: cuidité | E13: entrée féculent | F13: crudité | I13: entrée protidique | J13: crudité | K13: crudité | L13: charcuterie | M13: crudité | P13: crudité | Q13: crudité | R13: entrée féculent | S13: entrée féculent | T13: cuidité | W13: crudité | X13: cuidité | Z13: crudité | AA13: entrée féculent
A14: Plat principaux | B14: végétarien | C14: veau non haché | D14: Œufs | E14: Veau/bœuf/agneau haché | F14: poisson | H14: Plat principaux | I14: dinde | J14: végétarien | K14: porc | L14: poisson | M14: bœuf non haché | O14: Plat principaux | P14: poisson | Q14: veau non haché | R14: charcuterie | S14: Veau/bœuf/agneau haché | T14: végétarien | V14: Plat principaux | W14: dinde | X14: végétarien | Z14: bœuf non haché | AA14: poisson | AC14: Plat principaux
B15: poisson | C15: poisson | D15: dinde | E15: végétarien | F15: œufs | I15: poisson | J15: poisson | K15: œufs | L15: poulet | M15: végétarien | P15: œufs | Q15: poisson | R15: poisson | S15: végétarien | T15: poisson | W15: poisson | X15: œufs | Z15: végétarien | AA15: charcuterie
A16: Garnitures | B16: légumes | C16: légumes | D16: féculents | E16: féculents | F16: féculents | H16: Garnitures | I16: féculents | J16: féculents | K16: légumes | L16: légumes | M16: légumes | O16: Garnitures | P16: féculents | Q16: légumes | R16: féculents | S16: féculents | T16: légumes | V16: Garnitures | W16: légumes | X16: féculents | Z16: féculents | AA16: légumes | AC16: Garnitures
B17: féculents | C17: féculents | D17: légumes | E17: légumes | F17: légumes | I17: légumes | J17: légumes | K17: féculents | L17: féculents | M17: féculents | P17: légumes | Q17: féculents | R17: légumes | S17: légumes | T17: féculents | W17: féculents | X17: légumes | Z17: légumes | AA17: féculents
A18: Produits | B18: fromage > 150mg Ca | C18: fromage 100-150mg Ca | D18: fromage > 150mg Ca | E18: laitage | F18: laitage | H18: Produits | I18: fromage > 150mg Ca | J18: fromage > 150mg Ca | K18: laitage | L18: laitage | M18: fromage > 150mg Ca | O18: Produits | P18: laitage | Q18: laitage | R18: fromage > 150mg Ca | S18: fromage 100-150mg Ca | T18: fromage > 150mg Ca | V18: Produits | W18: laitage | X18: fromage 100-150mg Ca | Z18: fromage > 150mg Ca | AA18: laitage | AC18: Produits
A19: Laitiers | B19: fromage 100-150mg Ca | C19: fromage > 150mg Ca | D19: laitage | E19: fromage > 150mg Ca | F19: fromage > 150mg Ca | H19: Laitiers | I19: laitage | J19: fromage 100-150mg Ca | K19: fromage > 150mg Ca | L19: fromage > 150mg Ca | M19: fromage 100-150mg Ca | O19: Laitiers | P19: fromage > 150mg Ca | Q19: fromage > 150mg Ca | R19: laitage | S19: fromage > 150mg Ca | T19: fromage 100-150mg Ca | V19: Laitiers | W19: fromage > 150mg Ca | X19: fromage > 150mg Ca | Z19: laitage | AA19: fromage > 150mg Ca | AC19: Laitiers
B20: laitage | C20: laitage | D20: fromage 100-150mg Ca | E20: fromage > 150mg Ca | F20: fromage < 100mg Ca | I20: fromage 100-150mg Ca | J20: laitage | K20: fromage 100-150mg Ca | L20: fromage > 150mg Ca | M20: laitage | P20: fromage < 100mg Ca | Q20: fromage > 150mg Ca | R20: fromage 100-150mg Ca | S20: laitage | T20: laitage | W20: fromage > 150mg Ca | X20: laitage | Z20: fromage 100-150mg Ca | AA20: fromage > 150mg Ca
B21: laitage | C21: fromage > 150mg Ca | D21: fromage > 150mg Ca | E21: fromage 100-150mg Ca | F21: fromage > 150mg Ca | I21: fromage > 150mg Ca | J21: fromage > 150mg Ca | K21: fromage > 150mg Ca | L21: fromage < 100mg Ca | M21: laitage | P21: fromage > 150mg Ca | Q21: fromage 100-150mg Ca | R21: fromage > 150mg Ca | S21: fromage > 150mg Ca | T21: laitage | W21: fromage 100-150mg Ca | X21: laitage | Z21: fromage > 150mg Ca | AA21: fromage < 100mg Ca
A22: Desserts | B22: dessert féculent | C22: fruit cru | D22: fruit cuit | E22: dessert lacté | F22: fruit cru | H22: Desserts | I22: dessert lacté | J22: fruit cru | K22: fruit cru | L22: dessert féculent | M22: fruit cru | O22: Desserts | P22: fruit cru | Q22: fruit cru | R22: fruit cru | S22: dessert lacté | T22: dessert féculent | V22: Desserts | W22: fruit cru | X22: fruit cuit | Z22: fruit cru | AA22: dessert féculent | AC22: Desserts
B23: dessert féculent | C23: fruit cru | D23: dessert féculent | E23: dessert lacté | F23: fruit cru | I23: dessert lacté | J23: fruit cru | K23: fruit cru | L23: dessert féculent | M23: fruit cru | P23: fruit cru | Q23: fruit cru | R23: dessert féculent | S23: dessert lacté | T23: dessert féculent | W23: fruit cru | X23: fruit cuit | Z23: fruit cru | AA23: dessert féculent
B24: fruit cru | C24: dessert féculent | D24: fruit cru | E24: fruit cru | F24: dessert féculent | I24: fruit cru | J24: dessert féculent | K24: fruit cuit | L24: fruit cru | M24: dessert lacté | P24: dessert féculent | Q24: dessert féculent | R24: fruit cru | S24: fruit cru | T24: fruit cru | W24: fruit cuit | X24: fruit cru | Z24: dessert féculent | AA24: fruit cru
B25: dessert lacté | C25: dessert lacté | D25: fruit cru | E25: dessert féculent | F25: fruit cuit | I25: fruit cuit | J25: dessert lacté | K25: dessert féculent | L25: dessert lacté | M25: dessert féculent | P25: fruit cuit | Q25: dessert lacté | R25: dessert lacté | S25: fruit cru | T25: dessert lacté | W25: dessert lacté | X25: dessert féculent | Z25: fruit cuit | AA25: dessert lacté
B27: Menus équilibrés recommandés par le service Diététique & Nutrition de Mille et Un Repas et conformes au GEMRCN | I27: Menus équilibrés recommandés par le service Diététique & Nutrition de Mille et Un Repas et conformes au GEMRCN | P27: Menus équilibrés recommandés par le service Diététique & Nutrition de Mille et Un Repas et conformes au GEMRCN | W27: Menus équilibrés recommandés par le service Diététique & Nutrition de Mille et Un Repas et conformes au GEMRCN | AD27: Menus équilibrés recommandés par le service Diététique & Nutrition de Mille et Un Repas et conformes au GEMRCN

Sheet pictos
D3: produit français | L3: appellation d'origine contrôlée
D7: préparation contenant au moins 1 produit bio | L7: appellation d'origine protégée
D11: produit qualifié EGALIM : AOP, AOC, IGP, RUP, HVE, Label rouge … | L11: indication géographique protégée
D15: préparation contenant au moins 1 produit local | L15: haute valeur environnementale
D19: poisson MSC | L19: région ultra-périphérique
D23: label rouge | L23: Recette découverte (mise en avant d'un aliment)
D27: les p'tits PLUS (toppings, sauces, crèmes, herbes aromatiques,…)
D31: recette Fourchette ( plat soumis aux votes des élèves)

Sheet Choix multiple hebdo Soir
B1: Mon restaurant | L1: =B1 -> Mon restaurant | U1: =B1 -> Mon restaurant | AE1: =B1 -> Mon restaurant | AQ1: =B1 -> Mon restaurant
D3: Diners du | F3: 46293 | G3: au | H3: =F3+3 -> 46296 | N3: Dîners du | P3: =H3+4 -> 46300 | Q3: au | R3: =P3+3 -> 46303 | W3: Dîners du | X3: =R3+4 -> 46307 | Z3: au | AA3: =X3+3 -> 46310 | AG3: Dîners du | AI3: =AA3+4 -> 46314 | AJ3: au | AK3: =AI3+3 -> 46317 | AQ3: Dîners du | AS3: =AK3+4 -> 46321 | AT3: au | AU3: =AS3+2 -> 46323
L5: * Menus indicatifs, ajustés pour respecter les saisons et en fonction des approvisionnements ! | U5: * Menus indicatifs, ajustés pour respecter les saisons et en fonction des approvisionnements ! | AE5: * Menus indicatifs, ajustés pour respecter les saisons et en fonction des approvisionnements ! | AO5: * Menus indicatifs, ajustés pour respecter les saisons et en fonction des approvisionnements !
B6: * Menus indicatifs, ajustés en fonction des approvisionnements et du respect des saisons !
B7: LUNDI | C7: Logos | D7: MARDI | E7: Logos | F7: MERCREDI | G7: Logos | H7: JEUDI | I7: Logos | L7: LUNDI | M7: Logos | N7: MARDI | O7: Logos | P7: MERCREDI | Q7: Logos | R7: JEUDI | U7: LUNDI | V7: Logos | W7: MARDI | X7: Logos | Y7: MERCREDI | Z7: Logos | AA7: JEUDI | AE7: LUNDI | AF7: Logos | AG7: MARDI | AH7: Logos | AI7: MERCREDI | AJ7: Logos | AK7: JEUDI | AO7: LUNDI | AP7: Logos | AQ7: MARDI | AR7: Logos | AS7: MERCREDI | AT7: Logos | AU7: JEUDI
H8: SOIRÉE PIZZA | R8: SOIRÉE CHILI | U8: SOIRÉE COUSCOUS
B9: Salade verte à l'emmental | D9: Cake chèvre olive | F9: Coleslaw | H9: Radis beurre | L9: Tomates basilic | N9: Chou rouge vinaigrette | P9: Salade de boulgour | R9: Concombre vinaigrette | U9: Samoussa | W9: Poireaux vinaigrette | Y9: Endives au bleu | AA9: Salade verte
B10: Concombre tzatzíki | D10: Macédoine vinaigrette | F10: Terrine forestière | H10: Œuf mayonnaise | L10: Mousse de betteraves au fromage frais | N10: Pois chiches à la grecque (tomate, oignon, feta, huile d'olive) | P10: Salade verte | R10: Rosette cornichon | U10: Salade de concombre | W10: Carottes râpées | Y10: Pain perdu au jambon | AA10: Macédoine vinaigrette
F11: Cornichon
B12: Tomate farcie | D12: Filet de poisson au curry | F12: Œufs durs sauce Mornay gratinés | H12: Bar à pizza : fromage, jambon, poisson | L12: Palette à la diable | N12: Brochette de dinde orientale | P12: Blanquette de poisson | R12: Chili con carne | U12: Couscous au poulet | W12: Sauté de bœuf à l'ancienne | Y12: Filet de poisson à l'escabèche | AA12: Œufs durs gratinés béchamel
B13: Poisson pané aux céréales sauce fromage ail et fines herbes | D13: Cuisse de poulet au curry | F13: Porc aux pruneaux | H13: Bar à pizza : légumes, fromages | L13: Fricassée de poisson à la tomate | N13: Pané blé emmental épinards | P13: Blanquette de haricots blancs | R13: Haricots rouges au chili | U13: Couscous de pois chiches | W13: Omelette | Y13: Rôti de porc confit | AA13: Nuggets de blé
B14: Purée de pois cassés | D14: Poireaux braisés | F14: Haricots plats persillés | H14: Salade verte vinaigrette | L14: Lentilles vertes | N14: Tomates rôties au romarin | P14: Fondue de courgettes | R14: Riz créole | U14: Légumes couscous | W14: Brocolis sautés | Y14: Gratin de pommes de terre | AA14: Courgettes braisées
B15: Riste d'aubergines | D15: Riz safrané | F15: Blé | L15: Haricots verts | N15: Polenta | P15: Gnocchi poêlés | R15: (plat complet) | U15: Semoule | Y15: Blettes au jus | AA15: Flageolets
L16: Persil plat | R16: Chips tortilla | U16: Harissa
B18: Assortiment de laitages et de fromages à la coupe | D18: Assortiment de laitages et de fromages à la coupe | F18: Assortiment de laitages et de fromages à la coupe | H18: Assortiment de laitages et de fromages à la coupe | L18: Assortiment de laitages et de fromage à la coupe | N18: Assortiment de laitages et de fromage à la coupe | P18: Assortiment de laitages et de fromages à la coupe | R18: Assortiment de laitages et de fromage à la coupe | U18: Assortiment de laitages et de fromage à la coupe | W18: Assortiment de laitages et de fromage à la coupe | Y18: Assortiment de laitages et de fromage à la coupe | AA18: Assortiment de laitages et de fromage à la coupe | AO18: Assortiment de laitages et de fromage à la coupe | AQ18: Assortiment de laitages et de fromage à la coupe | AS18: Assortiment de laitages et de fromage à la coupe
B20: Salade d'agrumes | D20: Fruit de saison | F20: Gâteau yaourt | H20: Île flottante | L20: Fruit de saison | N20: Tarte noix de coco | P20: Salade de fruits d'automne | R20: Pomme au four cannelle | U20: Fruit de saison | W20: Salade banane kiwi | Y20: Crème dessert | AA20: Éclair
B21: Marmelade pomme aux 4 épices | D21: Mousse chocolat | F21: Fruit de saison | H21: Fruit de saison | L21: Quatre quarts aux poires | N21: Fruit de saison | P21: Fruit de saison | R21: Fruit de saison | U21: Ananas rôti | W21: Flan vanille | Y21: Fruit de saison | AA21: Fruit de saison
B23: CHAQUE JOUR UNE CORBEILLE DE FRUITS DE SAISON ! | L23: CHAQUE JOUR UNE CORBEILLE DE FRUITS DE SAISON ! | U23: CHAQUE JOUR UNE CORBEILLE DE FRUITS DE SAISON ! | AE23: CHAQUE JOUR UNE CORBEILLE DE FRUITS DE SAISON ! | AO23: CHAQUE JOUR UNE CORBEILLE DE FRUITS DE SAISON !
B24: La liste des allergènes présents volontairement dans les préparations est affichée à l'entrée du restaurant ( conformément au règlement UE n° 1169/2011) ATTENTION une liste supplémentaire d'allergènes concernant les "toppings" et les "p'tits plus" est à votre disposition | L24: La liste des allergènes présents volontairement dans les préparations est affichée à l'entrée du restaurant ( conformément au règlement UE n° 1169/2011) ATTENTION une liste supplémentaire d'allergènes concernant les "toppings" et les "p'tits plus" est à votre disposition | U24: La liste des allergènes présents volontairement dans les préparations est affichée à l'entrée du restaurant ( conformément au règlement UE n° 1169/2011) ATTENTION une liste supplémentaire d'allergènes concernant les "toppings" et les "p'tits plus" est à votre disposition | AE24: La liste des allergènes présents volontairement dans les préparations est affichée à l'entrée du restaurant ( conformément au règlement UE n° 1169/2011) ATTENTION une liste supplémentaire d'allergènes concernant les "toppings" et les "p'tits plus" est à votre disposition | AO24: La liste des allergènes présents volontairement dans les préparations est affichée à l'entrée du restaurant ( conformément au règlement UE n° 1169/2011) ATTENTION une liste supplémentaire d'allergènes concernant les "toppings" et les "p'tits plus" est à votre disposition
B27: Produit Français | C27: Au moins 1 aliment bio dans la recette | E27: Produit qualifié EGALIM La recette contient au moins 1 produit local Les p'tits PLUS | J27: Découverte | L27: Produit Français | M27: Au moins 1 aliment bio dans la recette | O27: Produit qualifié EGALIM La recette contient au moins 1 produit local Les p'tits PLUS | S27: Découverte | U27: Produit Français | V27: Au moins 1 aliment bio dans la recette | X27: Produit qualifié EGALIM La recette contient au moins 1 produit local Les p'tits PLUS | AC27: Découverte | AE27: Produit Français | AF27: Au moins 1 aliment bio dans la recette | AH27: Produit qualifié EGALIM La recette contient au moins 1 produit local Les p'tits PLUS | AM27: Découverte | AO27: Produit Français | AP27: Au moins 1 aliment bio dans la recette | AR27: Produit qualifié EGALIM La recette contient au moins 1 produit local Les p'tits PLUS | AW27: Découverte

Sheet Allergènes S1
A1: AFFICHAGE DES ALLERGENES PRÉSENTS VOLONTAIREMENT DANS LES MENUS
B2: GLUTEN | C2: LAIT | D2: OEUF | E2: POISSON | F2: SOJA | G2: MOLLUSQUES / CRUSTACÉS | H2: SÉSAME | I2: ARACHIDE | J2: MOUTARDE | K2: LUPIN | L2: CELERI | M2: FRUITS A COQUE | N2: SULFITES
A3: Vinaigrette | J3: X | N3: X
A4: Pain | B4: X
A5: Fromages | C5: X | D5: X
A6: Laitages | C6: X
A7: Dîner du | B7: =+'Choix multiple hebdo Soir'!$F$3 -> 46293
A8: ='Choix multiple hebdo Soir'!B9 -> Salade verte à l'emmental | C8: X | D8: X | J8: X | N8: X
A9: ='Choix multiple hebdo Soir'!B10 -> Concombre tzatzíki | C9: X | J9: X | N9: X
A10: ='Choix multiple hebdo Soir'!B11 -> 0
A11: ='Choix multiple hebdo Soir'!B12 -> Tomate farcie | B11: X | C11: X | D11: X | F11: X | L11: X | N11: X
A12: ='Choix multiple hebdo Soir'!B13 -> Poisson pané aux céréales sauce fromage ail et fines herbes | B12: X | C12: X | D12: X | E12: X | J12: X | N12: X
A13: ='Choix multiple hebdo Soir'!B14 -> Purée de pois cassés | C13: X | N13: X
A14: ='Choix multiple hebdo Soir'!B15 -> Riste d'aubergines | L14: X | N14: X
A17: ='Choix multiple hebdo Soir'!B20 -> Salade d'agrumes
A18: ='Choix multiple hebdo Soir'!B21 -> Marmelade pomme aux 4 épices | N18: X
A19: Dîner du | B19: =B7+1 -> 46294
A20: ='Choix multiple hebdo Soir'!D9 -> Cake chèvre olive | B20: X | C20: X | D20: X
A21: ='Choix multiple hebdo Soir'!D10 -> Macédoine vinaigrette | J21: X | N21: X
A22: ='Choix multiple hebdo Soir'!D11 -> 0
A23: ='Choix multiple hebdo Soir'!D12 -> Filet de poisson au curry | B23: X | C23: X | D23: X | E23: X | J23: X | L23: X | N23: X
A24: ='Choix multiple hebdo Soir'!D13 -> Cuisse de poulet au curry | B24: X | C24: X | D24: X | J24: X | L24: X | N24: X
A25: ='Choix multiple hebdo Soir'!D14 -> Poireaux braisés | C25: X | N25: X
A26: ='Choix multiple hebdo Soir'!D15 -> Riz safrané | C26: X
A29: ='Choix multiple hebdo Soir'!D20 -> Fruit de saison
A30: ='Choix multiple hebdo Soir'!D21 -> Mousse chocolat | C30: X | D30: X | F30: X
A31: Dîner du | B31: =B19+1 -> 46295
A32: ='Choix multiple hebdo Soir'!F9 -> Coleslaw | C32: X | D32: X | J32: X | N32: X
A33: ='Choix multiple hebdo Soir'!F10 -> Terrine forestière | B33: X | C33: X | D33: X | J33: X | N33: X
A34: ='Choix multiple hebdo Soir'!F11 -> Cornichon | J34: X | N34: X
A35: ='Choix multiple hebdo Soir'!F12 -> Œufs durs sauce Mornay gratinés | B35: X | C35: X | D35: X
A36: ='Choix multiple hebdo Soir'!F13 -> Porc aux pruneaux | B36: X | C36: X | D36: X | L36: X | N36: X
A37: ='Choix multiple hebdo Soir'!F14 -> Haricots plats persillés | C37: X | N37: X
A38: ='Choix multiple hebdo Soir'!F15 -> Blé | B38: X | C38: X
A39: ='Choix multiple hebdo Soir'!F16 -> 0
A40: ='Choix multiple hebdo Soir'!F17 -> 0
A41: ='Choix multiple hebdo Soir'!F20 -> Gâteau yaourt | B41: X | C41: X | D41: X
A42: ='Choix multiple hebdo Soir'!F21 -> Fruit de saison
A43: Dîner du | B43: =B19+2 -> 46296
A44: ='Choix multiple hebdo Soir'!H9 -> Radis beurre | C44: X
A45: ='Choix multiple hebdo Soir'!H10 -> Œuf mayonnaise | C45: X | D45: X | J45: X | N45: X
A46: ='Choix multiple hebdo Soir'!H11 -> 0
A47: ='Choix multiple hebdo Soir'!H12 -> Bar à pizza : fromage, jambon, poisson | B47: X | C47: X | D47: X | E47: X | F47: X | L47: X | N47: X
A48: ='Choix multiple hebdo Soir'!H13 -> Bar à pizza : légumes, fromages | B48: X | C48: X | D48: X | L48: X | N48: X
A49: ='Choix multiple hebdo Soir'!H14 -> Salade verte vinaigrette | J49: X | N49: X
A50: ='Choix multiple hebdo Soir'!H15 -> 0
A51: ='Choix multiple hebdo Soir'!H16 -> 0
A52: ='Choix multiple hebdo Soir'!H17 -> 0
A53: ='Choix multiple hebdo Soir'!H20 -> Île flottante | C53: X | D53: X | M53: X | N53: X
A54: ='Choix multiple hebdo Soir'!H21 -> Fruit de saison

Sheet Allergènes S2
A1: AFFICHAGE DES ALLERGENES PRÉSENTS VOLONTAIREMENT DANS LES MENUS
B2: GLUTEN | C2: LAIT | D2: OEUF | E2: POISSON | F2: SOJA | G2: MOLLUSQUES / CRUSTACÉS | H2: SÉSAME | I2: ARACHIDE | J2: MOUTARDE | K2: LUPIN | L2: CELERI | M2: FRUITS A COQUE | N2: SULFITES
A3: Vinaigrette | J3: X | N3: X
A4: Pain | B4: X
A5: Fromages | C5: X | D5: X
A6: Laitages | C6: X
A7: Dîner du | B7: =+'Choix multiple hebdo Soir'!$P$3 -> 46300
A8: ='Choix multiple hebdo Soir'!L9 -> Tomates basilic | J8: X | N8: X
A9: ='Choix multiple hebdo Soir'!L10 -> Mousse de betteraves au fromage frais | C9: X | D9: X | J9: X | N9: X
A10: ='Choix multiple hebdo Soir'!L11 -> 0
A11: ='Choix multiple hebdo Soir'!L12 -> Palette à la diable | B11: X | C11: X | D11: X | J11: X | L11: X | N11: X
A12: ='Choix multiple hebdo Soir'!L13 -> Fricassée de poisson à la tomate | B12: X | C12: X | D12: X | E12: X | G12: X | L12: X | N12: X
A13: ='Choix multiple hebdo Soir'!L14 -> Lentilles vertes | J13: X | N13: X
A14: ='Choix multiple hebdo Soir'!L15 -> Haricots verts | C14: X | N14: X
A15: ='Choix multiple hebdo Soir'!L16 -> Persil plat
A16: ='Choix multiple hebdo Soir'!L17 -> 0
A17: ='Choix multiple hebdo Soir'!L20 -> Fruit de saison
A18: ='Choix multiple hebdo Soir'!L21 -> Quatre quarts aux poires | B18: X | C18: X | D18: X
A19: Dîner du | B19: =B7+1 -> 46301
A20: ='Choix multiple hebdo Soir'!N9 -> Chou rouge vinaigrette | J20: X | N20: X
A21: ='Choix multiple hebdo Soir'!N10 -> Pois chiches à la grecque (tomate, oignon, feta, huile d'olive) | C21: X | D21: X | J21: X | N21: X
A22: ='Choix multiple hebdo Soir'!N11 -> 0
A23: ='Choix multiple hebdo Soir'!N12 -> Brochette de dinde orientale | B23: X | C23: X | D23: X | J23: X | L23: X | N23: X
A24: ='Choix multiple hebdo Soir'!N13 -> Pané blé emmental épinards | B24: X | C24: X
A25: ='Choix multiple hebdo Soir'!N14 -> Tomates rôties au romarin | N25: X
A26: ='Choix multiple hebdo Soir'!N15 -> Polenta | C26: X
A27: ='Choix multiple hebdo Soir'!N16 -> 0
A28: ='Choix multiple hebdo Soir'!N17 -> 0
A29: ='Choix multiple hebdo Soir'!N20 -> Tarte noix de coco | B29: X | C29: X | D29: X
A30: ='Choix multiple hebdo Soir'!N21 -> Fruit de saison
A31: Dîner du | B31: =B19+1 -> 46302
A32: ='Choix multiple hebdo Soir'!P9 -> Salade de boulgour | B32: X | C32: X | D32: X | E32: X | F32: X | G32: X | J32: X | L32: X | N32: X
A33: ='Choix multiple hebdo Soir'!P10 -> Salade verte | J33: X | N33: X
A34: ='Choix multiple hebdo Soir'!P11 -> 0
A35: ='Choix multiple hebdo Soir'!P12 -> Blanquette de poisson | B35: X | C35: X | D35: X | E35: X | L35: X | N35: X
A36: ='Choix multiple hebdo Soir'!P13 -> Blanquette de haricots blancs | B36: X | C36: X | D36: X | L36: X | N36: X
A37: ='Choix multiple hebdo Soir'!P14 -> Fondue de courgettes | C37: X | N37: X
A38: ='Choix multiple hebdo Soir'!P15 -> Gnocchi poêlés | B38: X | C38: X
A39: ='Choix multiple hebdo Soir'!P16 -> 0
A40: ='Choix multiple hebdo Soir'!P17 -> 0
A41: ='Choix multiple hebdo Soir'!P20 -> Salade de fruits d'automne | N41: X
A42: ='Choix multiple hebdo Soir'!P21 -> Fruit de saison
A43: Dîner du | B43: =B19+2 -> 46303
A44: ='Choix multiple hebdo Soir'!R9 -> Concombre vinaigrette | J44: X | N44: X
A45: ='Choix multiple hebdo Soir'!R10 -> Rosette cornichon | C45: X | J45: X | N45: X
A46: ='Choix multiple hebdo Soir'!R11 -> 0
A47: ='Choix multiple hebdo Soir'!R12 -> Chili con carne | B47: X | C47: X | D47: X | F47: X | H47: X | J47: X | L47: X | N47: X
A48: ='Choix multiple hebdo Soir'!R13 -> Haricots rouges au chili | B48: X | C48: X | D48: X | H48: X | J48: X | L48: X | N48: X
A49: ='Choix multiple hebdo Soir'!R14 -> Riz créole | C49: X
A50: ='Choix multiple hebdo Soir'!R15 -> (plat complet)
A51: ='Choix multiple hebdo Soir'!R16 -> Chips tortilla
A52: ='Choix multiple hebdo Soir'!R19 -> 0
A53: ='Choix multiple hebdo Soir'!R20 -> Pomme au four cannelle | C53: X | M53: X | N53: X
A54: ='Choix multiple hebdo Soir'!R21 -> Fruit de saison

Sheet Allergènes S3
A1: AFFICHAGE DES ALLERGENES PRÉSENTS VOLONTAIREMENT DANS LES MENUS
B2: GLUTEN | C2: LAIT | D2: OEUF | E2: POISSON | F2: SOJA | G2: MOLLUSQUES / CRUSTACÉS | H2: SÉSAME | I2: ARACHIDE | J2: MOUTARDE | K2: LUPIN | L2: CELERI | M2: FRUITS A COQUE | N2: SULFITES
A3: Vinaigrette | J3: X | N3: X
A4: Pain | B4: X
A5: Fromages | C5: X | D5: X
A6: Laitages | C6: X
A7: Dîner du | B7: =+'Choix multiple hebdo Soir'!$X$3 -> 46307
A8: ='Choix multiple hebdo Soir'!U9 -> Samoussa | B8: X | F8: X
A9: ='Choix multiple hebdo Soir'!U10 -> Salade de concombre | C9: X | D9: X | J9: X | N9: X
A10: ='Choix multiple hebdo Soir'!U11 -> 0
A11: ='Choix multiple hebdo Soir'!U12 -> Couscous au poulet | B11: X | C11: X | D11: X | J11: X | L11: X | N11: X
A12: ='Choix multiple hebdo Soir'!U13 -> Couscous de pois chiches | B12: X | C12: X | D12: X | J12: X | L12: X | N12: X
A13: ='Choix multiple hebdo Soir'!U14 -> Légumes couscous | B13: X | C13: X | D13: X | J13: X | L13: X | N13: X
A14: ='Choix multiple hebdo Soir'!U15 -> Semoule | B14: X | C14: X
A15: ='Choix multiple hebdo Soir'!U16 -> Harissa
A16: ='Choix multiple hebdo Soir'!U17 -> 0
A17: ='Choix multiple hebdo Soir'!U20 -> Fruit de saison
A18: ='Choix multiple hebdo Soir'!U21 -> Ananas rôti | C18: X | M18: X
A19: Dîner du | B19: =B7+1 -> 46308
A20: ='Choix multiple hebdo Soir'!W9 -> Poireaux vinaigrette | J20: X | N20: X
A21: ='Choix multiple hebdo Soir'!W10 -> Carottes râpées | J21: X | N21: X
A22: ='Choix multiple hebdo Soir'!W11 -> 0
A23: ='Choix multiple hebdo Soir'!W12 -> Sauté de bœuf à l'ancienne | B23: X | C23: X | D23: X | J23: X | L23: X | N23: X
A24: ='Choix multiple hebdo Soir'!W13 -> Omelette | C24: X | D24: X
A25: ='Choix multiple hebdo Soir'!W14 -> Brocolis sautés | C25: X | N25: X
A26: ='Choix multiple hebdo Soir'!W15 -> 0
A27: ='Choix multiple hebdo Soir'!W16 -> 0
A28: ='Choix multiple hebdo Soir'!W17 -> 0
A29: ='Choix multiple hebdo Soir'!W20 -> Salade banane kiwi
A30: ='Choix multiple hebdo Soir'!W21 -> Flan vanille | C30: X | D30: X
A31: Dîner du | B31: =B19+1 -> 46309
A32: ='Choix multiple hebdo Soir'!Y9 -> Endives au bleu | C32: X | D32: X | J32: X | N32: X
A33: ='Choix multiple hebdo Soir'!Y10 -> Pain perdu au jambon | B33: X | C33: X | D33: X | F33: X
A34: ='Choix multiple hebdo Soir'!Y11 -> 0
A35: ='Choix multiple hebdo Soir'!Y12 -> Filet de poisson à l'escabèche | B35: X | C35: X | D35: X | E35: X | L35: X | N35: X
A36: ='Choix multiple hebdo Soir'!Y13 -> Rôti de porc confit | B36: X | C36: X | D36: X | L36: X | N36: X
A37: ='Choix multiple hebdo Soir'!Y14 -> Gratin de pommes de terre | C37: X | D37: X
A38: ='Choix multiple hebdo Soir'!Y15 -> Blettes au jus | B38: X | C38: X | D38: X | L38: X | N38: X
A39: ='Choix multiple hebdo Soir'!Y16 -> 0
A40: ='Choix multiple hebdo Soir'!Y17 -> 0
A41: ='Choix multiple hebdo Soir'!Y20 -> Crème dessert | C41: X | D41: X | F41: X | M41: X
A42: ='Choix multiple hebdo Soir'!Y21 -> Fruit de saison
A43: Dîner du | B43: =B19+2 -> 46310
A44: ='Choix multiple hebdo Soir'!AA9 -> Salade verte | J44: X | N44: X
A45: ='Choix multiple hebdo Soir'!AA10 -> Macédoine vinaigrette | J45: X | N45: X
A46: ='Choix multiple hebdo Soir'!AA11 -> 0
A47: ='Choix multiple hebdo Soir'!AA12 -> Œufs durs gratinés béchamel | B47: X | C47: X | D47: X
A48: ='Choix multiple hebdo Soir'!AA13 -> Nuggets de blé | B48: X
A49: ='Choix multiple hebdo Soir'!AA14 -> Courgettes braisées | C49: X | N49: X
A50: ='Choix multiple hebdo Soir'!AA15 -> Flageolets | C50: X
A51: ='Choix multiple hebdo Soir'!AA16 -> 0
A53: ='Choix multiple hebdo Soir'!AA20 -> Éclair | B53: X | C53: X | D53: X | F53: X
A54: ='Choix multiple hebdo Soir'!AA21 -> Fruit de saison

Sheet Allergènes S4
A1: AFFICHAGE DES ALLERGENES PRÉSENTS VOLONTAIREMENT DANS LES MENUS
B2: GLUTEN | C2: LAIT | D2: OEUF | E2: POISSON | F2: SOJA | G2: MOLLUSQUES / CRUSTACÉS | H2: SÉSAME | I2: ARACHIDE | J2: MOUTARDE | K2: LUPIN | L2: CELERI | M2: FRUITS A COQUE | N2: SULFITES
A3: Vinaigrette | J3: X | N3: X
A4: Pain | B4: X
A5: Fromages | C5: X | D5: X
A6: Laitages | C6: X
A7: Dîner du | B7: =+'Choix multiple hebdo Soir'!$AI$3 -> 46314
A8: ='Choix multiple hebdo Soir'!AE9 -> 0
A9: ='Choix multiple hebdo Soir'!AE10 -> 0
A10: ='Choix multiple hebdo Soir'!AE11 -> 0
A11: ='Choix multiple hebdo Soir'!AE12 -> 0
A12: ='Choix multiple hebdo Soir'!AE13 -> 0
A13: ='Choix multiple hebdo Soir'!AE14 -> 0
A14: ='Choix multiple hebdo Soir'!AE15 -> 0
A15: ='Choix multiple hebdo Soir'!AE16 -> 0
A16: ='Choix multiple hebdo Soir'!AE17 -> 0
A17: ='Choix multiple hebdo Soir'!AE20 -> 0
A18: ='Choix multiple hebdo Soir'!AE21 -> 0
A19: Dîner du | B19: =B7+1 -> 46315
A20: ='Choix multiple hebdo Soir'!AG9 -> 0
A21: ='Choix multiple hebdo Soir'!AG10 -> 0
A22: ='Choix multiple hebdo Soir'!AG11 -> 0
A23: ='Choix multiple hebdo Soir'!AG12 -> 0
A24: ='Choix multiple hebdo Soir'!AG13 -> 0
A25: ='Choix multiple hebdo Soir'!AG14 -> 0
A26: ='Choix multiple hebdo Soir'!AG15 -> 0
A27: ='Choix multiple hebdo Soir'!AG16 -> 0
A29: ='Choix multiple hebdo Soir'!AG20 -> 0
A30: ='Choix multiple hebdo Soir'!AG21 -> 0
A31: Dîner du | B31: =B19+1 -> 46316
A32: ='Choix multiple hebdo Soir'!AI9 -> 0
A33: ='Choix multiple hebdo Soir'!AI10 -> 0
A34: ='Choix multiple hebdo Soir'!AI11 -> 0
A35: ='Choix multiple hebdo Soir'!AI12 -> 0
A36: ='Choix multiple hebdo Soir'!AI13 -> 0
A37: ='Choix multiple hebdo Soir'!AI14 -> 0
A38: ='Choix multiple hebdo Soir'!AI15 -> 0
A39: ='Choix multiple hebdo Soir'!AI16 -> 0
A41: ='Choix multiple hebdo Soir'!AI20 -> 0
A42: ='Choix multiple hebdo Soir'!AI21 -> 0
A43: Dîner du | B43: =B19+2 -> 46317
A44: ='Choix multiple hebdo Soir'!AK9 -> 0
A45: ='Choix multiple hebdo Soir'!AK10 -> 0
A46: ='Choix multiple hebdo Soir'!AK11 -> 0
A47: ='Choix multiple hebdo Soir'!AK12 -> 0
A48: ='Choix multiple hebdo Soir'!AK13 -> 0
A49: ='Choix multiple hebdo Soir'!AK14 -> 0
A50: ='Choix multiple hebdo Soir'!AK15 -> 0
A51: ='Choix multiple hebdo Soir'!AK16 -> 0
A52: ='Choix multiple hebdo Soir'!AK19 -> 0
A53: ='Choix multiple hebdo Soir'!AK20 -> 0
A54: ='Choix multiple hebdo Soir'!AK21 -> 0

Sheet All MS5
A1: AFFICHAGE DES ALLERGENES PRÉSENTS VOLONTAIREMENT DANS LES MENUS
B2: GLUTEN | C2: LAIT | D2: OEUF | E2: POISSON | F2: SOJA | G2: MOLLUSQUES / CRUSTACÉS | H2: SÉSAME | I2: ARACHIDE | J2: MOUTARDE | K2: LUPIN | L2: CELERI | M2: FRUITS A COQUE | N2: SULFITES
A3: Vinaigrette | J3: X | N3: X
A4: Pain | B4: X
A5: Fromages et laitages | C5: X
A6: Déjeuner du | B6: =+'Choix multiple hebdo Soir'!$AS$3 -> 46321
A7: ='Choix multiple hebdo Soir'!AO9 -> 0
A8: ='Choix multiple hebdo Soir'!AO10 -> 0
A9: ='Choix multiple hebdo Soir'!AO11 -> 0
A10: ='Choix multiple hebdo Soir'!#REF! -> #REF!
A11: ='Choix multiple hebdo Soir'!AO12 -> 0
A12: ='Choix multiple hebdo Soir'!AO13 -> 0
A13: ='Choix multiple hebdo Soir'!AO14 -> 0
A14: ='Choix multiple hebdo Soir'!AO15 -> 0
A15: ='Choix multiple hebdo Soir'!AO19 -> 0
A16: ='Choix multiple hebdo Soir'!AO20 -> 0
A17: ='Choix multiple hebdo Soir'!#REF! -> #REF!
A18: ='Choix multiple hebdo Soir'!AO21 -> 0
A19: Déjeuner du | B19: =B6+1 -> 46322
A20: ='Choix multiple hebdo Soir'!AQ9 -> 0
A21: ='Choix multiple hebdo Soir'!AQ10 -> 0
A22: ='Choix multiple hebdo Soir'!AQ11 -> 0
A23: ='Choix multiple hebdo Soir'!#REF! -> #REF!
A24: ='Choix multiple hebdo Soir'!AQ12 -> 0
A25: ='Choix multiple hebdo Soir'!AQ13 -> 0
A26: ='Choix multiple hebdo Soir'!AQ14 -> 0
A27: ='Choix multiple hebdo Soir'!AQ15 -> 0
A28: ='Choix multiple hebdo Soir'!AQ19 -> 0
A29: ='Choix multiple hebdo Soir'!AQ20 -> 0
A30: ='Choix multiple hebdo Soir'!#REF! -> #REF!
A31: ='Choix multiple hebdo Soir'!AQ21 -> 0
A32: Déjeuner du | B32: =B19+1 -> 46323
A33: ='Choix multiple hebdo Soir'!AS9 -> 0
A34: ='Choix multiple hebdo Soir'!AS10 -> 0
A35: ='Choix multiple hebdo Soir'!AS11 -> 0
A36: ='Choix multiple hebdo Soir'!#REF! -> #REF!
A37: ='Choix multiple hebdo Soir'!AS12 -> 0
A38: ='Choix multiple hebdo Soir'!AS13 -> 0
A39: ='Choix multiple hebdo Soir'!AS14 -> 0
A40: ='Choix multiple hebdo Soir'!AS15 -> 0
A41: ='Choix multiple hebdo Soir'!AS19 -> 0
A42: ='Choix multiple hebdo Soir'!AS20 -> 0
A43: ='Choix multiple hebdo Soir'!#REF! -> #REF!
A44: ='Choix multiple hebdo Soir'!AS21 -> 0
A45: Déjeuner du | B45: =B19+2 -> 46324
A46: ='Choix multiple hebdo Soir'!AU9 -> 0
A47: ='Choix multiple hebdo Soir'!AU10 -> 0
A48: ='Choix multiple hebdo Soir'!AU11 -> 0
A49: ='Choix multiple hebdo Soir'!#REF! -> #REF!
A50: ='Choix multiple hebdo Soir'!AU12 -> 0
A51: ='Choix multiple hebdo Soir'!AU13 -> 0
A52: ='Choix multiple hebdo Soir'!AU14 -> 0
A53: ='Choix multiple hebdo Soir'!AU15 -> 0
A54: ='Choix multiple hebdo Soir'!AU19 -> 0
A55: ='Choix multiple hebdo Soir'!AU20 -> 0
A56: ='Choix multiple hebdo Soir'!#REF! -> #REF!
A57: ='Choix multiple hebdo Soir'!AU21 -> 0
A58: Déjeuner du | B58: =B45+1 -> 46325
A59: ='Choix multiple hebdo Soir'!#REF! -> #REF!
A60: ='Choix multiple hebdo Soir'!#REF! -> #REF!
A61: ='Choix multiple hebdo Soir'!#REF! -> #REF!
A62: ='Choix multiple hebdo Soir'!#REF! -> #REF!
A63: ='Choix multiple hebdo Soir'!#REF! -> #REF!
A64: ='Choix multiple hebdo Soir'!#REF! -> #REF!
A65: ='Choix multiple hebdo Soir'!#REF! -> #REF!
A66: ='Choix multiple hebdo Soir'!#REF! -> #REF!
A67: ='Choix multiple hebdo Soir'!#REF! -> #REF!
A68: ='Choix multiple hebdo Soir'!#REF! -> #REF!
A69: ='Choix multiple hebdo Soir'!#REF! -> #REF!
A70: ='Choix multiple hebdo Soir'!#REF! -> #REF!

Sheet mois dej unique
B2: ='Choix multiple hebdo Soir'!B1 -> Mon restaurant
B4: 43709
B5: La liste des allergènes présents volontairement dans les préparations est affichée à l'entrée du restaurant, conformément au règlement UE n° 1169/2011
B7: Semaine du | C7: ='Matrice menus dej uniques'!D4 -> 46293 | D7: au | E7: =C7+4 -> 46297
C8: ='Choix multiple hebdo Soir'!D9 -> Cake chèvre olive | D8: ='Choix multiple hebdo Soir'!F9 -> Coleslaw | E8: ='Choix multiple hebdo Soir'!H9 -> Radis beurre | F8: ='Choix multiple hebdo Soir'!#REF! -> #REF!
C9: ='Matrice menus dej uniques'!C21 -> Cuisse de poulet au curry | D9: ='Matrice menus dej uniques'!D21 -> Œufs durs sauce Mornay gratinés | E9: ='Matrice menus dej uniques'!E21 -> Œuf mayonnaise | F9: ='Matrice menus dej uniques'!F21 -> #REF!
C10: ='Matrice menus dej uniques'!C26 -> Poireaux braisés | D10: ='Matrice menus dej uniques'!D26 -> Blé | E10: ='Matrice menus dej uniques'!E26 -> Bar à pizza : fromage, jambon, poisson | F10: ='Matrice menus dej uniques'!F26 -> #REF!
C11: ='Matrice menus dej uniques'!C31 -> 0 | D11: ='Matrice menus dej uniques'!D31 -> 0 | E11: ='Matrice menus dej uniques'!E31 -> #REF! | F11: ='Matrice menus dej uniques'!F31 -> #REF!
C12: ='Matrice menus dej uniques'!C37 -> Fruit de saison | D12: ='Matrice menus dej uniques'!D37 -> Gâteau yaourt | E12: ='Matrice menus dej uniques'!E37 -> #REF! | F12: ='Matrice menus dej uniques'!F37 -> #REF!
B14: Semaine du | C14: ='Matrice menus dej uniques'!L4 -> 46300 | D14: au | E14: =C14+4 -> 46304
B15: ='Matrice menus dej uniques'!J13 -> Tomates basilic | C15: ='Matrice menus dej uniques'!K13 -> Chou rouge vinaigrette | D15: ='Matrice menus dej uniques'!L13 -> Salade de boulgour | E15: ='Matrice menus dej uniques'!M13 -> Concombre vinaigrette | F15: ='Matrice menus dej uniques'!N13 -> #REF!
B16: ='Matrice menus dej uniques'!J21 -> Palette à la diable | C16: ='Matrice menus dej uniques'!K21 -> Brochette de dinde orientale | D16: ='Matrice menus dej uniques'!L21 -> Blanquette de poisson | E16: ='Matrice menus dej uniques'!M21 -> Chili con carne | F16: ='Matrice menus dej uniques'!N21 -> #REF!
B17: ='Matrice menus dej uniques'!J26 -> Lentilles vertes | C17: ='Matrice menus dej uniques'!K26 -> 0 | D17: ='Matrice menus dej uniques'!L26 -> Gnocchi poêlés | E17: ='Matrice menus dej uniques'!M26 -> Riz créole | F17: ='Matrice menus dej uniques'!N26 -> #REF!
B18: ='Matrice menus dej uniques'!J31 -> 0 | C18: ='Matrice menus dej uniques'!K31 -> Assortiment de laitages et de fromage à la coupe | D18: ='Matrice menus dej uniques'!L31 -> #REF! | E18: ='Matrice menus dej uniques'!M31 -> 0 | F18: ='Matrice menus dej uniques'!N31 -> #REF!
B19: ='Matrice menus dej uniques'!J37 -> Fruit de saison | C19: ='Matrice menus dej uniques'!K37 -> Tarte noix de coco | D19: ='Matrice menus dej uniques'!L37 -> 0 | E19: ='Matrice menus dej uniques'!M37 -> Pomme au four cannelle | F19: ='Matrice menus dej uniques'!N37 -> #REF!
B21: Semaine du | C21: ='Matrice menus dej uniques'!T4 -> 46307 | D21: au | E21: =C21+4 -> 46311
B22: ='Matrice menus dej uniques'!R13 -> Samoussa | C22: ='Matrice menus dej uniques'!S13 -> Poireaux vinaigrette | D22: ='Matrice menus dej uniques'!T13 -> Endives au bleu | E22: ='Matrice menus dej uniques'!U13 -> Salade verte | F22: ='Matrice menus dej uniques'!V13 -> #REF!
B23: ='Matrice menus dej uniques'!R21 -> Salade de concombre | C23: ='Matrice menus dej uniques'!S21 -> Sauté de bœuf à l'ancienne | D23: ='Matrice menus dej uniques'!T21 -> Filet de poisson à l'escabèche | E23: ='Matrice menus dej uniques'!U21 -> Nuggets de blé | F23: ='Matrice menus dej uniques'!V21 -> #REF!
B24: ='Matrice menus dej uniques'!R26 -> Couscous au poulet | C24: ='Matrice menus dej uniques'!S26 -> Brocolis sautés | D24: ='Matrice menus dej uniques'!T26 -> Rôti de porc confit | E24: ='Matrice menus dej uniques'!U26 -> Flageolets | F24: ='Matrice menus dej uniques'!V26 -> #REF!
B25: ='Matrice menus dej uniques'!R31 -> 0 | C25: ='Matrice menus dej uniques'!S31 -> 0 | D25: ='Matrice menus dej uniques'!T31 -> 0 | E25: ='Matrice menus dej uniques'!U31 -> 0 | F25: ='Matrice menus dej uniques'!V31 -> #REF!
B26: ='Matrice menus dej uniques'!R37 -> Fruit de saison | C26: ='Matrice menus dej uniques'!S37 -> 0 | D26: ='Matrice menus dej uniques'!T37 -> 0 | E26: ='Matrice menus dej uniques'!U37 -> Éclair | F26: ='Matrice menus dej uniques'!V37 -> #REF!
B28: Semaine du | C28: ='Matrice menus dej uniques'!AB4 -> 46314 | D28: au | E28: =C28+4 -> 46318
B29: ='Matrice menus dej uniques'!Z13 -> 0 | C29: ='Matrice menus dej uniques'!AA13 -> 0 | D29: ='Matrice menus dej uniques'!AB13 -> 0 | E29: ='Matrice menus dej uniques'!AC13 -> #REF! | F29: ='Matrice menus dej uniques'!AD13 -> 0
B30: ='Matrice menus dej uniques'!Z21 -> 0 | C30: ='Matrice menus dej uniques'!AA21 -> 0 | D30: ='Matrice menus dej uniques'!AB21 -> 0 | E30: ='Matrice menus dej uniques'!AC21 -> #REF! | F30: ='Matrice menus dej uniques'!AD21 -> 0
B31: ='Matrice menus dej uniques'!Z26 -> 0 | C31: ='Matrice menus dej uniques'!AA26 -> 0 | D31: ='Matrice menus dej uniques'!AB26 -> #REF! | E31: ='Matrice menus dej uniques'!AC26 -> #REF! | F31: ='Matrice menus dej uniques'!AD26 -> 0
B32: ='Matrice menus dej uniques'!Z31 -> 0 | C32: ='Matrice menus dej uniques'!AA31 -> 0 | D32: ='Matrice menus dej uniques'!AB31 -> 0 | E32: ='Matrice menus dej uniques'!AC31 -> #REF! | F32: ='Matrice menus dej uniques'!AD31 -> 0
B33: ='Matrice menus dej uniques'!Z37 -> 0 | C33: ='Matrice menus dej uniques'!AA37 -> 0 | D33: ='Matrice menus dej uniques'!AB37 -> 0 | E33: ='Matrice menus dej uniques'!AC37 -> #REF! | F33: ='Matrice menus dej uniques'!AD37 -> 0
A39: Menus équilibrés recommandés par le service Diététique & Nutrition de Mille et Un Repas et conformes au GEMRCN

Sheet Matrice menus dej uniques
C2: ='Choix multiple hebdo Soir'!B1:H1 -> 0 | K2: =C2 -> 0 | S2: =C2 -> 0 | AA2: =C2 -> 0 | AI2: =C2 -> 0
D4: ='Choix multiple hebdo Soir'!F3 -> 46293 | E4: ='Choix multiple hebdo Soir'!H3 -> 46296 | L4: ='Choix multiple hebdo Soir'!P3 -> 46300 | M4: =L4+4 -> 46304 | T4: ='Choix multiple hebdo Soir'!X3 -> 46307 | U4: =T4+4 -> 46311 | AB4: ='Choix multiple hebdo Soir'!AI3 -> 46314 | AC4: =AB4+4 -> 46318 | AJ4: ='Choix multiple hebdo Soir'!AS3 -> 46321 | AK4: =AJ4+4 -> 46325
B6: La liste des allergènes présents volontairement dans les préparations est affichée à l'entrée du restaurant, conformément au règlement UE n° 1169/2011 | J6: La liste des allergènes présents volontairement dans les préparations est affichée à l'entrée du restaurant, conformément au règlement UE n° 1169/2011 | R6: La liste des allergènes présents volontairement dans les préparations est affichée à l'entrée du restaurant, conformément au règlement UE n° 1169/2011 | Z6: La liste des allergènes présents volontairement dans les préparations est affichée à l'entrée du restaurant, conformément au règlement UE n° 1169/2011 | AH6: La liste des allergènes présents volontairement dans les préparations est affichée à l'entrée du restaurant, conformément au règlement UE n° 1169/2011
D8: * Menus indicatifs sous réserve de modifications * | L8: * Menus indicatifs sous réserve de modifications * | T8: * Menus indicatifs sous réserve de modifications * | AB8: * Menus indicatifs sous réserve de modifications * | AJ8: * Menus indicatifs sous réserve de modifications *
A10: ='Choix multiple hebdo Soir'!#REF! -> #REF! | I10: ='Choix multiple hebdo Soir'!#REF! -> #REF! | Q10: ='Choix multiple hebdo Soir'!#REF! -> #REF! | Y10: ='Choix multiple hebdo Soir'!#REF! -> #REF! | AG10: ='Choix multiple hebdo Soir'!#REF! -> #REF!
B13: ='Choix multiple hebdo Soir'!B9 -> Salade verte à l'emmental | C13: ='Choix multiple hebdo Soir'!D9 -> Cake chèvre olive | D13: ='Choix multiple hebdo Soir'!F9 -> Coleslaw | E13: ='Choix multiple hebdo Soir'!H9 -> Radis beurre | F13: ='Choix multiple hebdo Soir'!#REF! -> #REF! | J13: ='Choix multiple hebdo Soir'!L9 -> Tomates basilic | K13: ='Choix multiple hebdo Soir'!N9 -> Chou rouge vinaigrette | L13: ='Choix multiple hebdo Soir'!P9 -> Salade de boulgour | M13: ='Choix multiple hebdo Soir'!R9 -> Concombre vinaigrette | N13: ='Choix multiple hebdo Soir'!#REF! -> #REF! | R13: ='Choix multiple hebdo Soir'!U9 -> Samoussa | S13: ='Choix multiple hebdo Soir'!W9 -> Poireaux vinaigrette | T13: ='Choix multiple hebdo Soir'!Y9 -> Endives au bleu | U13: ='Choix multiple hebdo Soir'!AA9 -> Salade verte | V13: ='Choix multiple hebdo Soir'!#REF! -> #REF! | Z13: ='Choix multiple hebdo Soir'!AE9 -> 0 | AA13: ='Choix multiple hebdo Soir'!AG9 -> 0 | AB13: ='Choix multiple hebdo Soir'!AI9 -> 0 | AC13: ='Choix multiple hebdo Soir'!#REF! -> #REF! | AD13: ='Choix multiple hebdo Soir'!AK9 -> 0 | AH13: ='Choix multiple hebdo Soir'!AO9 -> 0 | AI13: ='Choix multiple hebdo Soir'!AQ9 -> 0 | AJ13: ='Choix multiple hebdo Soir'!AS9 -> 0 | AK13: ='Choix multiple hebdo Soir'!AU9 -> 0 | AL13: ='Choix multiple hebdo Soir'!#REF! -> #REF!
B21: ='Choix multiple hebdo Soir'!B13 -> Poisson pané aux céréales sauce fromage ail et fines herbes | C21: ='Choix multiple hebdo Soir'!D13 -> Cuisse de poulet au curry | D21: ='Choix multiple hebdo Soir'!F12 -> Œufs durs sauce Mornay gratinés | E21: ='Choix multiple hebdo Soir'!H10 -> Œuf mayonnaise | F21: ='Choix multiple hebdo Soir'!#REF! -> #REF! | J21: ='Choix multiple hebdo Soir'!L12 -> Palette à la diable | K21: ='Choix multiple hebdo Soir'!N12 -> Brochette de dinde orientale | L21: ='Choix multiple hebdo Soir'!P12 -> Blanquette de poisson | M21: ='Choix multiple hebdo Soir'!R12 -> Chili con carne | N21: ='Choix multiple hebdo Soir'!#REF! -> #REF! | R21: ='Choix multiple hebdo Soir'!U10 -> Salade de concombre | S21: ='Choix multiple hebdo Soir'!W12 -> Sauté de bœuf à l'ancienne | T21: ='Choix multiple hebdo Soir'!Y12 -> Filet de poisson à l'escabèche | U21: ='Choix multiple hebdo Soir'!AA13 -> Nuggets de blé | V21: ='Choix multiple hebdo Soir'!#REF! -> #REF! | Z21: ='Choix multiple hebdo Soir'!AE12 -> 0 | AA21: ='Choix multiple hebdo Soir'!AG12 -> 0 | AB21: ='Choix multiple hebdo Soir'!AI12 -> 0 | AC21: ='Choix multiple hebdo Soir'!#REF! -> #REF! | AD21: ='Choix multiple hebdo Soir'!AK11 -> 0 | AH21: ='Choix multiple hebdo Soir'!AO12 -> 0 | AI21: ='Choix multiple hebdo Soir'!AQ12 -> 0 | AJ21: ='Choix multiple hebdo Soir'!AS12 -> 0 | AK21: ='Choix multiple hebdo Soir'!AU12 -> 0 | AL21: ='Choix multiple hebdo Soir'!#REF! -> #REF!
B26: ='Choix multiple hebdo Soir'!B17 -> 0 | C26: ='Choix multiple hebdo Soir'!D14 -> Poireaux braisés | D26: ='Choix multiple hebdo Soir'!F15 -> Blé | E26: ='Choix multiple hebdo Soir'!H12 -> Bar à pizza : fromage, jambon, poisson | F26: ='Choix multiple hebdo Soir'!#REF! -> #REF! | J26: ='Choix multiple hebdo Soir'!L14 -> Lentilles vertes | K26: ='Choix multiple hebdo Soir'!N16 -> 0 | L26: ='Choix multiple hebdo Soir'!P15 -> Gnocchi poêlés | M26: ='Choix multiple hebdo Soir'!R14 -> Riz créole | N26: ='Choix multiple hebdo Soir'!#REF! -> #REF! | R26: ='Choix multiple hebdo Soir'!U12 -> Couscous au poulet | S26: ='Choix multiple hebdo Soir'!W14 -> Brocolis sautés | T26: ='Choix multiple hebdo Soir'!Y13 -> Rôti de porc confit | U26: ='Choix multiple hebdo Soir'!AA15 -> Flageolets | V26: ='Choix multiple hebdo Soir'!#REF! -> #REF! | Z26: ='Choix multiple hebdo Soir'!AE14 -> 0 | AA26: ='Choix multiple hebdo Soir'!AG14 -> 0 | AB26: ='Choix multiple hebdo Soir'!#REF! -> #REF! | AC26: ='Choix multiple hebdo Soir'!#REF! -> #REF! | AD26: ='Choix multiple hebdo Soir'!AK13 -> 0 | AH26: ='Choix multiple hebdo Soir'!AO14 -> 0 | AI26: ='Choix multiple hebdo Soir'!AQ14 -> 0 | AJ26: ='Choix multiple hebdo Soir'!AS14 -> 0 | AK26: ='Choix multiple hebdo Soir'!AU14 -> 0 | AL26: ='Choix multiple hebdo Soir'!#REF! -> #REF!
B31: ='Choix multiple hebdo Soir'!B16 -> 0 | C31: ='Choix multiple hebdo Soir'!D17 -> 0 | D31: ='Choix multiple hebdo Soir'!F17 -> 0 | E31: ='Choix multiple hebdo Soir'!#REF! -> #REF! | F31: ='Choix multiple hebdo Soir'!#REF! -> #REF! | J31: ='Choix multiple hebdo Soir'!L17 -> 0 | K31: ='Choix multiple hebdo Soir'!N18 -> Assortiment de laitages et de fromage à la coupe | L31: ='Choix multiple hebdo Soir'!#REF! -> #REF! | M31: ='Choix multiple hebdo Soir'!R17 -> 0 | N31: ='Choix multiple hebdo Soir'!#REF! -> #REF! | R31: ='Choix multiple hebdo Soir'!U17 -> 0 | S31: ='Choix multiple hebdo Soir'!W17 -> 0 | T31: ='Choix multiple hebdo Soir'!Y16 -> 0 | U31: ='Choix multiple hebdo Soir'!AA16 -> 0 | V31: ='Choix multiple hebdo Soir'!#REF! -> #REF! | Z31: ='Choix multiple hebdo Soir'!AE17 -> 0 | AA31: ='Choix multiple hebdo Soir'!AG16 -> 0 | AB31: ='Choix multiple hebdo Soir'!AI16 -> 0 | AC31: ='Choix multiple hebdo Soir'!#REF! -> #REF! | AD31: ='Choix multiple hebdo Soir'!AK16 -> 0 | AH31: ='Choix multiple hebdo Soir'!AO16 -> 0 | AI31: ='Choix multiple hebdo Soir'!AQ16 -> 0 | AJ31: ='Choix multiple hebdo Soir'!AS16 -> 0 | AK31: ='Choix multiple hebdo Soir'!AU16 -> 0 | AL31: ='Choix multiple hebdo Soir'!#REF! -> #REF!
B37: ='Choix multiple hebdo Soir'!#REF! -> #REF! | C37: ='Choix multiple hebdo Soir'!D20 -> Fruit de saison | D37: ='Choix multiple hebdo Soir'!F20 -> Gâteau yaourt | E37: ='Choix multiple hebdo Soir'!#REF! -> #REF! | F37: ='Choix multiple hebdo Soir'!#REF! -> #REF! | J37: ='Choix multiple hebdo Soir'!L20 -> Fruit de saison | K37: ='Choix multiple hebdo Soir'!N20 -> Tarte noix de coco | L37: ='Choix multiple hebdo Soir'!P19 -> 0 | M37: ='Choix multiple hebdo Soir'!R20 -> Pomme au four cannelle | N37: ='Choix multiple hebdo Soir'!#REF! -> #REF! | R37: ='Choix multiple hebdo Soir'!U20 -> Fruit de saison | S37: ='Choix multiple hebdo Soir'!W19 -> 0 | T37: ='Choix multiple hebdo Soir'!Y19 -> 0 | U37: ='Choix multiple hebdo Soir'!AA20 -> Éclair | V37: ='Choix multiple hebdo Soir'!#REF! -> #REF! | Z37: ='Choix multiple hebdo Soir'!AE20 -> 0 | AA37: ='Choix multiple hebdo Soir'!AG20 -> 0 | AB37: ='Choix multiple hebdo Soir'!AI19 -> 0 | AC37: ='Choix multiple hebdo Soir'!#REF! -> #REF! | AD37: ='Choix multiple hebdo Soir'!AK18 -> 0 | AH37: ='Choix multiple hebdo Soir'!AO19 -> 0 | AI37: ='Choix multiple hebdo Soir'!AQ19 -> 0 | AJ37: ='Choix multiple hebdo Soir'!AS19 -> 0 | AK37: ='Choix multiple hebdo Soir'!AU19 -> 0 | AL37: ='Choix multiple hebdo Soir'!#REF! -> #REF!
B47: Menus équilibrés recommandés par le service Diététique & Nutrition de Mille et Un Repas et conformes au GEMRCN | J47: Menus équilibrés recommandés par le service Diététique & Nutrition de Mille et Un Repas et conformes au GEMRCN | R47: Menus équilibrés recommandés par le service Diététique & Nutrition de Mille et Un Repas et conformes au GEMRCN | Z47: Menus équilibrés recommandés par le service Diététique & Nutrition de Mille et Un Repas et conformes au GEMRCN | AH47: Menus équilibrés recommandés par le service Diététique & Nutrition de Mille et Un Repas et conformes au GEMRCN
B55: porc français | C55: produit labellisé A.B.* | D55: produit local | E55: poisson frais | J55: porc français | K55: produit labellisé A.B.* | L55: produit local | M55: poisson frais | R55: porc français | S55: produit labellisé A.B.* | T55: produit local | U55: poisson frais | Z55: porc français | AA55: produit labellisé A.B.* | AB55: produit local | AC55: poisson frais | AH55: porc français | AI55: produit labellisé A.B.* | AJ55: produit local | AK55: poisson frais
A56: bœuf français | B56: volaille française | C56: * issu de l'agriculture biologique | D56: plat végétarien | E56: cuisiné par nos soins | F56: produit de saison | I56: bœuf français | J56: volaille française | K56: * issu de l'agriculture biologique | L56: plat végétarien | M56: cuisiné par nos soins | N56: produit de saison | Q56: bœuf français | R56: volaille française | S56: * issu de l'agriculture biologique | T56: plat végétarien | U56: cuisiné par nos soins | V56: produit de saison | Y56: bœuf français | Z56: volaille française | AA56: * issu de l'agriculture biologique | AB56: plat végétarien | AC56: cuisiné par nos soins | AD56: produit de saison | AG56: bœuf français | AH56: volaille française | AI56: * issu de l'agriculture biologique | AJ56: plat végétarien | AK56: cuisiné par nos soins | AL56: produit de saison

Sheet Matrice menus diners self
C2: ='Choix multiple hebdo Soir'!B1:H1 -> 0 | L2: =C2 -> 0 | U2: =L2 -> 0 | AD2: =U2 -> 0 | AM2: =AD2 -> 0
D4: ='Choix multiple hebdo Soir'!F3 -> 46293 | E4: =D4+3 -> 46296 | M4: ='Choix multiple hebdo Soir'!P3 -> 46300 | N4: =M4+3 -> 46303 | V4: ='Choix multiple hebdo Soir'!X3 -> 46307 | W4: =V4+3 -> 46310 | AE4: ='Choix multiple hebdo Soir'!AI3 -> 46314 | AF4: =AE4+3 -> 46317 | AN4: ='Choix multiple hebdo Soir'!AS3 -> 46321 | AO4: =AN4+3 -> 46324
B6: La liste des allergènes présents volontairement dans les préparations est affichée à l'entrée du restaurant, conformément au règlement UE n° 1169/2011 | K6: La liste des allergènes présents volontairement dans les préparations est affichée à l'entrée du restaurant, conformément au règlement UE n° 1169/2011 | T6: La liste des allergènes présents volontairement dans les préparations est affichée à l'entrée du restaurant, conformément au règlement UE n° 1169/2011 | AC6: La liste des allergènes présents volontairement dans les préparations est affichée à l'entrée du restaurant, conformément au règlement UE n° 1169/2011 | AL6: La liste des allergènes présents volontairement dans les préparations est affichée à l'entrée du restaurant, conformément au règlement UE n° 1169/2011
D8: * Menus indicatifs sous réserve de modifications * | M8: * Menus indicatifs sous réserve de modifications * | V8: * Menus indicatifs sous réserve de modifications * | AE8: * Menus indicatifs sous réserve de modifications * | AN8: * Menus indicatifs sous réserve de modifications *
G13: bœuf français | P13: bœuf français | Y13: bœuf français | AH13: bœuf français | AQ13: bœuf français
G15: porc français | P15: porc français | Y15: porc français | AH15: porc français | AQ15: porc français
G17: volaille française | P17: volaille française | Y17: volaille française | AH17: volaille française | AQ17: volaille française
G20: Produit labellisé A.B.* | P20: Produit labellisé A.B.* | Y20: Produit labellisé A.B.* | AH20: Produit labellisé A.B.* | AQ20: Produit labellisé A.B.*
G21: *issu de l'Agriculture Bio | P21: *issu de l'Agriculture Bio | Y21: *issu de l'Agriculture Bio | AH21: *issu de l'Agriculture Bio | AQ21: *issu de l'Agriculture Bio
G24: plat végétarien | P24: plat végétarien | Y24: plat végétarien | AH24: plat végétarien | AQ24: plat végétarien
G26: produit local | P26: produit local | Y26: produit local | AH26: produit local | AQ26: produit local
G30: cuisiné par nos soins | P30: cuisiné par nos soins | Y30: cuisiné par nos soins | AH30: cuisiné par nos soins | AQ30: cuisiné par nos soins
G34: poisson frais | K34: Chou chantilly | L34: Nectarine | M34: Compote pommes & framboises | N34: Banane | P34: poisson frais | T34: Fruit de saison | U34: Yaourt aux fruits BIO | V34: Brownies | W34: Prunes | Y34: poisson frais | AH34: poisson frais | AQ34: poisson frais
G37: produit de saison | P37: produit de saison | Y37: produit de saison | AH37: produit de saison | AQ37: produit de saison
B40: Menus équilibrés recommandés par le service Diététique & Nutrition de Mille et Un Repas et conformes au GEMRCN | K40: Menus équilibrés recommandés par le service Diététique & Nutrition de Mille et Un Repas et conformes au GEMRCN | T40: Menus équilibrés recommandés par le service Diététique & Nutrition de Mille et Un Repas et conformes au GEMRCN | AC40: Menus équilibrés recommandés par le service Diététique & Nutrition de Mille et Un Repas et conformes au GEMRCN | AL40: Menus équilibrés recommandés par le service Diététique & Nutrition de Mille et Un Repas et conformes au GEMRCN

Sheet Allergènes S5
B1: AFFICHAGE DES ALLERGENES PRÉSENTS VOLONTAIREMENT DANS LES MENUS
C2: GLUTEN | D2: LAIT | E2: OEUF | F2: POISSON | G2: SOJA | H2: MOLLUSQUES / CRUSTACÉS | I2: SÉSAME | J2: ARACHIDE | K2: MOUTARDE | L2: LUPIN | M2: CELERI | N2: FRUITS A COQUE | O2: SULFITES
A3: ALLERGÈNES | B3: Vinaigrette | K3: X | O3: X
B4: Pain | C4: X
B5: Fromages | D5: X | E5: X
B6: Laitages | D6: X
B7: Dîner du | C7: =+'Choix multiple hebdo Soir'!$AI$3 -> 46314
B19: Dîner du | C19: =C7+1 -> 46315
B31: Dîner du | C31: =C19+1 -> 46316
B43: Dîner du | C43: =C19+2 -> 46317

Sheet Menu Quotidien S1
C2: MENU DU SOIR | J2: MENU DU SOIR | Q2: MENU DU SOIR | X2: MENU DU SOIR
C5: ='Choix multiple hebdo Soir'!F3 -> 46293 | J5: ='Choix multiple hebdo Soir'!F3+1 -> 46294 | Q5: ='Choix multiple hebdo Soir'!F3+2 -> 46295 | X5: ='Choix multiple hebdo Soir'!F3+3 -> 46296
D8: ='Choix multiple hebdo Soir'!B8 -> 0 | K8: ='Choix multiple hebdo Soir'!D8 -> 0 | R8: ='Choix multiple hebdo Soir'!F8 -> 0 | Y8: ='Choix multiple hebdo Soir'!H8 -> SOIRÉE PIZZA
B10: =IF('Choix multiple hebdo Soir'!B9="","",'Choix multiple hebdo Soir'!B9) -> Salade verte à l'emmental | I10: =IF('Choix multiple hebdo Soir'!D9="","",'Choix multiple hebdo Soir'!D9) -> Cake chèvre olive | P10: =IF('Choix multiple hebdo Soir'!F9="","",'Choix multiple hebdo Soir'!F9) -> Coleslaw | W10: =IF('Choix multiple hebdo Soir'!H9="","",'Choix multiple hebdo Soir'!H9) -> Radis beurre
B11: =IF('Choix multiple hebdo Soir'!B10="","",'Choix multiple hebdo Soir'!B10) -> Concombre tzatzíki | I11: =IF('Choix multiple hebdo Soir'!D10="","",'Choix multiple hebdo Soir'!D10) -> Macédoine vinaigrette | P11: =IF('Choix multiple hebdo Soir'!F10="","",'Choix multiple hebdo Soir'!F10) -> Terrine forestière | W11: =IF('Choix multiple hebdo Soir'!H10="","",'Choix multiple hebdo Soir'!H10) -> Œuf mayonnaise
B12: =IF('Choix multiple hebdo Soir'!B11="","",'Choix multiple hebdo Soir'!B11) | I12: =IF('Choix multiple hebdo Soir'!D11="","",'Choix multiple hebdo Soir'!D11) | P12: =IF('Choix multiple hebdo Soir'!F11="","",'Choix multiple hebdo Soir'!F11) -> Cornichon | W12: =IF('Choix multiple hebdo Soir'!H11="","",'Choix multiple hebdo Soir'!H11)
B13: =IF('Choix multiple hebdo Soir'!B12="","",'Choix multiple hebdo Soir'!B12) -> Tomate farcie | I13: =IF('Choix multiple hebdo Soir'!D12="","",'Choix multiple hebdo Soir'!D12) -> Filet de poisson au curry | P13: =IF('Choix multiple hebdo Soir'!F12="","",'Choix multiple hebdo Soir'!F12) -> Œufs durs sauce Mornay gratinés | W13: =IF('Choix multiple hebdo Soir'!H12="","",'Choix multiple hebdo Soir'!H12) -> Bar à pizza : fromage, jambon, poisson
B14: =IF('Choix multiple hebdo Soir'!B13="","",'Choix multiple hebdo Soir'!B13) -> Poisson pané aux céréales sauce fromage ail et fines herbes | I14: =IF('Choix multiple hebdo Soir'!D13="","",'Choix multiple hebdo Soir'!D13) -> Cuisse de poulet au curry | P14: =IF('Choix multiple hebdo Soir'!F13="","",'Choix multiple hebdo Soir'!F13) -> Porc aux pruneaux | W14: =IF('Choix multiple hebdo Soir'!H13="","",'Choix multiple hebdo Soir'!H13) -> Bar à pizza : légumes, fromages
B15: =IF('Choix multiple hebdo Soir'!B14="","",'Choix multiple hebdo Soir'!B14) -> Purée de pois cassés | I15: =IF('Choix multiple hebdo Soir'!D14="","",'Choix multiple hebdo Soir'!D14) -> Poireaux braisés | P15: =IF('Choix multiple hebdo Soir'!F14="","",'Choix multiple hebdo Soir'!F14) -> Haricots plats persillés | W15: =IF('Choix multiple hebdo Soir'!H14="","",'Choix multiple hebdo Soir'!H14) -> Salade verte vinaigrette
B16: =IF('Choix multiple hebdo Soir'!B15="","",'Choix multiple hebdo Soir'!B15) -> Riste d'aubergines | I16: =IF('Choix multiple hebdo Soir'!D15="","",'Choix multiple hebdo Soir'!D15) -> Riz safrané | P16: =IF('Choix multiple hebdo Soir'!F15="","",'Choix multiple hebdo Soir'!F15) -> Blé | W16: =IF('Choix multiple hebdo Soir'!H15="","",'Choix multiple hebdo Soir'!H15)
B17: =IF('Choix multiple hebdo Soir'!B16="","",'Choix multiple hebdo Soir'!B16) | I17: =IF('Choix multiple hebdo Soir'!D16="","",'Choix multiple hebdo Soir'!D16) | P17: =IF('Choix multiple hebdo Soir'!F16="","",'Choix multiple hebdo Soir'!F16) | W17: =IF('Choix multiple hebdo Soir'!H16="","",'Choix multiple hebdo Soir'!H16)
B18: =IF('Choix multiple hebdo Soir'!B17="","",'Choix multiple hebdo Soir'!B17) | I18: =IF('Choix multiple hebdo Soir'!D17="","",'Choix multiple hebdo Soir'!D17) | P18: =IF('Choix multiple hebdo Soir'!F17="","",'Choix multiple hebdo Soir'!F17) | W18: =IF('Choix multiple hebdo Soir'!H17="","",'Choix multiple hebdo Soir'!H17)
B19: =IF('Choix multiple hebdo Soir'!B18="","",'Choix multiple hebdo Soir'!B18) -> Assortiment de laitages et de fromages à la coupe | I19: =IF('Choix multiple hebdo Soir'!D18="","",'Choix multiple hebdo Soir'!D18) -> Assortiment de laitages et de fromages à la coupe | P19: =IF('Choix multiple hebdo Soir'!F18="","",'Choix multiple hebdo Soir'!F18) -> Assortiment de laitages et de fromages à la coupe | W19: =IF('Choix multiple hebdo Soir'!H18="","",'Choix multiple hebdo Soir'!H18) -> Assortiment de laitages et de fromages à la coupe
B20: =IF('Choix multiple hebdo Soir'!B19="","",'Choix multiple hebdo Soir'!B19) | I20: =IF('Choix multiple hebdo Soir'!D19="","",'Choix multiple hebdo Soir'!D19) | P20: =IF('Choix multiple hebdo Soir'!F19="","",'Choix multiple hebdo Soir'!F19) | W20: =IF('Choix multiple hebdo Soir'!H19="","",'Choix multiple hebdo Soir'!H19)
B21: =IF('Choix multiple hebdo Soir'!B20="","",'Choix multiple hebdo Soir'!B20) -> Salade d'agrumes | I21: =IF('Choix multiple hebdo Soir'!D20="","",'Choix multiple hebdo Soir'!D20) -> Fruit de saison | P21: =IF('Choix multiple hebdo Soir'!F20="","",'Choix multiple hebdo Soir'!F20) -> Gâteau yaourt | W21: =IF('Choix multiple hebdo Soir'!H20="","",'Choix multiple hebdo Soir'!H20) -> Île flottante
B22: =IF('Choix multiple hebdo Soir'!B21="","",'Choix multiple hebdo Soir'!B21) -> Marmelade pomme aux 4 épices | I22: =IF('Choix multiple hebdo Soir'!D21="","",'Choix multiple hebdo Soir'!D21) -> Mousse chocolat | P22: =IF('Choix multiple hebdo Soir'!F21="","",'Choix multiple hebdo Soir'!F21) -> Fruit de saison | W22: =IF('Choix multiple hebdo Soir'!H21="","",'Choix multiple hebdo Soir'!H21) -> Fruit de saison
A23: + CHAQUE JOUR UNE CORBEILLE DE FRUITS DE SAISON | H23: + CHAQUE JOUR UNE CORBEILLE DE FRUITS DE SAISON | O23: + CHAQUE JOUR UNE CORBEILLE DE FRUITS DE SAISON | V23: + CHAQUE JOUR UNE CORBEILLE DE FRUITS DE SAISON
B27: LE MENU DU JOUR CONSEILLÉ ÉQUILIBRÉ | I27: LE MENU DU JOUR CONSEILLÉ ÉQUILIBRÉ | P27: LE MENU DU JOUR CONSEILLÉ ÉQUILIBRÉ | W27: LE MENU DU JOUR CONSEILLÉ ÉQUILIBRÉ
B30: La liste des allergènes présents volontairement dans les préparations est affichée à l'entrée du restaurant, conformément au règlement UE n° 1169/2011 | I30: La liste des allergènes présents volontairement dans les préparations est affichée à l'entrée du restaurant, conformément au règlement UE n° 1169/2011 | P30: La liste des allergènes présents volontairement dans les préparations est affichée à l'entrée du restaurant, conformément au règlement UE n° 1169/2011 | W30: La liste des allergènes présents volontairement dans les préparations est affichée à l'entrée du restaurant, conformément au règlement UE n° 1169/2011

Sheet Menu Quotidien S2
C2: MENU DU SOIR | J2: MENU DU SOIR | Q2: MENU DU SOIR | X2: MENU DU SOIR
C5: ='Choix multiple hebdo Soir'!P3 -> 46300 | J5: ='Choix multiple hebdo Soir'!P3+1 -> 46301 | Q5: ='Choix multiple hebdo Soir'!P3+2 -> 46302 | X5: ='Choix multiple hebdo Soir'!P3+3 -> 46303
D8: ='Choix multiple hebdo Soir'!B8 -> 0 | K8: ='Choix multiple hebdo Soir'!N8 -> 0 | R8: ='Choix multiple hebdo Soir'!P8 -> 0 | Y8: ='Choix multiple hebdo Soir'!R8 -> SOIRÉE CHILI
B10: =IF('Choix multiple hebdo Soir'!L9="","",'Choix multiple hebdo Soir'!L9) -> Tomates basilic | I10: =IF('Choix multiple hebdo Soir'!N9="","",'Choix multiple hebdo Soir'!N9) -> Chou rouge vinaigrette | P10: =IF('Choix multiple hebdo Soir'!P9="","",'Choix multiple hebdo Soir'!P9) -> Salade de boulgour | W10: =IF('Choix multiple hebdo Soir'!R9="","",'Choix multiple hebdo Soir'!R9) -> Concombre vinaigrette
B11: =IF('Choix multiple hebdo Soir'!L10="","",'Choix multiple hebdo Soir'!L10) -> Mousse de betteraves au fromage frais | I11: =IF('Choix multiple hebdo Soir'!N10="","",'Choix multiple hebdo Soir'!N10) -> Pois chiches à la grecque (tomate, oignon, feta, huile d'olive) | P11: =IF('Choix multiple hebdo Soir'!P10="","",'Choix multiple hebdo Soir'!P10) -> Salade verte | W11: =IF('Choix multiple hebdo Soir'!R10="","",'Choix multiple hebdo Soir'!R10) -> Rosette cornichon
B12: =IF('Choix multiple hebdo Soir'!L11="","",'Choix multiple hebdo Soir'!L11) | I12: =IF('Choix multiple hebdo Soir'!N11="","",'Choix multiple hebdo Soir'!N11) | P12: =IF('Choix multiple hebdo Soir'!P11="","",'Choix multiple hebdo Soir'!P11) | W12: =IF('Choix multiple hebdo Soir'!R11="","",'Choix multiple hebdo Soir'!R11)
B13: =IF('Choix multiple hebdo Soir'!L12="","",'Choix multiple hebdo Soir'!L12) -> Palette à la diable | I13: =IF('Choix multiple hebdo Soir'!N12="","",'Choix multiple hebdo Soir'!N12) -> Brochette de dinde orientale | P13: =IF('Choix multiple hebdo Soir'!P12="","",'Choix multiple hebdo Soir'!P12) -> Blanquette de poisson | W13: =IF('Choix multiple hebdo Soir'!R12="","",'Choix multiple hebdo Soir'!R12) -> Chili con carne
B14: =IF('Choix multiple hebdo Soir'!L13="","",'Choix multiple hebdo Soir'!L13) -> Fricassée de poisson à la tomate | I14: =IF('Choix multiple hebdo Soir'!N13="","",'Choix multiple hebdo Soir'!N13) -> Pané blé emmental épinards | P14: =IF('Choix multiple hebdo Soir'!P13="","",'Choix multiple hebdo Soir'!P13) -> Blanquette de haricots blancs | W14: =IF('Choix multiple hebdo Soir'!R13="","",'Choix multiple hebdo Soir'!R13) -> Haricots rouges au chili
B15: =IF('Choix multiple hebdo Soir'!L14="","",'Choix multiple hebdo Soir'!L14) -> Lentilles vertes | I15: =IF('Choix multiple hebdo Soir'!N14="","",'Choix multiple hebdo Soir'!N14) -> Tomates rôties au romarin | P15: =IF('Choix multiple hebdo Soir'!P14="","",'Choix multiple hebdo Soir'!P14) -> Fondue de courgettes | W15: =IF('Choix multiple hebdo Soir'!R14="","",'Choix multiple hebdo Soir'!R14) -> Riz créole
B16: =IF('Choix multiple hebdo Soir'!L15="","",'Choix multiple hebdo Soir'!L15) -> Haricots verts | I16: =IF('Choix multiple hebdo Soir'!N15="","",'Choix multiple hebdo Soir'!N15) -> Polenta | P16: =IF('Choix multiple hebdo Soir'!P15="","",'Choix multiple hebdo Soir'!P15) -> Gnocchi poêlés | W16: =IF('Choix multiple hebdo Soir'!R15="","",'Choix multiple hebdo Soir'!R15) -> (plat complet)
B17: =IF('Choix multiple hebdo Soir'!L16="","",'Choix multiple hebdo Soir'!L16) -> Persil plat | I17: =IF('Choix multiple hebdo Soir'!N16="","",'Choix multiple hebdo Soir'!N16) | P17: =IF('Choix multiple hebdo Soir'!P16="","",'Choix multiple hebdo Soir'!P16) | W17: =IF('Choix multiple hebdo Soir'!R16="","",'Choix multiple hebdo Soir'!R16) -> Chips tortilla
B18: =IF('Choix multiple hebdo Soir'!L17="","",'Choix multiple hebdo Soir'!L17) | I18: =IF('Choix multiple hebdo Soir'!N17="","",'Choix multiple hebdo Soir'!N17) | P18: =IF('Choix multiple hebdo Soir'!P17="","",'Choix multiple hebdo Soir'!P17) | W18: =IF('Choix multiple hebdo Soir'!R17="","",'Choix multiple hebdo Soir'!R17)
B19: =IF('Choix multiple hebdo Soir'!L18="","",'Choix multiple hebdo Soir'!L18) -> Assortiment de laitages et de fromage à la coupe | I19: =IF('Choix multiple hebdo Soir'!N18="","",'Choix multiple hebdo Soir'!N18) -> Assortiment de laitages et de fromage à la coupe | P19: =IF('Choix multiple hebdo Soir'!P18="","",'Choix multiple hebdo Soir'!P18) -> Assortiment de laitages et de fromages à la coupe | W19: =IF('Choix multiple hebdo Soir'!R18="","",'Choix multiple hebdo Soir'!R18) -> Assortiment de laitages et de fromage à la coupe
B20: =IF('Choix multiple hebdo Soir'!L19="","",'Choix multiple hebdo Soir'!L19) | I20: =IF('Choix multiple hebdo Soir'!N19="","",'Choix multiple hebdo Soir'!N19) | P20: =IF('Choix multiple hebdo Soir'!P19="","",'Choix multiple hebdo Soir'!P19) | W20: =IF('Choix multiple hebdo Soir'!R19="","",'Choix multiple hebdo Soir'!R19)
B21: =IF('Choix multiple hebdo Soir'!L20="","",'Choix multiple hebdo Soir'!L20) -> Fruit de saison | I21: =IF('Choix multiple hebdo Soir'!N20="","",'Choix multiple hebdo Soir'!N20) -> Tarte noix de coco | P21: =IF('Choix multiple hebdo Soir'!P20="","",'Choix multiple hebdo Soir'!P20) -> Salade de fruits d'automne | W21: =IF('Choix multiple hebdo Soir'!R20="","",'Choix multiple hebdo Soir'!R20) -> Pomme au four cannelle
B22: =IF('Choix multiple hebdo Soir'!L21="","",'Choix multiple hebdo Soir'!L21) -> Quatre quarts aux poires | I22: =IF('Choix multiple hebdo Soir'!N21="","",'Choix multiple hebdo Soir'!N21) -> Fruit de saison | P22: =IF('Choix multiple hebdo Soir'!P21="","",'Choix multiple hebdo Soir'!P21) -> Fruit de saison | W22: =IF('Choix multiple hebdo Soir'!R21="","",'Choix multiple hebdo Soir'!R21) -> Fruit de saison
A23: + CHAQUE JOUR UNE CORBEILLE DE FRUITS DE SAISON | H23: + CHAQUE JOUR UNE CORBEILLE DE FRUITS DE SAISON | O23: + CHAQUE JOUR UNE CORBEILLE DE FRUITS DE SAISON | V23: + CHAQUE JOUR UNE CORBEILLE DE FRUITS DE SAISON
B27: LE MENU DU JOUR CONSEILLÉ ÉQUILIBRÉ | I27: LE MENU DU JOUR CONSEILLÉ ÉQUILIBRÉ | P27: LE MENU DU JOUR CONSEILLÉ ÉQUILIBRÉ | W27: LE MENU DU JOUR CONSEILLÉ ÉQUILIBRÉ
B30: La liste des allergènes présents volontairement dans les préparations est affichée à l'entrée du restaurant, conformément au règlement UE n° 1169/2011 | I30: La liste des allergènes présents volontairement dans les préparations est affichée à l'entrée du restaurant, conformément au règlement UE n° 1169/2011 | P30: La liste des allergènes présents volontairement dans les préparations est affichée à l'entrée du restaurant, conformément au règlement UE n° 1169/2011 | W30: La liste des allergènes présents volontairement dans les préparations est affichée à l'entrée du restaurant, conformément au règlement UE n° 1169/2011

Sheet Menu Quotidien S3
C2: MENU DU SOIR | J2: MENU DU SOIR | Q2: MENU DU SOIR | X2: MENU DU SOIR
C5: ='Choix multiple hebdo Soir'!X3 -> 46307 | J5: ='Choix multiple hebdo Soir'!X3+1 -> 46308 | Q5: ='Choix multiple hebdo Soir'!X3+2 -> 46309 | X5: ='Choix multiple hebdo Soir'!X3+3 -> 46310
D8: ='Choix multiple hebdo Soir'!U8 -> SOIRÉE COUSCOUS | K8: ='Choix multiple hebdo Soir'!W8 -> 0 | R8: ='Choix multiple hebdo Soir'!Y8 -> 0 | Y8: ='Choix multiple hebdo Soir'!AA8 -> 0
B10: =IF('Choix multiple hebdo Soir'!U9="","",'Choix multiple hebdo Soir'!U9) -> Samoussa | I10: =IF('Choix multiple hebdo Soir'!W9="","",'Choix multiple hebdo Soir'!W9) -> Poireaux vinaigrette | P10: =IF('Choix multiple hebdo Soir'!Y9="","",'Choix multiple hebdo Soir'!Y9) -> Endives au bleu | W10: =IF('Choix multiple hebdo Soir'!AA9="","",'Choix multiple hebdo Soir'!AA9) -> Salade verte
B11: =IF('Choix multiple hebdo Soir'!U10="","",'Choix multiple hebdo Soir'!U10) -> Salade de concombre | I11: =IF('Choix multiple hebdo Soir'!W10="","",'Choix multiple hebdo Soir'!W10) -> Carottes râpées | P11: =IF('Choix multiple hebdo Soir'!Y10="","",'Choix multiple hebdo Soir'!Y10) -> Pain perdu au jambon | W11: =IF('Choix multiple hebdo Soir'!AA10="","",'Choix multiple hebdo Soir'!AA10) -> Macédoine vinaigrette
B12: =IF('Choix multiple hebdo Soir'!U11="","",'Choix multiple hebdo Soir'!U11) | I12: =IF('Choix multiple hebdo Soir'!W11="","",'Choix multiple hebdo Soir'!W11) | P12: =IF('Choix multiple hebdo Soir'!Y11="","",'Choix multiple hebdo Soir'!Y11) | W12: =IF('Choix multiple hebdo Soir'!AA11="","",'Choix multiple hebdo Soir'!AA11)
B13: =IF('Choix multiple hebdo Soir'!U12="","",'Choix multiple hebdo Soir'!U12) -> Couscous au poulet | I13: =IF('Choix multiple hebdo Soir'!W12="","",'Choix multiple hebdo Soir'!W12) -> Sauté de bœuf à l'ancienne | P13: =IF('Choix multiple hebdo Soir'!Y12="","",'Choix multiple hebdo Soir'!Y12) -> Filet de poisson à l'escabèche | W13: =IF('Choix multiple hebdo Soir'!AA12="","",'Choix multiple hebdo Soir'!AA12) -> Œufs durs gratinés béchamel
B14: =IF('Choix multiple hebdo Soir'!U13="","",'Choix multiple hebdo Soir'!U13) -> Couscous de pois chiches | I14: =IF('Choix multiple hebdo Soir'!W13="","",'Choix multiple hebdo Soir'!W13) -> Omelette | P14: =IF('Choix multiple hebdo Soir'!Y13="","",'Choix multiple hebdo Soir'!Y13) -> Rôti de porc confit | W14: =IF('Choix multiple hebdo Soir'!AA13="","",'Choix multiple hebdo Soir'!AA13) -> Nuggets de blé
B15: =IF('Choix multiple hebdo Soir'!U14="","",'Choix multiple hebdo Soir'!U14) -> Légumes couscous | I15: =IF('Choix multiple hebdo Soir'!W14="","",'Choix multiple hebdo Soir'!W14) -> Brocolis sautés | P15: =IF('Choix multiple hebdo Soir'!Y14="","",'Choix multiple hebdo Soir'!Y14) -> Gratin de pommes de terre | W15: =IF('Choix multiple hebdo Soir'!AA14="","",'Choix multiple hebdo Soir'!AA14) -> Courgettes braisées
B16: =IF('Choix multiple hebdo Soir'!U15="","",'Choix multiple hebdo Soir'!U15) -> Semoule | I16: =IF('Choix multiple hebdo Soir'!W15="","",'Choix multiple hebdo Soir'!W15) | P16: =IF('Choix multiple hebdo Soir'!Y15="","",'Choix multiple hebdo Soir'!Y15) -> Blettes au jus | W16: =IF('Choix multiple hebdo Soir'!AA15="","",'Choix multiple hebdo Soir'!AA15) -> Flageolets
B17: =IF('Choix multiple hebdo Soir'!U16="","",'Choix multiple hebdo Soir'!U16) -> Harissa | I17: =IF('Choix multiple hebdo Soir'!W16="","",'Choix multiple hebdo Soir'!W16) | P17: =IF('Choix multiple hebdo Soir'!Y16="","",'Choix multiple hebdo Soir'!Y16) | W17: =IF('Choix multiple hebdo Soir'!AA16="","",'Choix multiple hebdo Soir'!AA16)
B18: =IF('Choix multiple hebdo Soir'!U17="","",'Choix multiple hebdo Soir'!U17) | I18: =IF('Choix multiple hebdo Soir'!W17="","",'Choix multiple hebdo Soir'!W17) | P18: =IF('Choix multiple hebdo Soir'!Y17="","",'Choix multiple hebdo Soir'!Y17) | W18: =IF('Choix multiple hebdo Soir'!AA17="","",'Choix multiple hebdo Soir'!AA17)
B19: =IF('Choix multiple hebdo Soir'!U18="","",'Choix multiple hebdo Soir'!U18) -> Assortiment de laitages et de fromage à la coupe | I19: =IF('Choix multiple hebdo Soir'!W18="","",'Choix multiple hebdo Soir'!W18) -> Assortiment de laitages et de fromage à la coupe | P19: =IF('Choix multiple hebdo Soir'!Y18="","",'Choix multiple hebdo Soir'!Y18) -> Assortiment de laitages et de fromage à la coupe | W19: =IF('Choix multiple hebdo Soir'!AA18="","",'Choix multiple hebdo Soir'!AA18) -> Assortiment de laitages et de fromage à la coupe
B20: =IF('Choix multiple hebdo Soir'!U19="","",'Choix multiple hebdo Soir'!U19) | I20: =IF('Choix multiple hebdo Soir'!W19="","",'Choix multiple hebdo Soir'!W19) | P20: =IF('Choix multiple hebdo Soir'!Y19="","",'Choix multiple hebdo Soir'!Y19) | W20: =IF('Choix multiple hebdo Soir'!AA19="","",'Choix multiple hebdo Soir'!AA19)
B21: =IF('Choix multiple hebdo Soir'!U20="","",'Choix multiple hebdo Soir'!U20) -> Fruit de saison | I21: =IF('Choix multiple hebdo Soir'!W20="","",'Choix multiple hebdo Soir'!W20) -> Salade banane kiwi | P21: =IF('Choix multiple hebdo Soir'!Y20="","",'Choix multiple hebdo Soir'!Y20) -> Crème dessert | W21: =IF('Choix multiple hebdo Soir'!AA20="","",'Choix multiple hebdo Soir'!AA20) -> Éclair
B22: =IF('Choix multiple hebdo Soir'!U21="","",'Choix multiple hebdo Soir'!U21) -> Ananas rôti | I22: =IF('Choix multiple hebdo Soir'!W21="","",'Choix multiple hebdo Soir'!W21) -> Flan vanille | P22: =IF('Choix multiple hebdo Soir'!Y21="","",'Choix multiple hebdo Soir'!Y21) -> Fruit de saison | W22: =IF('Choix multiple hebdo Soir'!AA21="","",'Choix multiple hebdo Soir'!AA21) -> Fruit de saison
A23: + CHAQUE JOUR UNE CORBEILLE DE FRUITS DE SAISON | H23: + CHAQUE JOUR UNE CORBEILLE DE FRUITS DE SAISON | O23: + CHAQUE JOUR UNE CORBEILLE DE FRUITS DE SAISON | V23: + CHAQUE JOUR UNE CORBEILLE DE FRUITS DE SAISON
B27: LE MENU DU JOUR CONSEILLÉ ÉQUILIBRÉ | I27: LE MENU DU JOUR CONSEILLÉ ÉQUILIBRÉ | P27: LE MENU DU JOUR CONSEILLÉ ÉQUILIBRÉ | W27: LE MENU DU JOUR CONSEILLÉ ÉQUILIBRÉ
B30: La liste des allergènes présents volontairement dans les préparations est affichée à l'entrée du restaurant, conformément au règlement UE n° 1169/2011 | I30: La liste des allergènes présents volontairement dans les préparations est affichée à l'entrée du restaurant, conformément au règlement UE n° 1169/2011 | P30: La liste des allergènes présents volontairement dans les préparations est affichée à l'entrée du restaurant, conformément au règlement UE n° 1169/2011 | W30: La liste des allergènes présents volontairement dans les préparations est affichée à l'entrée du restaurant, conformément au règlement UE n° 1169/2011

Sheet Menu Quotidien S4
C2: MENU DU SOIR | J2: MENU DU SOIR | Q2: MENU DU SOIR | X2: MENU DU SOIR
C5: ='Choix multiple hebdo Soir'!AI3 -> 46314 | J5: ='Choix multiple hebdo Soir'!AI3+1 -> 46315 | Q5: ='Choix multiple hebdo Soir'!AI3+2 -> 46316 | X5: ='Choix multiple hebdo Soir'!AI3+3 -> 46317
D8: ='Choix multiple hebdo Soir'!AE8 -> 0 | K8: ='Choix multiple hebdo Soir'!AG8 -> 0 | R8: ='Choix multiple hebdo Soir'!AI8 -> 0 | Y8: ='Choix multiple hebdo Soir'!AK8 -> 0
B10: =IF('Choix multiple hebdo Soir'!AE9="","",'Choix multiple hebdo Soir'!AE9) | I10: =IF('Choix multiple hebdo Soir'!AG9="","",'Choix multiple hebdo Soir'!AG9) | P10: =IF('Choix multiple hebdo Soir'!AI9="","",'Choix multiple hebdo Soir'!AI9) | W10: =IF('Choix multiple hebdo Soir'!AK9="","",'Choix multiple hebdo Soir'!AK9)
B11: =IF('Choix multiple hebdo Soir'!AE10="","",'Choix multiple hebdo Soir'!AE10) | I11: =IF('Choix multiple hebdo Soir'!AG10="","",'Choix multiple hebdo Soir'!AG10) | P11: =IF('Choix multiple hebdo Soir'!AI10="","",'Choix multiple hebdo Soir'!AI10) | W11: =IF('Choix multiple hebdo Soir'!AK10="","",'Choix multiple hebdo Soir'!AK10)
B12: =IF('Choix multiple hebdo Soir'!AE11="","",'Choix multiple hebdo Soir'!AE11) | I12: =IF('Choix multiple hebdo Soir'!AG11="","",'Choix multiple hebdo Soir'!AG11) | P12: =IF('Choix multiple hebdo Soir'!AI11="","",'Choix multiple hebdo Soir'!AI11) | W12: =IF('Choix multiple hebdo Soir'!AK11="","",'Choix multiple hebdo Soir'!AK11)
B13: =IF('Choix multiple hebdo Soir'!AE12="","",'Choix multiple hebdo Soir'!AE12) | I13: =IF('Choix multiple hebdo Soir'!AG12="","",'Choix multiple hebdo Soir'!AG12) | P13: =IF('Choix multiple hebdo Soir'!AI12="","",'Choix multiple hebdo Soir'!AI12) | W13: =IF('Choix multiple hebdo Soir'!AK12="","",'Choix multiple hebdo Soir'!AK12)
B14: =IF('Choix multiple hebdo Soir'!AE13="","",'Choix multiple hebdo Soir'!AE13) | I14: =IF('Choix multiple hebdo Soir'!AG13="","",'Choix multiple hebdo Soir'!AG13) | P14: =IF('Choix multiple hebdo Soir'!AI13="","",'Choix multiple hebdo Soir'!AI13) | W14: =IF('Choix multiple hebdo Soir'!AK13="","",'Choix multiple hebdo Soir'!AK13)
B15: =IF('Choix multiple hebdo Soir'!AE14="","",'Choix multiple hebdo Soir'!AE14) | I15: =IF('Choix multiple hebdo Soir'!AG14="","",'Choix multiple hebdo Soir'!AG14) | P15: =IF('Choix multiple hebdo Soir'!AI14="","",'Choix multiple hebdo Soir'!AI14) | W15: =IF('Choix multiple hebdo Soir'!AK14="","",'Choix multiple hebdo Soir'!AK14)
B16: =IF('Choix multiple hebdo Soir'!AE15="","",'Choix multiple hebdo Soir'!AE15) | I16: =IF('Choix multiple hebdo Soir'!AG15="","",'Choix multiple hebdo Soir'!AG15) | P16: =IF('Choix multiple hebdo Soir'!AI15="","",'Choix multiple hebdo Soir'!AI15) | W16: =IF('Choix multiple hebdo Soir'!AK15="","",'Choix multiple hebdo Soir'!AK15)
B17: =IF('Choix multiple hebdo Soir'!AE16="","",'Choix multiple hebdo Soir'!AE16) | I17: =IF('Choix multiple hebdo Soir'!AG16="","",'Choix multiple hebdo Soir'!AG16) | P17: =IF('Choix multiple hebdo Soir'!AI16="","",'Choix multiple hebdo Soir'!AI16) | W17: =IF('Choix multiple hebdo Soir'!AK16="","",'Choix multiple hebdo Soir'!AK16)
B18: =IF('Choix multiple hebdo Soir'!AE17="","",'Choix multiple hebdo Soir'!AE17) | I18: =IF('Choix multiple hebdo Soir'!AG17="","",'Choix multiple hebdo Soir'!AG17) | P18: =IF('Choix multiple hebdo Soir'!AI17="","",'Choix multiple hebdo Soir'!AI17) | W18: =IF('Choix multiple hebdo Soir'!AK17="","",'Choix multiple hebdo Soir'!AK17)
B19: =IF('Choix multiple hebdo Soir'!AE18="","",'Choix multiple hebdo Soir'!AE18) | I19: =IF('Choix multiple hebdo Soir'!AG18="","",'Choix multiple hebdo Soir'!AG18) | P19: =IF('Choix multiple hebdo Soir'!AI18="","",'Choix multiple hebdo Soir'!AI18) | W19: =IF('Choix multiple hebdo Soir'!AK18="","",'Choix multiple hebdo Soir'!AK18)
B20: =IF('Choix multiple hebdo Soir'!AE19="","",'Choix multiple hebdo Soir'!AE19) | I20: =IF('Choix multiple hebdo Soir'!AG19="","",'Choix multiple hebdo Soir'!AG19) | P20: =IF('Choix multiple hebdo Soir'!AI19="","",'Choix multiple hebdo Soir'!AI19) | W20: =IF('Choix multiple hebdo Soir'!AK19="","",'Choix multiple hebdo Soir'!AK19)
B21: =IF('Choix multiple hebdo Soir'!AE20="","",'Choix multiple hebdo Soir'!AE20) | I21: =IF('Choix multiple hebdo Soir'!AG20="","",'Choix multiple hebdo Soir'!AG20) | P21: =IF('Choix multiple hebdo Soir'!AI20="","",'Choix multiple hebdo Soir'!AI20) | W21: =IF('Choix multiple hebdo Soir'!AK20="","",'Choix multiple hebdo Soir'!AK20)
B22: =IF('Choix multiple hebdo Soir'!AE21="","",'Choix multiple hebdo Soir'!AE21) | I22: =IF('Choix multiple hebdo Soir'!AG21="","",'Choix multiple hebdo Soir'!AG21) | P22: =IF('Choix multiple hebdo Soir'!AI21="","",'Choix multiple hebdo Soir'!AI21) | W22: =IF('Choix multiple hebdo Soir'!AK21="","",'Choix multiple hebdo Soir'!AK21)
A23: + CHAQUE JOUR UNE CORBEILLE DE FRUITS DE SAISON | H23: + CHAQUE JOUR UNE CORBEILLE DE FRUITS DE SAISON | O23: + CHAQUE JOUR UNE CORBEILLE DE FRUITS DE SAISON | V23: + CHAQUE JOUR UNE CORBEILLE DE FRUITS DE SAISON
B27: LE MENU DU JOUR CONSEILLÉ ÉQUILIBRÉ | I27: LE MENU DU JOUR CONSEILLÉ ÉQUILIBRÉ | P27: LE MENU DU JOUR CONSEILLÉ ÉQUILIBRÉ | W27: LE MENU DU JOUR CONSEILLÉ ÉQUILIBRÉ
B30: La liste des allergènes présents volontairement dans les préparations est affichée à l'entrée du restaurant, conformément au règlement UE n° 1169/2011 | I30: La liste des allergènes présents volontairement dans les préparations est affichée à l'entrée du restaurant, conformément au règlement UE n° 1169/2011 | P30: La liste des allergènes présents volontairement dans les préparations est affichée à l'entrée du restaurant, conformément au règlement UE n° 1169/2011 | W30: La liste des allergènes présents volontairement dans les préparations est affichée à l'entrée du restaurant, conformément au règlement UE n° 1169/2011

Sheet Menu Quotidien S5
C2: MENU DU SOIR | J2: MENU DU SOIR | Q2: MENU DU SOIR | X2: MENU DU SOIR
C5: ='Choix multiple hebdo Soir'!AS3 -> 46321 | J5: ='Choix multiple hebdo Soir'!AS3+1 -> 46322 | Q5: ='Choix multiple hebdo Soir'!AS3+2 -> 46323 | X5: ='Choix multiple hebdo Soir'!AS3+3 -> 46324
D8: ='Choix multiple hebdo Soir'!AO8 -> 0 | K8: ='Choix multiple hebdo Soir'!AQ8 -> 0 | R8: ='Choix multiple hebdo Soir'!AS8 -> 0 | Y8: ='Choix multiple hebdo Soir'!AU8 -> 0
B10: =IF('Choix multiple hebdo Soir'!AO9="","",'Choix multiple hebdo Soir'!AO9) | I10: =IF('Choix multiple hebdo Soir'!AQ9="","",'Choix multiple hebdo Soir'!AQ9) | P10: =IF('Choix multiple hebdo Soir'!AS9="","",'Choix multiple hebdo Soir'!AS9) | W10: =IF('Choix multiple hebdo Soir'!AU9="","",'Choix multiple hebdo Soir'!AU9)
B11: =IF('Choix multiple hebdo Soir'!AO10="","",'Choix multiple hebdo Soir'!AO10) | I11: =IF('Choix multiple hebdo Soir'!AQ10="","",'Choix multiple hebdo Soir'!AQ10) | P11: =IF('Choix multiple hebdo Soir'!AS10="","",'Choix multiple hebdo Soir'!AS10) | W11: =IF('Choix multiple hebdo Soir'!AU10="","",'Choix multiple hebdo Soir'!AU10)
B12: =IF('Choix multiple hebdo Soir'!AO11="","",'Choix multiple hebdo Soir'!AO11) | I12: =IF('Choix multiple hebdo Soir'!AQ11="","",'Choix multiple hebdo Soir'!AQ11) | P12: =IF('Choix multiple hebdo Soir'!AS11="","",'Choix multiple hebdo Soir'!AS11) | W12: =IF('Choix multiple hebdo Soir'!AU11="","",'Choix multiple hebdo Soir'!AU11)
B13: =IF('Choix multiple hebdo Soir'!AO12="","",'Choix multiple hebdo Soir'!AO12) | I13: =IF('Choix multiple hebdo Soir'!AQ12="","",'Choix multiple hebdo Soir'!AQ12) | P13: =IF('Choix multiple hebdo Soir'!AS12="","",'Choix multiple hebdo Soir'!AS12) | W13: =IF('Choix multiple hebdo Soir'!AU12="","",'Choix multiple hebdo Soir'!AU12)
B14: =IF('Choix multiple hebdo Soir'!AO13="","",'Choix multiple hebdo Soir'!AO13) | I14: =IF('Choix multiple hebdo Soir'!AQ13="","",'Choix multiple hebdo Soir'!AQ13) | P14: =IF('Choix multiple hebdo Soir'!AS13="","",'Choix multiple hebdo Soir'!AS13) | W14: =IF('Choix multiple hebdo Soir'!AU13="","",'Choix multiple hebdo Soir'!AU13)
B15: =IF('Choix multiple hebdo Soir'!AO14="","",'Choix multiple hebdo Soir'!AO14) | I15: =IF('Choix multiple hebdo Soir'!AQ14="","",'Choix multiple hebdo Soir'!AQ14) | P15: =IF('Choix multiple hebdo Soir'!AS14="","",'Choix multiple hebdo Soir'!AS14) | W15: =IF('Choix multiple hebdo Soir'!AU14="","",'Choix multiple hebdo Soir'!AU14)
B16: =IF('Choix multiple hebdo Soir'!AO15="","",'Choix multiple hebdo Soir'!AO15) | I16: =IF('Choix multiple hebdo Soir'!AQ15="","",'Choix multiple hebdo Soir'!AQ15) | P16: =IF('Choix multiple hebdo Soir'!AS15="","",'Choix multiple hebdo Soir'!AS15) | W16: =IF('Choix multiple hebdo Soir'!AU15="","",'Choix multiple hebdo Soir'!AU15)
B17: =IF('Choix multiple hebdo Soir'!AO16="","",'Choix multiple hebdo Soir'!AO16) | I17: =IF('Choix multiple hebdo Soir'!AQ16="","",'Choix multiple hebdo Soir'!AQ16) | P17: =IF('Choix multiple hebdo Soir'!AS16="","",'Choix multiple hebdo Soir'!AS16) | W17: =IF('Choix multiple hebdo Soir'!AU16="","",'Choix multiple hebdo Soir'!AU16)
B18: =IF('Choix multiple hebdo Soir'!AO17="","",'Choix multiple hebdo Soir'!AO17) | I18: =IF('Choix multiple hebdo Soir'!AQ17="","",'Choix multiple hebdo Soir'!AQ17) | P18: =IF('Choix multiple hebdo Soir'!AS17="","",'Choix multiple hebdo Soir'!AS17) | W18: =IF('Choix multiple hebdo Soir'!AU17="","",'Choix multiple hebdo Soir'!AU17)
B19: =IF('Choix multiple hebdo Soir'!AO18="","",'Choix multiple hebdo Soir'!AO18) -> Assortiment de laitages et de fromage à la coupe | I19: =IF('Choix multiple hebdo Soir'!AQ18="","",'Choix multiple hebdo Soir'!AQ18) -> Assortiment de laitages et de fromage à la coupe | P19: =IF('Choix multiple hebdo Soir'!AS18="","",'Choix multiple hebdo Soir'!AS18) -> Assortiment de laitages et de fromage à la coupe | W19: =IF('Choix multiple hebdo Soir'!AU18="","",'Choix multiple hebdo Soir'!AU18)
B20: =IF('Choix multiple hebdo Soir'!AO19="","",'Choix multiple hebdo Soir'!AO19) | I20: =IF('Choix multiple hebdo Soir'!AQ19="","",'Choix multiple hebdo Soir'!AQ19) | P20: =IF('Choix multiple hebdo Soir'!AS19="","",'Choix multiple hebdo Soir'!AS19) | W20: =IF('Choix multiple hebdo Soir'!AU19="","",'Choix multiple hebdo Soir'!AU19)
B21: =IF('Choix multiple hebdo Soir'!AO20="","",'Choix multiple hebdo Soir'!AO20) | I21: =IF('Choix multiple hebdo Soir'!AQ20="","",'Choix multiple hebdo Soir'!AQ20) | P21: =IF('Choix multiple hebdo Soir'!AS20="","",'Choix multiple hebdo Soir'!AS20) | W21: =IF('Choix multiple hebdo Soir'!AU20="","",'Choix multiple hebdo Soir'!AU20)
B22: =IF('Choix multiple hebdo Soir'!AO21="","",'Choix multiple hebdo Soir'!AO21) | I22: =IF('Choix multiple hebdo Soir'!AQ21="","",'Choix multiple hebdo Soir'!AQ21) | P22: =IF('Choix multiple hebdo Soir'!AS21="","",'Choix multiple hebdo Soir'!AS21) | W22: =IF('Choix multiple hebdo Soir'!AU21="","",'Choix multiple hebdo Soir'!AU21)
A23: + CHAQUE JOUR UNE CORBEILLE DE FRUITS DE SAISON | H23: + CHAQUE JOUR UNE CORBEILLE DE FRUITS DE SAISON | O23: + CHAQUE JOUR UNE CORBEILLE DE FRUITS DE SAISON | V23: + CHAQUE JOUR UNE CORBEILLE DE FRUITS DE SAISON
B27: LE MENU DU JOUR CONSEILLÉ ÉQUILIBRÉ | I27: LE MENU DU JOUR CONSEILLÉ ÉQUILIBRÉ | P27: LE MENU DU JOUR CONSEILLÉ ÉQUILIBRÉ | W27: LE MENU DU JOUR CONSEILLÉ ÉQUILIBRÉ
B30: La liste des allergènes présents volontairement dans les préparations est affichée à l'entrée du restaurant, conformément au règlement UE n° 1169/2011 | I30: La liste des allergènes présents volontairement dans les préparations est affichée à l'entrée du restaurant, conformément au règlement UE n° 1169/2011 | P30: La liste des allergènes présents volontairement dans les préparations est affichée à l'entrée du restaurant, conformément au règlement UE n° 1169/2011 | W30: La liste des allergènes présents volontairement dans les préparations est affichée à l'entrée du restaurant, conformément au règlement UE n° 1169/2011

Sheet Menu M S5
C3: ='Choix multiple hebdo Soir'!AS3 -> 46321 | H3: =C3+1 -> 46322 | M3: =H3+1 -> 46323 | R3: =C3+3 -> 46324 | W3: =C3+4 -> 46325
C4: DEJEUNER | H4: DEJEUNER | M4: DEJEUNER | R4: DEJEUNER | W4: DEJEUNER
A6: La liste des allergènes présents volontairement dans les préparations est affichée à l'entrée du restaurant, conformément au règlement UE n° 1169/2011 | F6: La liste des allergènes présents volontairement dans les préparations est affichée à l'entrée du restaurant, conformément au règlement UE n° 1169/2011 | K6: La liste des allergènes présents volontairement dans les préparations est affichée à l'entrée du restaurant, conformément au règlement UE n° 1169/2011 | P6: La liste des allergènes présents volontairement dans les préparations est affichée à l'entrée du restaurant, conformément au règlement UE n° 1169/2011 | U6: La liste des allergènes présents volontairement dans les préparations est affichée à l'entrée du restaurant, conformément au règlement UE n° 1169/2011
A12: 0 | F12: 0 | P12: 0 | U12: 0
A13: ='Choix multiple hebdo Soir'!AO9 -> 0 | F13: ='Choix multiple hebdo Soir'!AQ9 -> 0 | K13: ='Choix multiple hebdo Soir'!AS9 -> 0 | P13: ='Choix multiple hebdo Soir'!AU9 -> 0 | U13: ='Choix multiple hebdo Soir'!#REF! -> #REF!
A14: ='Choix multiple hebdo Soir'!AO10 -> 0 | F14: ='Choix multiple hebdo Soir'!AQ10 -> 0 | K14: ='Choix multiple hebdo Soir'!AS10 -> 0 | P14: ='Choix multiple hebdo Soir'!AU10 -> 0 | U14: ='Choix multiple hebdo Soir'!#REF! -> #REF!
A15: ='Choix multiple hebdo Soir'!AO11 -> 0 | F15: ='Choix multiple hebdo Soir'!AQ11 -> 0 | K15: ='Choix multiple hebdo Soir'!AS11 -> 0 | P15: ='Choix multiple hebdo Soir'!AU11 -> 0 | U15: ='Choix multiple hebdo Soir'!#REF! -> #REF!
A16: ='Choix multiple hebdo Soir'!#REF! -> #REF! | F16: ='Choix multiple hebdo Soir'!#REF! -> #REF! | K16: ='Choix multiple hebdo Soir'!#REF! -> #REF! | P16: ='Choix multiple hebdo Soir'!#REF! -> #REF! | U16: ='Choix multiple hebdo Soir'!#REF! -> #REF!
P17: 0
A18: 0 | C18: =A13 -> 0 | F18: 0 | H18: =F13 -> 0 | M18: =K13 -> 0 | P18: 0 | R18: =P13 -> 0 | U18: 0 | W18: =U13 -> #REF!
A23: ='Choix multiple hebdo Soir'!AO12 -> 0 | C23: =A23 -> 0 | F23: ='Choix multiple hebdo Soir'!AQ12 -> 0 | H23: =F23 -> 0 | K23: ='Choix multiple hebdo Soir'!AS12 -> 0 | M23: =K23 -> 0 | P23: ='Choix multiple hebdo Soir'!AU12 -> 0 | R23: =P23 -> 0 | U23: ='Choix multiple hebdo Soir'!#REF! -> #REF! | W23: =U23 -> #REF!
A24: ='Choix multiple hebdo Soir'!AO13 -> 0 | F24: ='Choix multiple hebdo Soir'!AQ13 -> 0 | K24: ='Choix multiple hebdo Soir'!AS13 -> 0 | P24: ='Choix multiple hebdo Soir'!AU13 -> 0 | U24: ='Choix multiple hebdo Soir'!#REF! -> #REF!
A26: 0 | K26: 0 | P26: 0 | U26: 0
C28: =A31 -> 0 | H28: =F31 -> 0 | M28: =K31 -> 0 | R28: =P31 -> 0 | W28: =U31 -> #REF!
A31: ='Choix multiple hebdo Soir'!AO14 -> 0 | F31: ='Choix multiple hebdo Soir'!AQ14 -> 0 | K31: ='Choix multiple hebdo Soir'!AS14 -> 0 | P31: ='Choix multiple hebdo Soir'!AU14 -> 0 | U31: ='Choix multiple hebdo Soir'!#REF! -> #REF!
A32: ='Choix multiple hebdo Soir'!AO15 -> 0 | F32: ='Choix multiple hebdo Soir'!AQ15 -> 0 | K32: ='Choix multiple hebdo Soir'!AS15 -> 0 | P32: ='Choix multiple hebdo Soir'!AU15 -> 0 | U32: ='Choix multiple hebdo Soir'!#REF! -> #REF!
C33: =A38 -> 0 | H33: =F38 -> 0 | M33: =K38 -> 0 | R33: =P38 -> 0 | W33: =U38 -> #REF!
K34: 0 | P34: 0 | U34: 0
P37: 0 | U37: 0
A38: ='Choix multiple hebdo Soir'!AO16 -> 0 | C38: =A46 -> 0 | F38: ='Choix multiple hebdo Soir'!AQ16 -> 0 | H38: =F46 -> 0 | K38: ='Choix multiple hebdo Soir'!AS16 -> 0 | M38: =K46 -> 0 | P38: ='Choix multiple hebdo Soir'!AU16 -> 0 | R38: =P46 -> 0 | U38: ='Choix multiple hebdo Soir'!#REF! -> #REF! | W38: =U46 -> #REF!
A39: ='Choix multiple hebdo Soir'!AO17 -> 0 | F39: ='Choix multiple hebdo Soir'!AQ17 -> 0 | K39: ='Choix multiple hebdo Soir'!AS17 -> 0 | P39: ='Choix multiple hebdo Soir'!AU17 -> 0 | U39: ='Choix multiple hebdo Soir'!#REF! -> #REF!
A40: ='Choix multiple hebdo Soir'!#REF! -> #REF! | F40: ='Choix multiple hebdo Soir'!#REF! -> #REF! | K40: ='Choix multiple hebdo Soir'!#REF! -> #REF! | P40: ='Choix multiple hebdo Soir'!#REF! -> #REF! | U40: ='Choix multiple hebdo Soir'!#REF! -> #REF!
A41: ='Choix multiple hebdo Soir'!AO18 -> Assortiment de laitages et de fromage à la coupe | F41: ='Choix multiple hebdo Soir'!AQ18 -> Assortiment de laitages et de fromage à la coupe | K41: ='Choix multiple hebdo Soir'!AS18 -> Assortiment de laitages et de fromage à la coupe | P41: ='Choix multiple hebdo Soir'!AU18 -> 0 | U41: ='Choix multiple hebdo Soir'!#REF! -> #REF!
P45: 0 | U45: 0
A46: ='Choix multiple hebdo Soir'!AO19 -> 0 | F46: ='Choix multiple hebdo Soir'!AQ19 -> 0 | K46: ='Choix multiple hebdo Soir'!AS19 -> 0 | P46: ='Choix multiple hebdo Soir'!AU19 -> 0 | U46: ='Choix multiple hebdo Soir'!#REF! -> #REF!
A47: ='Choix multiple hebdo Soir'!AO20 -> 0 | F47: ='Choix multiple hebdo Soir'!AQ20 -> 0 | K47: ='Choix multiple hebdo Soir'!AS20 -> 0 | P47: ='Choix multiple hebdo Soir'!AU20 -> 0 | U47: ='Choix multiple hebdo Soir'!#REF! -> #REF!
A48: ='Choix multiple hebdo Soir'!#REF! -> #REF! | F48: ='Choix multiple hebdo Soir'!#REF! -> #REF! | K48: ='Choix multiple hebdo Soir'!#REF! -> #REF! | P48: ='Choix multiple hebdo Soir'!#REF! -> #REF! | U48: ='Choix multiple hebdo Soir'!#REF! -> #REF!
A49: ='Choix multiple hebdo Soir'!AO21 -> 0 | F49: ='Choix multiple hebdo Soir'!AQ21 -> 0 | K49: ='Choix multiple hebdo Soir'!AS21 -> 0 | P49: ='Choix multiple hebdo Soir'!AU21 -> 0 | U49: ='Choix multiple hebdo Soir'!#REF! -> #REF!
U50: 0
