Workbook

Sheet pictos
D4: bœuf/veau français
D10: porc français
D16: volaille française
D22: préparation contenant au moins 1 produit bio
D29: plat végétarien
D35: préparation contenant au moins 1 produit local
D41: poisson frais
D47: cuisiné par nos soins
D48: (remplace le picto "fait maison")

Sheet Menus déjeuner
D1: CHOIX DIRIGÉ | P1: =+D1 -> CHOIX DIRIGÉ | Z1: =+P1 -> CHOIX DIRIGÉ | AN1: =+Z1 -> CHOIX DIRIGÉ | AZ1: =+AN1 -> CHOIX DIRIGÉ
D3: Déjeuners | E3: du | F3: 46293 | G3: au | H3: =F3+4 -> 46297 | P3: Déjeuners | Q3: du | R3: =H3+3 -> 46300 | S3: au | T3: =R3+4 -> 46304 | AB3: Déjeuners | AC3: du | AD3: =T3+3 -> 46307 | AE3: au | AF3: =AD3+4 -> 46311 | AN3: Déjeuners | AO3: du | AP3: =AF3+3 -> 46314 | AQ3: au | AR3: =AP3+4 -> 46318 | AZ3: Déjeuners | BA3: du | BB3: =AR3+3 -> 46321 | BC3: au | BD3: =BB3+4 -> 46325
L4: Poisson MSC | X4: Poisson MSC | AJ4: Poisson MSC | AV4: Poisson MSC
B5: La liste des allergènes présents volontairement dans les préparations est affichée à l'entrée du restaurant, conformément au règlement UE n° 1169/2011 | N5: La liste des allergènes présents volontairement dans les préparations est affichée à l'entrée du restaurant, conformément au règlement UE n° 1169/2011 | Z5: La liste des allergènes présents volontairement dans les préparations est affichée à l'entrée du restaurant, conformément au règlement UE n° 1169/2011 | AL5: La liste des allergènes présents volontairement dans les préparations est affichée à l'entrée du restaurant, conformément au règlement UE n° 1169/2011 | AX5: La liste des allergènes présents volontairement dans les préparations est affichée à l'entrée du restaurant, conformément au règlement UE n° 1169/2011
F7: * Menus indicatifs sous réserve de modifications * | R7: * Menus indicatifs sous réserve de modifications * | AD7: * Menus indicatifs sous réserve de modifications * | AP7: * Menus indicatifs sous réserve de modifications * | BB7: * Menus indicatifs sous réserve de modifications *
A8: SEMAINE 1 | B8: Lundi | C8: Logos | D8: Mardi | E8: Logos | F8: Mercredi | G8: Logos | H8: Jeudi | I8: Logos | J8: Vendredi | K8: Logos | M8: SEMAINE 2 | N8: Lundi | O8: Logos | P8: Mardi | Q8: Logos | R8: Mercredi | S8: Logos | T8: Jeudi | U8: Logos | V8: Vendredi | W8: Logos | Y8: SEMAINE 3 | Z8: Lundi | AA8: Logos | AB8: Mardi | AC8: Logos | AD8: Mercredi | AE8: Logos | AF8: Jeudi | AG8: Logos | AH8: Vendredi | AI8: Logos | AK8: SEMAINE 4 | AL8: Lundi | AM8: Logos | AN8: Mardi | AO8: Logos | AP8: Mercredi | AQ8: Logos | AR8: Jeudi | AS8: Logos | AT8: Vendredi | AU8: Logos | AW8: SEMAINE 5 | AX8: Lundi | AY8: Logos | AZ8: Mardi | BA8: Logos | BB8: Mercredi | BC8: Logos | BD8: Jeudi | BE8: Logos | BF8: 0 | BG8: Logos
V9: LE GRAND REPAS
A10: Entrées | B10: Courgettes râpées | D10: Tarte à la tomate | F10: Mousse de betteraves | H10: Radis | J10: Velouté de légumes à la crème | L10: Appellation d'origine Contrôlée | M10: Entrées | N10: Salade de tomate au pesto | P10: Salade de blé | R10: Velouté de potiron | T10: Macédoine mayonnaise | V10: Chou chinois au sésame | X10: Appellation d'origine Contrôlée | Y10: Entrées | Z10: Taboulé de boulgour | AB10: Rémoulade de radis noir | AD10: Poireaux vinaigrette | AF10: Animation | AH10: Pain perdu salé au jambon | AJ10: Appellation d'origine Contrôlée | AK10: Entrées | AV10: Appellation d'origine Contrôlée | AW10: Entrées
B11: Endives aux noix | D11: Bruschetta | F11: Salade de haricots beurre au chorizo | H11: Dernière tomate basilic | J11: Courgettes mimosa | L11: Appellation d'origine protégée | N11: Concombre au yaourt | P11: Salade de pates semi complètes | R11: Brocoli ravigote | T11: Crème de butternut au lait de coco | V11: Carottes et potimarron râpés | X11: Appellation d'origine protégée | Z11: Salade de pâtes | AB11: Salade de tomate et concombre | AD11: Betteraves vinaigrette | AH11: Cake légumes et fromage | AJ11: Appellation d'origine protégée | AV11: Appellation d'origine protégée
B12: Taboulé de chou fleur | D12: Cake olive emmental | F12: Macédoine mayonnaise curry | H12: Concombre au fromage blanc | J12: Salade de petits pois, féta et zeste de citron | N12: Coleslaw | P12: Crème de pois cassés | R12: Haricots verts à l'échalote | T12: Poireaux vinaigrette | V12: Salade de radis aux fines herbes | Z12: Salade de maïs | AB12: Chou blanc & croutons | AD12: Soupe de chou fleur au cheddar | AH12: Quiche au thon
B13: Salade verte | D13: Salade verte | F13: Salade verte | H13: Salade verte | J13: Salade verte | L13: Indication géographique protégée | N13: Salade verte | P13: Salade verte | R13: Salade verte | T13: Salade verte | X13: Indication géographique protégée | Z13: Salade verte | AB13: Salade verte | AD13: Salade verte | AF13: Salade verte | AH13: Salade verte | AJ13: Indication géographique protégée | AV13: Indication géographique protégée
A14: Plats principaux | B14: Pilons de poulet tex mex (Egalim EE) | D14: Émincé de bœuf aux oignons | F14: Escalope de dinde aux herbes (Egalim EE) | H14: Œufs brouillés | J14: Cassolette de poisson à la provençale | M14: Plats principaux | N14: Dinde à la normande (Egalim EE) | P14: Plein filet pané | R14: Bœuf bourguignon | T14: Rougail de poulet (Egalim EE) | Y14: Plats principaux | Z14: Filet de poisson à la bisque | AB14: Poêlée de pois chiches à l'orientale | AD14: Haut de cuisse de poulet à l'ail | AF14: porc | AH14: Sauté de bœuf à la tomate | AK14: Plats principaux | AW14: Plats principaux
B15: Filet de poisson aux agrumes | D15: Omelette | F15: Gratin de pâtes aux légumes frais et secs (plat complet) | H15: Longe de porc confite (CE2) | J15: Falafels fèves & menthe | L15: Haute valeur environnementale | N15: Omelette à la mexicaine (haricots rouges, tomates, maïs …) | P15: Francfort fumées (CE2) | R15: Œufs durs Mornay | T15: Quenelles au coulis | V15: poisson | X15: Haute valeur environnementale | Z15: Brouillade d'œufs | AB15: Sauté de dinde à la tomate (Eglim EE) | AD15: Œufs durs sauce tomate | AH15: Tajine de poisson | AJ15: Haute valeur environnementale | AV15: Haute valeur environnementale
A16: Garnitures | B16: Macaronis semi complèts | D16: Carottes au beurre | F16: Aubergines poêlées | H16: Épinards à la crème | J16: Écrasé de pommes de terre | L16: Label rouge | M16: Garnitures | N16: Frites | P16: Purée de potiron | R16: Torsades | T16: Riz pilaf | X16: Label rouge | Y16: Garnitures | Z16: Haricots beurre | AB16: Semoule semi complète | AD16: Tortis | AF16: légumes | AH16: Haricots rouges à la cubaine (oignon, paprika, vinaigre balsamique, poivrons, cumin, ail) | AJ16: Label rouge | AK16: Garnitures | AV16: Label rouge | AW16: Garnitures
B17: Haricots verts persillés | D17: Haricots blancs à la tomate | F17: Pâtes | H17: Polenta crémeuse | J17: Poêlée de légumes | L17: Région ultra périphérique | N17: Légumes à la mexicaine | P17: Petit épeautre | R17: Julienne de légumes | T17: Chou fleur béchamel | X17: Région ultra périphérique | Z17: Polenta crémeuse | AB17: Légumes couscous (carottes, courgettes, courge, navet) | AD17: Endives caramélisées | AF17: féculents | AH17: Carottes braisées | AJ17: Région ultra périphérique | AV17: Région ultra périphérique
A18: Produits laitiers | B18: 2 fromages à la coupe | D18: 2 fromages à la coupe | F18: 2 fromages à la coupe | H18: 2 fromages à la coupe | J18: 2 fromages à la coupe | M18: Produits laitiers | N18: 2 fromages à la coupe | P18: 2 fromages à la coupe | R18: 2 fromages à la coupe | T18: 2 fromages à la coupe | Y18: Produits laitiers | Z18: 2 fromages à la coupe | AB18: 2 fromages à la coupe | AD18: 2 fromages à la coupe | AF18: 2 fromages à la coupe | AH18: 2 fromages à la coupe | AK18: Produits laitiers | AW18: Produits
B19: dont 1 AOP/AOC/IGP | D19: dont 1 AOP/AOC/IGP | F19: dont 1 AOP/AOC/IGP | H19: dont 1 AOP/AOC/IGP | J19: dont 1 AOP/AOC/IGP | L19: Contient au moins 1 ingrédient bio | N19: dont 1 AOP/AOC/IGP | P19: dont 1 AOP/AOC/IGP | R19: dont 1 AOP/AOC/IGP | T19: dont 1 AOP/AOC/IGP | V19: dont 1 AOP/AOC/IGP | X19: Contient au moins 1 ingrédient bio | Z19: dont 1 AOP/AOC/IGP | AB19: dont 1 AOP/AOC/IGP | AD19: dont 1 AOP/AOC/IGP | AF19: dont 1 AOP/AOC/IGP | AH19: dont 1 AOP/AOC/IGP | AJ19: Contient au moins 1 ingrédient bio | AV19: Contient au moins 1 ingrédient bio | AW19: Laitiers
B20: 2 laitages dont 1 yaourt nature | D20: 2 laitages dont 1 yaourt nature | F20: 2 laitages dont 1 yaourt nature | H20: 2 laitages dont 1 yaourt nature | J20: 2 laitages dont 1 yaourt nature | L20: Contient au moins 1 ingrédient local | N20: 2 laitages dont 1 yaourt nature | P20: 2 laitages dont 1 yaourt nature | R20: 2 laitages dont 1 yaourt nature | T20: 2 laitages dont 1 yaourt nature | V20: 2 laitages dont 1 yaourt nature | X20: Contient au moins 1 ingrédient local | Z20: 2 laitages dont 1 yaourt nature | AB20: 2 laitages dont 1 yaourt nature | AD20: 2 laitages dont 1 yaourt nature | AF20: 2 laitages dont 1 yaourt nature | AH20: 2 laitages dont 1 yaourt nature | AJ20: Contient au moins 1 ingrédient local | AV20: Contient au moins 1 ingrédient local
A22: Desserts | B22: Ile flottante | D22: Banane choco coco | F22: Salade d'oranges à la cannelle | H22: Chou vanille | J22: Salade fruits frais | L22: Poisson frais | M22: Desserts | N22: Crème dessert chocolat | P22: Salade de fruits frais | R22: Banane caramelisée aux épices | T22: Salade d'ananas à la menthe | X22: Poisson frais | Y22: Desserts | Z22: Salade d'agrumes | AB22: Fromage blanc crème de marron | AD22: Ananas | AF22: pâtisserie | AH22: Salade de fruits frais | AJ22: Poisson frais | AK22: Desserts | AV22: Poisson frais | AW22: Desserts
B23: Liégeois | D23: Ananas | F23: Salade de fruits frais | H23: Gâteau au yaourt aux pépites de chocolat | J23: Smoothie fruits frais | L23: Plat végétarien | N23: Flan vanille | P23: Pamplemousse | R23: Pomme au four | T23: Salade de fruits frais | X23: Plat végétarien | Z23: Banane au chocolat | AB23: Panna cotta caramel | AD23: Salade de fruits frais | AH23: Salade d'oranges à la fleur d'oranger | AJ23: Plat végétarien | AV23: Plat végétarien
B24: Compote sans sucre ajouté ARA | D24: Abricots au sirop léger | F24: Compote sans sucre ajouté ARA | J24: Compote sans sucre ajouté ARA | N24: Pêches au sirop léger | P24: Compote sans sucre ajouté ARA | R24: Compote sans sucre ajouté ARA | T24: Compote sans sucre ajouté ARA | Z24: Compote sans sucre ajouté ARA | AB24: Pêche au coulis | AD24: Cocktail de fruits au sirop | AH24: Compote sans sucre ajouté ARA
B25: Corbeille de fruits frais | D25: Corbeille de fruits frais | F25: Corbeille de fruits frais | H25: Corbeille de fruits frais | J25: Corbeille de fruits frais | N25: Corbeille de fruits frais | P25: Corbeille de fruits frais | R25: Corbeille de fruits frais | T25: Corbeille de fruits frais | V25: Corbeille de fruits frais | Z25: Corbeille de fruits frais | AB25: Corbeille de fruits frais | AD25: Corbeille de fruits frais | AF25: Corbeille de fruits frais | AH25: Corbeille de fruits frais

Sheet All S1
A1: AFFICHAGE DES ALLERGENES PRÉSENTS VOLONTAIREMENT DANS LES MENUS
B2: GLUTEN | C2: LAIT | D2: OEUF | E2: POISSON | F2: SOJA | G2: MOLLUSQUES / CRUSTACÉS | H2: SÉSAME | I2: ARACHIDE | J2: MOUTARDE | K2: LUPIN | L2: CELERI | M2: FRUITS A COQUE | N2: SULFITES
A3: Vinaigrette | J3: X | N3: X
A4: Pain | B4: X
A5: Fromages | C5: X | D5: X
A6: Laitages | C6: X
A7: Corbeille de fruits frais
A8: ='Menus déjeuner'!$F$3 -> 46293
A9: ='Menus déjeuner'!B10 -> Courgettes râpées | J9: X | N9: X
A10: ='Menus déjeuner'!B11 -> Endives aux noix | J10: X | M10: X | N10: X
A11: ='Menus déjeuner'!B12 -> Taboulé de chou fleur | J11: X | N11: X
A12: ='Menus déjeuner'!B13 -> Salade verte | J12: X | N12: X
A13: ='Menus déjeuner'!B14 -> Pilons de poulet tex mex (Egalim EE) | B13: X | C13: X | D13: X | H13: X | L13: X | N13: X
A14: ='Menus déjeuner'!B15 -> Filet de poisson aux agrumes | B14: X | C14: X | D14: X | E14: X | L14: X | N14: X
A15: ='Menus déjeuner'!B16 -> Macaronis semi complèts | B15: X | C15: X | D15: X
A16: ='Menus déjeuner'!B17 -> Haricots verts persillés | C16: X | N16: X
A17: ='Menus déjeuner'!B22 -> Ile flottante | C17: X | D17: X | M17: X | N17: X
A18: ='Menus déjeuner'!B23 -> Liégeois | C18: X
A19: ='Menus déjeuner'!B24 -> Compote sans sucre ajouté ARA
A20: =+A8+1 -> 46294
A21: ='Menus déjeuner'!D10 -> Tarte à la tomate | B21: X | C21: X | D21: X | F21: X | J21: X | N21: X
A22: ='Menus déjeuner'!D11 -> Bruschetta | B22: X | C22: X | D22: X
A23: ='Menus déjeuner'!D12 -> Cake olive emmental | B23: X | C23: X | D23: X
A24: ='Menus déjeuner'!D13 -> Salade verte | J24: X | N24: X
A25: ='Menus déjeuner'!D14 -> Émincé de bœuf aux oignons | B25: X | C25: X | D25: X | L25: X | N25: X
A26: ='Menus déjeuner'!D15 -> Omelette | C26: X | D26: X
A27: ='Menus déjeuner'!D16 -> Carottes au beurre | C27: X
A28: ='Menus déjeuner'!D17 -> Haricots blancs à la tomate | C28: X | L28: X
A29: ='Menus déjeuner'!D22 -> Banane choco coco | C29: X | F29: X
A30: ='Menus déjeuner'!D23 -> Ananas
A31: ='Menus déjeuner'!D24 -> Abricots au sirop léger
A32: =+A20+1 -> 46295
A33: ='Menus déjeuner'!F10 -> Mousse de betteraves | C33: X | J33: X | N33: X
A34: ='Menus déjeuner'!F11 -> Salade de haricots beurre au chorizo | C34: X | F34: X | J34: X | N34: X
A35: ='Menus déjeuner'!F12 -> Macédoine mayonnaise curry | C35: X | D35: X | J35: X | N35: X
A36: ='Menus déjeuner'!F13 -> Salade verte | J36: X | N36: X
A37: ='Menus déjeuner'!F14 -> Escalope de dinde aux herbes (Egalim EE) | B37: X | C37: X | D37: X | L37: X | N37: X
A38: ='Menus déjeuner'!F15 -> Gratin de pâtes aux légumes frais et secs (plat complet) | B38: X | C38: X | D38: X | L38: X | N38: X
A39: ='Menus déjeuner'!F16 -> Aubergines poêlées | C39: X | N39: X
A40: ='Menus déjeuner'!F17 -> Pâtes | B40: X | C40: X | D40: X
A41: ='Menus déjeuner'!F22 -> Salade d'oranges à la cannelle
A42: ='Menus déjeuner'!F23 -> Salade de fruits frais | N42: X
A43: ='Menus déjeuner'!F24 -> Compote sans sucre ajouté ARA
A44: =+A32+1 -> 46296
A45: ='Menus déjeuner'!H10 -> Radis | C45: X
A46: ='Menus déjeuner'!H11 -> Dernière tomate basilic | J46: X | N46: X
A47: ='Menus déjeuner'!H12 -> Concombre au fromage blanc | C47: X | J47: X | N47: X
A48: ='Menus déjeuner'!H13 -> Salade verte | J48: X | N48: X
A49: ='Menus déjeuner'!H14 -> Œufs brouillés | C49: X | D49: X
A50: ='Menus déjeuner'!H15 -> Longe de porc confite (CE2) | B50: X | C50: X | D50: X | L50: X | N50: X
A51: ='Menus déjeuner'!H16 -> Épinards à la crème | C51: X
A52: ='Menus déjeuner'!H17 -> Polenta crémeuse | C52: X
A53: ='Menus déjeuner'!H22 -> Chou vanille | B53: X | C53: X | D53: X | F53: X
A54: ='Menus déjeuner'!H23 -> Gâteau au yaourt aux pépites de chocolat | B54: X | C54: X | D54: X | F54: X
A55: ='Menus déjeuner'!H24 -> 0
A56: =+A44+1 -> 46297
A57: ='Menus déjeuner'!J10 -> Velouté de légumes à la crème | C57: X | L57: X
A58: ='Menus déjeuner'!J11 -> Courgettes mimosa | C58: X | D58: X | J58: X | N58: X
A59: ='Menus déjeuner'!J12 -> Salade de petits pois, féta et zeste de citron | C59: X | D59: X | J59: X | N59: X
A60: ='Menus déjeuner'!J13 -> Salade verte | J60: X | N60: X
A61: ='Menus déjeuner'!J14 -> Cassolette de poisson à la provençale | B61: X | C61: X | D61: X | E61: X | L61: X | N61: X
A62: ='Menus déjeuner'!J15 -> Falafels fèves & menthe | B62: X | C62: X | J62: X | N62: X
A63: ='Menus déjeuner'!J16 -> Écrasé de pommes de terre | C63: X
A64: ='Menus déjeuner'!J17 -> Poêlée de légumes | C64: X | L64: X
A65: ='Menus déjeuner'!J22 -> Salade fruits frais | N65: X
A66: ='Menus déjeuner'!J23 -> Smoothie fruits frais | C66: X | N66: X
A67: ='Menus déjeuner'!J24 -> Compote sans sucre ajouté ARA

Sheet All S2
A1: AFFICHAGE DES ALLERGENES PRÉSENTS VOLONTAIREMENT DANS LES MENUS
B2: GLUTEN | C2: LAIT | D2: OEUF | E2: POISSON | F2: SOJA | G2: MOLLUSQUES / CRUSTACÉS | H2: SÉSAME | I2: ARACHIDE | J2: MOUTARDE | K2: LUPIN | L2: CELERI | M2: FRUITS A COQUE | N2: SULFITES
A3: Vinaigrette | J3: X | N3: X
A4: Pain | B4: X
A5: Fromages | C5: X | D5: X
A6: Laitages | C6: X
A7: Corbeille de fruits frais
A8: ='Menus déjeuner'!$R$3 -> 46300
A9: ='Menus déjeuner'!N10 -> Salade de tomate au pesto | J9: X | M9: X | N9: X
A10: ='Menus déjeuner'!N11 -> Concombre au yaourt | C10: X | J10: X | N10: X
A11: ='Menus déjeuner'!N12 -> Coleslaw | C11: X | D11: X | J11: X | N11: X
A12: ='Menus déjeuner'!N13 -> Salade verte | J12: X | N12: X
A13: ='Menus déjeuner'!N14 -> Dinde à la normande (Egalim EE) | B13: X | C13: X | D13: X | L13: X | N13: X
A14: ='Menus déjeuner'!N15 -> Omelette à la mexicaine (haricots rouges, tomates, maïs …) | C14: X | D14: X | J14: X | L14: X
A15: ='Menus déjeuner'!N16 -> Frites
A16: ='Menus déjeuner'!N17 -> Légumes à la mexicaine | C16: X | J16: X | L16: X
A17: ='Menus déjeuner'!N22 -> Crème dessert chocolat | C17: X | D17: X | F17: X
A18: ='Menus déjeuner'!N23 -> Flan vanille | C18: X | D18: X
A19: ='Menus déjeuner'!N24 -> Pêches au sirop léger
A20: =+A8+1 -> 46301
A21: ='Menus déjeuner'!P10 -> Salade de blé | B21: X | C21: X | D21: X | E21: X | J21: X | N21: X
A22: ='Menus déjeuner'!P11 -> Salade de pates semi complètes | B22: X | C22: X | D22: X | E22: X | J22: X | N22: X
A23: ='Menus déjeuner'!P12 -> Crème de pois cassés | C23: X
A24: ='Menus déjeuner'!P13 -> Salade verte | J24: X | N24: X
A25: ='Menus déjeuner'!P14 -> Plein filet pané | B25: X | C25: X | D25: X | E25: X
A26: ='Menus déjeuner'!P15 -> Francfort fumées (CE2)
A27: ='Menus déjeuner'!P16 -> Purée de potiron | C27: X
A28: ='Menus déjeuner'!P17 -> Petit épeautre | B28: X | C28: X
A29: ='Menus déjeuner'!P22 -> Salade de fruits frais | N29: X
A30: ='Menus déjeuner'!P23 -> Pamplemousse
A31: ='Menus déjeuner'!P24 -> Compote sans sucre ajouté ARA
A32: =+A20+1 -> 46302
A33: ='Menus déjeuner'!R10 -> Velouté de potiron | C33: X
A34: ='Menus déjeuner'!R11 -> Brocoli ravigote | C34: X | D34: X | J34: X | N34: X
A35: ='Menus déjeuner'!R12 -> Haricots verts à l'échalote | J35: X | N35: X
A36: ='Menus déjeuner'!R13 -> Salade verte | J36: X | N36: X
A37: ='Menus déjeuner'!R14 -> Bœuf bourguignon | B37: X | C37: X | D37: X | L37: X | N37: X
A38: ='Menus déjeuner'!R15 -> Œufs durs Mornay | B38: X | C38: X | D38: X
A39: ='Menus déjeuner'!R16 -> Torsades | B39: X | C39: X | D39: X
A40: ='Menus déjeuner'!R17 -> Julienne de légumes | C40: X | L40: X
A41: ='Menus déjeuner'!R22 -> Banane caramelisée aux épices | C41: X | N41: X
A42: ='Menus déjeuner'!R23 -> Pomme au four | C42: X | M42: X | N42: X
A43: ='Menus déjeuner'!R24 -> Compote sans sucre ajouté ARA
A44: =+A32+1 -> 46303
A45: ='Menus déjeuner'!T10 -> Macédoine mayonnaise | C45: X | D45: X | J45: X | N45: X
A46: ='Menus déjeuner'!T11 -> Crème de butternut au lait de coco | J46: X | N46: X
A47: ='Menus déjeuner'!T12 -> Poireaux vinaigrette | J47: X | N47: X
A48: ='Menus déjeuner'!T13 -> Salade verte | J48: X | N48: X
A49: ='Menus déjeuner'!T14 -> Rougail de poulet (Egalim EE) | B49: X | C49: X | D49: X | L49: X | N49: X
A50: ='Menus déjeuner'!T15 -> Quenelles au coulis | B50: X | C50: X | D50: X | L50: X | N50: X
A51: ='Menus déjeuner'!T16 -> Riz pilaf | B51: X | C51: X | D51: X | L51: X | N51: X
A52: ='Menus déjeuner'!T17 -> Chou fleur béchamel | B52: X | C52: X | D52: X
A53: ='Menus déjeuner'!T22 -> Salade d'ananas à la menthe
A54: ='Menus déjeuner'!T23 -> Salade de fruits frais | N54: X
A55: ='Menus déjeuner'!T24 -> Compote sans sucre ajouté ARA
A56: =+A44+1 -> 46304
A57: ='Menus déjeuner'!V10 -> Chou chinois au sésame | J57: X | N57: X
A58: ='Menus déjeuner'!V11 -> Carottes et potimarron râpés | J58: X
A59: ='Menus déjeuner'!V12 -> Salade de radis aux fines herbes | C59: X | J59: X | N59: X
A60: ='Menus déjeuner'!V13 -> 0
A61: ='Menus déjeuner'!V14 -> 0
A62: ='Menus déjeuner'!V15 -> poisson
A63: ='Menus déjeuner'!V16 -> 0
A64: ='Menus déjeuner'!V17 -> 0
A65: ='Menus déjeuner'!V22 -> 0
A66: ='Menus déjeuner'!V23 -> 0
A67: ='Menus déjeuner'!V24 -> 0

Sheet All S3
A1: AFFICHAGE DES ALLERGENES PRÉSENTS VOLONTAIREMENT DANS LES MENUS
B2: GLUTEN | C2: LAIT | D2: OEUF | E2: POISSON | F2: SOJA | G2: MOLLUSQUES / CRUSTACÉS | H2: SÉSAME | I2: ARACHIDE | J2: MOUTARDE | K2: LUPIN | L2: CELERI | M2: FRUITS A COQUE | N2: SULFITES
A3: Vinaigrette | J3: X | N3: X
A4: Pain | B4: X
A5: Fromages | C5: X | D5: X
A6: Laitages | C6: X
A7: Corbeille de fruits frais
A8: ='Menus déjeuner'!$AD$3 -> 46307
A9: ='Menus déjeuner'!Z10 -> Taboulé de boulgour | B9: X | C9: X | D9: X | E9: X | J9: X | N9: X
A10: ='Menus déjeuner'!Z11 -> Salade de pâtes | B10: X | C10: X | D10: X | E10: X | J10: X | N10: X
A11: ='Menus déjeuner'!Z12 -> Salade de maïs | J11: X | N11: X
A12: ='Menus déjeuner'!Z13 -> Salade verte | J12: X | N12: X
A13: ='Menus déjeuner'!Z14 -> Filet de poisson à la bisque | B13: X | C13: X | D13: X | E13: X | G13: X | L13: X | N13: X
A14: ='Menus déjeuner'!Z15 -> Brouillade d'œufs | C14: X | D14: X
A15: ='Menus déjeuner'!Z16 -> Haricots beurre | C15: X | N15: X
A16: ='Menus déjeuner'!Z17 -> Polenta crémeuse | C16: X
A17: ='Menus déjeuner'!Z22 -> Salade d'agrumes
A18: ='Menus déjeuner'!Z23 -> Banane au chocolat | C18: X | F18: X | M18: X
A19: ='Menus déjeuner'!Z24 -> Compote sans sucre ajouté ARA
A20: =+A8+1 -> 46308
A21: ='Menus déjeuner'!AB10 -> Rémoulade de radis noir | C21: X | D21: X | J21: X | N21: X
A22: ='Menus déjeuner'!AB11 -> Salade de tomate et concombre | J22: X | N22: X
A23: ='Menus déjeuner'!AB12 -> Chou blanc & croutons | C23: X | D23: X | J23: X | N23: X
A24: ='Menus déjeuner'!AB13 -> Salade verte | J24: X | N24: X
A25: ='Menus déjeuner'!AB14 -> Poêlée de pois chiches à l'orientale | B25: X | C25: X | D25: X | L25: X | N25: X
A26: ='Menus déjeuner'!AB15 -> Sauté de dinde à la tomate (Eglim EE) | B26: X | C26: X | D26: X | L26: X | N26: X
A27: ='Menus déjeuner'!AB16 -> Semoule semi complète | B27: X | C27: X
A28: ='Menus déjeuner'!AB17 -> Légumes couscous (carottes, courgettes, courge, navet) | C28: X | J28: X | L28: X
A29: ='Menus déjeuner'!AB22 -> Fromage blanc crème de marron | C29: X
A30: ='Menus déjeuner'!AB23 -> Panna cotta caramel | C30: X | N30: X
A31: ='Menus déjeuner'!AB24 -> Pêche au coulis
A32: =+A20+1 -> 46309
A33: ='Menus déjeuner'!AD10 -> Poireaux vinaigrette | J33: X | N33: X
A34: ='Menus déjeuner'!AD11 -> Betteraves vinaigrette | J34: X | N34: X
A35: ='Menus déjeuner'!AD12 -> Soupe de chou fleur au cheddar | B35: X | C35: X | D35: X | L35: X | N35: X
A36: ='Menus déjeuner'!AD13 -> Salade verte | J36: X | N36: X
A37: ='Menus déjeuner'!AD14 -> Haut de cuisse de poulet à l'ail | B37: X | C37: X | D37: X | L37: X | N37: X
A38: ='Menus déjeuner'!AD15 -> Œufs durs sauce tomate | B38: X | C38: X | D38: X | L38: X
A39: ='Menus déjeuner'!AD16 -> Tortis | B39: X | C39: X | D39: X
A40: ='Menus déjeuner'!AD17 -> Endives caramélisées | C40: X
A41: ='Menus déjeuner'!AD22 -> Ananas
A42: ='Menus déjeuner'!AD23 -> Salade de fruits frais | N42: X
A43: ='Menus déjeuner'!AD24 -> Cocktail de fruits au sirop
A44: =+A32+1 -> 46310
A45: ='Menus déjeuner'!AF10 -> Animation
A46: ='Menus déjeuner'!AF11 -> 0
A47: ='Menus déjeuner'!AF12 -> 0
A48: ='Menus déjeuner'!AF13 -> Salade verte | J48: X | N48: X
A49: ='Menus déjeuner'!AF14 -> porc
A50: ='Menus déjeuner'!AF15 -> 0
A51: ='Menus déjeuner'!AF16 -> légumes
A52: ='Menus déjeuner'!AF17 -> féculents
A53: ='Menus déjeuner'!AF22 -> pâtisserie
A54: ='Menus déjeuner'!AF23 -> 0
A55: ='Menus déjeuner'!AF24 -> 0
A56: =+A44+1 -> 46311
A57: ='Menus déjeuner'!AH10 -> Pain perdu salé au jambon | B57: X | C57: X | D57: X | F57: X | L57: X
A58: ='Menus déjeuner'!AH11 -> Cake légumes et fromage | B58: X | C58: X | D58: X
A59: ='Menus déjeuner'!AH12 -> Quiche au thon | B59: X | C59: X | D59: X | E59: X
A60: ='Menus déjeuner'!AH13 -> Salade verte | J60: X | N60: X
A61: ='Menus déjeuner'!AH14 -> Sauté de bœuf à la tomate | B61: X | C61: X | D61: X | L61: X | N61: X
A62: ='Menus déjeuner'!AH15 -> Tajine de poisson | B62: X | C62: X | D62: X | E62: X | J62: X | L62: X | N62: X
A63: ='Menus déjeuner'!AH16 -> Haricots rouges à la cubaine (oignon, paprika, vinaigre balsamique, poivrons, cumin, ail) | C63: X | N63: X
A64: ='Menus déjeuner'!AH17 -> Carottes braisées | C64: X | N64: X
A65: ='Menus déjeuner'!AH22 -> Salade de fruits frais | N65: X
A66: ='Menus déjeuner'!AH23 -> Salade d'oranges à la fleur d'oranger
A67: ='Menus déjeuner'!AH24 -> Compote sans sucre ajouté ARA

Sheet All S4
A1: AFFICHAGE DES ALLERGENES PRÉSENTS VOLONTAIREMENT DANS LES MENUS
B2: GLUTEN | C2: LAIT | D2: OEUF | E2: POISSON | F2: SOJA | G2: MOLLUSQUES / CRUSTACÉS | H2: SÉSAME | I2: ARACHIDE | J2: MOUTARDE | K2: LUPIN | L2: CELERI | M2: FRUITS A COQUE | N2: SULFITES
A3: Vinaigrette | J3: X | N3: X
A4: Pain | B4: X
A5: Fromages | C5: X | D5: X
A6: Laitages | C6: X
A7: Corbeille de fruits frais
A8: ='Menus déjeuner'!$AP$3 -> 46314
A9: ='Menus déjeuner'!AL10 -> 0
A10: ='Menus déjeuner'!AL11 -> 0
A11: ='Menus déjeuner'!AL12 -> 0
A12: ='Menus déjeuner'!AL13 -> 0
A13: ='Menus déjeuner'!AL14 -> 0
A14: ='Menus déjeuner'!AL15 -> 0
A15: ='Menus déjeuner'!AL16 -> 0
A16: ='Menus déjeuner'!AL17 -> 0
A17: ='Menus déjeuner'!AL22 -> 0
A18: ='Menus déjeuner'!AL23 -> 0
A19: ='Menus déjeuner'!AL24 -> 0
A20: =+A8+1 -> 46315
A21: ='Menus déjeuner'!AN10 -> 0
A22: ='Menus déjeuner'!AN11 -> 0
A23: ='Menus déjeuner'!AN12 -> 0
A24: ='Menus déjeuner'!AN13 -> 0
A25: ='Menus déjeuner'!AN14 -> 0
A26: ='Menus déjeuner'!AN15 -> 0
A27: ='Menus déjeuner'!AN16 -> 0
A28: ='Menus déjeuner'!AN17 -> 0
A29: ='Menus déjeuner'!AN22 -> 0
A30: ='Menus déjeuner'!AN23 -> 0
A31: ='Menus déjeuner'!AN24 -> 0
A32: =+A20+1 -> 46316
A33: ='Menus déjeuner'!AP10 -> 0
A34: ='Menus déjeuner'!AP11 -> 0
A35: ='Menus déjeuner'!AP12 -> 0
A36: ='Menus déjeuner'!AP13 -> 0
A37: ='Menus déjeuner'!AP14 -> 0
A38: ='Menus déjeuner'!AP15 -> 0
A39: ='Menus déjeuner'!AP16 -> 0
A40: ='Menus déjeuner'!AP17 -> 0
A41: ='Menus déjeuner'!AP22 -> 0
A42: ='Menus déjeuner'!AP23 -> 0
A43: ='Menus déjeuner'!AP24 -> 0
A44: =+A32+1 -> 46317
A45: ='Menus déjeuner'!AR10 -> 0
A46: ='Menus déjeuner'!AR11 -> 0
A47: ='Menus déjeuner'!AR12 -> 0
A48: ='Menus déjeuner'!AR13 -> 0
A49: ='Menus déjeuner'!AR14 -> 0
A50: ='Menus déjeuner'!AR15 -> 0
A51: ='Menus déjeuner'!AR16 -> 0
A52: ='Menus déjeuner'!AR17 -> 0
A53: ='Menus déjeuner'!AR22 -> 0
A54: ='Menus déjeuner'!AR23 -> 0
A55: ='Menus déjeuner'!AR24 -> 0
A56: =+A44+1 -> 46318
A57: ='Menus déjeuner'!AT10 -> 0
A58: ='Menus déjeuner'!AT11 -> 0
A59: ='Menus déjeuner'!AT12 -> 0
A60: ='Menus déjeuner'!AT13 -> 0
A61: ='Menus déjeuner'!AT14 -> 0
A62: ='Menus déjeuner'!AT15 -> 0
A63: ='Menus déjeuner'!AT16 -> 0
A64: ='Menus déjeuner'!AT17 -> 0
A65: ='Menus déjeuner'!AT22 -> 0
A66: ='Menus déjeuner'!AT23 -> 0
A67: ='Menus déjeuner'!AT24 -> 0

Sheet Menus S1
C3: ='Menus déjeuner'!F3 -> 46293 | H3: =C3+1 -> 46294 | M3: =H3+1 -> 46295 | R3: =C3+3 -> 46296 | W3: =C3+4 -> 46297
C4: DEJEUNER | H4: DEJEUNER | M4: DEJEUNER | R4: DEJEUNER | W4: DEJEUNER
A6: La liste des allergènes présents volontairement dans les préparations est affichée à l'entrée du restaurant, conformément au règlement UE n° 1169/2011 | F6: La liste des allergènes présents volontairement dans les préparations est affichée à l'entrée du restaurant, conformément au règlement UE n° 1169/2011 | K6: La liste des allergènes présents volontairement dans les préparations est affichée à l'entrée du restaurant, conformément au règlement UE n° 1169/2011 | P6: La liste des allergènes présents volontairement dans les préparations est affichée à l'entrée du restaurant, conformément au règlement UE n° 1169/2011 | U6: La liste des allergènes présents volontairement dans les préparations est affichée à l'entrée du restaurant, conformément au règlement UE n° 1169/2011
A12: 0 | F12: 0 | K12: 0 | P12: 0 | U12: 0
A13: ='Menus déjeuner'!B10 -> Courgettes râpées | F13: ='Menus déjeuner'!D10 -> Tarte à la tomate | K13: ='Menus déjeuner'!F10 -> Mousse de betteraves | P13: ='Menus déjeuner'!H10 -> Radis | U13: ='Menus déjeuner'!J10 -> Velouté de légumes à la crème
A14: ='Menus déjeuner'!B11 -> Endives aux noix | F14: ='Menus déjeuner'!D11 -> Bruschetta | K14: ='Menus déjeuner'!F11 -> Salade de haricots beurre au chorizo | P14: ='Menus déjeuner'!H11 -> Dernière tomate basilic | U14: ='Menus déjeuner'!J11 -> Courgettes mimosa
A15: ='Menus déjeuner'!B12 -> Taboulé de chou fleur | F15: ='Menus déjeuner'!D12 -> Cake olive emmental | K15: ='Menus déjeuner'!F12 -> Macédoine mayonnaise curry | P15: ='Menus déjeuner'!H12 -> Concombre au fromage blanc | U15: ='Menus déjeuner'!J12 -> Salade de petits pois, féta et zeste de citron
A16: ='Menus déjeuner'!B13 -> Salade verte | F16: ='Menus déjeuner'!D13 -> Salade verte | K16: ='Menus déjeuner'!F13 -> Salade verte | P16: ='Menus déjeuner'!H13 -> Salade verte | U16: ='Menus déjeuner'!J13 -> Salade verte
P17: 0
A18: 0 | C18: =A13 -> Courgettes râpées | F18: 0 | H18: =F13 -> Tarte à la tomate | K18: 0 | M18: =K13 -> Mousse de betteraves | P18: 0 | R18: =P13 -> Radis | U18: 0 | W18: =U13 -> Velouté de légumes à la crème
A23: ='Menus déjeuner'!B14 -> Pilons de poulet tex mex (Egalim EE) | C23: =A23 -> Pilons de poulet tex mex (Egalim EE) | F23: ='Menus déjeuner'!D14 -> Émincé de bœuf aux oignons | H23: =F23 -> Émincé de bœuf aux oignons | K23: ='Menus déjeuner'!F14 -> Escalope de dinde aux herbes (Egalim EE) | M23: =K23 -> Escalope de dinde aux herbes (Egalim EE) | P23: ='Menus déjeuner'!H14 -> Œufs brouillés | R23: =P23 -> Œufs brouillés | U23: ='Menus déjeuner'!J14 -> Cassolette de poisson à la provençale | W23: =U23 -> Cassolette de poisson à la provençale
A24: ='Menus déjeuner'!B15 -> Filet de poisson aux agrumes | F24: ='Menus déjeuner'!D15 -> Omelette | K24: ='Menus déjeuner'!F15 -> Gratin de pâtes aux légumes frais et secs (plat complet) | P24: ='Menus déjeuner'!H15 -> Longe de porc confite (CE2) | U24: ='Menus déjeuner'!J15 -> Falafels fèves & menthe
A26: 0 | F26: 0 | K26: 0 | P26: 0 | U26: 0
C28: =A31 -> Macaronis semi complèts | H28: =F31 -> Carottes au beurre | M28: =K31 -> Aubergines poêlées | R28: =P31 -> Épinards à la crème | W28: =U31 -> Écrasé de pommes de terre
A31: ='Menus déjeuner'!B16 -> Macaronis semi complèts | F31: ='Menus déjeuner'!D16 -> Carottes au beurre | K31: ='Menus déjeuner'!F16 -> Aubergines poêlées | P31: ='Menus déjeuner'!H16 -> Épinards à la crème | U31: ='Menus déjeuner'!J16 -> Écrasé de pommes de terre
A32: ='Menus déjeuner'!B17 -> Haricots verts persillés | F32: ='Menus déjeuner'!D17 -> Haricots blancs à la tomate | K32: ='Menus déjeuner'!F17 -> Pâtes | P32: ='Menus déjeuner'!H17 -> Polenta crémeuse | U32: ='Menus déjeuner'!J17 -> Poêlée de légumes
C33: =A38 -> 2 fromages à la coupe | F33: 0 | H33: =F38 -> 2 fromages à la coupe | M33: =K38 -> 2 fromages à la coupe | P33: 0 | R33: =P38 -> 2 fromages à la coupe | W33: =U38 -> 2 fromages à la coupe
K34: 0 | P34: 0 | U34: 0
A37: 0 | F37: 0 | K37: 0 | P37: 0 | U37: 0
A38: ='Menus déjeuner'!B18 -> 2 fromages à la coupe | C38: =A46 -> Ile flottante | F38: ='Menus déjeuner'!D18 -> 2 fromages à la coupe | H38: =F46 -> Banane choco coco | K38: ='Menus déjeuner'!F18 -> 2 fromages à la coupe | M38: =K46 -> Salade d'oranges à la cannelle | P38: ='Menus déjeuner'!H18 -> 2 fromages à la coupe | R38: =P46 -> Chou vanille | U38: ='Menus déjeuner'!J18 -> 2 fromages à la coupe | W38: =U46 -> Salade fruits frais
A39: ='Menus déjeuner'!B19 -> dont 1 AOP/AOC/IGP | F39: ='Menus déjeuner'!D19 -> dont 1 AOP/AOC/IGP | K39: ='Menus déjeuner'!F19 -> dont 1 AOP/AOC/IGP | P39: ='Menus déjeuner'!H19 -> dont 1 AOP/AOC/IGP | U39: ='Menus déjeuner'!J19 -> dont 1 AOP/AOC/IGP
A40: ='Menus déjeuner'!B20 -> 2 laitages dont 1 yaourt nature | F40: ='Menus déjeuner'!D20 -> 2 laitages dont 1 yaourt nature | K40: ='Menus déjeuner'!F20 -> 2 laitages dont 1 yaourt nature | P40: ='Menus déjeuner'!H20 -> 2 laitages dont 1 yaourt nature | U40: ='Menus déjeuner'!J20 -> 2 laitages dont 1 yaourt nature
A41: ='Menus déjeuner'!B21 -> 0 | F41: ='Menus déjeuner'!D21 -> 0 | K41: ='Menus déjeuner'!F21 -> 0 | P41: ='Menus déjeuner'!H21 -> 0 | U41: ='Menus déjeuner'!J21 -> 0
A45: 0 | F45: 0 | K45: 0 | P45: 0 | U45: 0
A46: ='Menus déjeuner'!B22 -> Ile flottante | F46: ='Menus déjeuner'!D22 -> Banane choco coco | K46: ='Menus déjeuner'!F22 -> Salade d'oranges à la cannelle | P46: ='Menus déjeuner'!H22 -> Chou vanille | U46: ='Menus déjeuner'!J22 -> Salade fruits frais
A47: ='Menus déjeuner'!B23 -> Liégeois | F47: ='Menus déjeuner'!D23 -> Ananas | K47: ='Menus déjeuner'!F23 -> Salade de fruits frais | P47: ='Menus déjeuner'!H23 -> Gâteau au yaourt aux pépites de chocolat | U47: ='Menus déjeuner'!J23 -> Smoothie fruits frais
A48: ='Menus déjeuner'!B24 -> Compote sans sucre ajouté ARA | F48: ='Menus déjeuner'!D24 -> Abricots au sirop léger | K48: ='Menus déjeuner'!F24 -> Compote sans sucre ajouté ARA | P48: ='Menus déjeuner'!H24 -> 0 | U48: ='Menus déjeuner'!J24 -> Compote sans sucre ajouté ARA
A49: ='Menus déjeuner'!B25 -> Corbeille de fruits frais | F49: ='Menus déjeuner'!D25 -> Corbeille de fruits frais | K49: ='Menus déjeuner'!F25 -> Corbeille de fruits frais | P49: ='Menus déjeuner'!H25 -> Corbeille de fruits frais | U49: ='Menus déjeuner'!J25 -> Corbeille de fruits frais
U50: 0

Sheet Menus S2
C3: ='Menus déjeuner'!R3 -> 46300 | H3: =C3+1 -> 46301 | M3: =H3+1 -> 46302 | R3: =C3+3 -> 46303 | W3: =C3+4 -> 46304
C4: DEJEUNER | H4: DEJEUNER | M4: DEJEUNER | R4: DEJEUNER | W4: DEJEUNER
A6: La liste des allergènes présents volontairement dans les préparations est affichée à l'entrée du restaurant, conformément au règlement UE n° 1169/2011 | F6: La liste des allergènes présents volontairement dans les préparations est affichée à l'entrée du restaurant, conformément au règlement UE n° 1169/2011 | K6: La liste des allergènes présents volontairement dans les préparations est affichée à l'entrée du restaurant, conformément au règlement UE n° 1169/2011 | P6: La liste des allergènes présents volontairement dans les préparations est affichée à l'entrée du restaurant, conformément au règlement UE n° 1169/2011 | U6: La liste des allergènes présents volontairement dans les préparations est affichée à l'entrée du restaurant, conformément au règlement UE n° 1169/2011
A12: 0 | F12: 0 | P12: 0 | U12: 0
A13: ='Menus déjeuner'!N10 -> Salade de tomate au pesto | F13: ='Menus déjeuner'!P10 -> Salade de blé | K13: ='Menus déjeuner'!R10 -> Velouté de potiron | P13: ='Menus déjeuner'!T10 -> Macédoine mayonnaise | U13: ='Menus déjeuner'!V10 -> Chou chinois au sésame
A14: ='Menus déjeuner'!N11 -> Concombre au yaourt | F14: ='Menus déjeuner'!P11 -> Salade de pates semi complètes | K14: ='Menus déjeuner'!R11 -> Brocoli ravigote | P14: ='Menus déjeuner'!T11 -> Crème de butternut au lait de coco | U14: ='Menus déjeuner'!V11 -> Carottes et potimarron râpés
A15: ='Menus déjeuner'!N12 -> Coleslaw | F15: ='Menus déjeuner'!P12 -> Crème de pois cassés | K15: ='Menus déjeuner'!R12 -> Haricots verts à l'échalote | P15: ='Menus déjeuner'!T12 -> Poireaux vinaigrette | U15: ='Menus déjeuner'!V12 -> Salade de radis aux fines herbes
A16: ='Menus déjeuner'!N13 -> Salade verte | F16: ='Menus déjeuner'!P13 -> Salade verte | K16: ='Menus déjeuner'!R13 -> Salade verte | P16: ='Menus déjeuner'!T13 -> Salade verte | U16: ='Menus déjeuner'!J13 -> Salade verte
P17: 0
A18: 0 | C18: =A13 -> Salade de tomate au pesto | F18: 0 | H18: =F13 -> Salade de blé | M18: =K13 -> Velouté de potiron | P18: 0 | R18: =P13 -> Macédoine mayonnaise | U18: 0 | W18: =U13 -> Chou chinois au sésame
A23: ='Menus déjeuner'!N14 -> Dinde à la normande (Egalim EE) | C23: =A23 -> Dinde à la normande (Egalim EE) | F23: ='Menus déjeuner'!P14 -> Plein filet pané | H23: =F23 -> Plein filet pané | K23: ='Menus déjeuner'!R14 -> Bœuf bourguignon | M23: =K23 -> Bœuf bourguignon | P23: ='Menus déjeuner'!T14 -> Rougail de poulet (Egalim EE) | R23: =P23 -> Rougail de poulet (Egalim EE) | U23: ='Menus déjeuner'!V14 -> 0 | W23: =U23 -> 0
A24: ='Menus déjeuner'!N15 -> Omelette à la mexicaine (haricots rouges, tomates, maïs …) | F24: ='Menus déjeuner'!P15 -> Francfort fumées (CE2) | K24: ='Menus déjeuner'!R15 -> Œufs durs Mornay | P24: ='Menus déjeuner'!T15 -> Quenelles au coulis | U24: ='Menus déjeuner'!V15 -> poisson
A26: 0 | F26: 0 | K26: 0 | P26: 0 | U26: 0
C28: =A31 -> Frites | H28: =F31 -> Purée de potiron | M28: =K31 -> Torsades | R28: =P31 -> Riz pilaf | W28: =U31 -> 0
A31: ='Menus déjeuner'!N16 -> Frites | F31: ='Menus déjeuner'!P16 -> Purée de potiron | K31: ='Menus déjeuner'!R16 -> Torsades | P31: ='Menus déjeuner'!T16 -> Riz pilaf | U31: ='Menus déjeuner'!V16 -> 0
A32: ='Menus déjeuner'!N17 -> Légumes à la mexicaine | F32: ='Menus déjeuner'!P17 -> Petit épeautre | K32: ='Menus déjeuner'!R17 -> Julienne de légumes | P32: ='Menus déjeuner'!T17 -> Chou fleur béchamel | U32: ='Menus déjeuner'!V17 -> 0
C33: =A38 -> 2 fromages à la coupe | F33: ='Menus déjeuner'!#REF! -> #REF! | H33: =F38 -> 2 fromages à la coupe | M33: =K38 -> 2 fromages à la coupe | R33: =P38 -> 2 fromages à la coupe | W33: =U38 -> 0
K34: 0 | P34: 0 | U34: 0
P37: 0 | U37: 0
A38: ='Menus déjeuner'!N18 -> 2 fromages à la coupe | C38: =A46 -> Crème dessert chocolat | F38: ='Menus déjeuner'!P18 -> 2 fromages à la coupe | H38: =F46 -> Salade de fruits frais | K38: ='Menus déjeuner'!R18 -> 2 fromages à la coupe | M38: =K46 -> Banane caramelisée aux épices | P38: ='Menus déjeuner'!T18 -> 2 fromages à la coupe | R38: =P46 -> Salade d'ananas à la menthe | U38: ='Menus déjeuner'!V18 -> 0 | W38: =U46 -> 0
A39: ='Menus déjeuner'!N19 -> dont 1 AOP/AOC/IGP | F39: ='Menus déjeuner'!P19 -> dont 1 AOP/AOC/IGP | K39: ='Menus déjeuner'!R19 -> dont 1 AOP/AOC/IGP | P39: ='Menus déjeuner'!T19 -> dont 1 AOP/AOC/IGP | U39: ='Menus déjeuner'!V19 -> dont 1 AOP/AOC/IGP
A40: ='Menus déjeuner'!N20 -> 2 laitages dont 1 yaourt nature | F40: ='Menus déjeuner'!P20 -> 2 laitages dont 1 yaourt nature | K40: ='Menus déjeuner'!R20 -> 2 laitages dont 1 yaourt nature | P40: ='Menus déjeuner'!T20 -> 2 laitages dont 1 yaourt nature | U40: ='Menus déjeuner'!J20 -> 2 laitages dont 1 yaourt nature
A41: ='Menus déjeuner'!N21 -> 0 | F41: ='Menus déjeuner'!P21 -> 0 | K41: ='Menus déjeuner'!R21 -> 0 | P41: ='Menus déjeuner'!T21 -> 0 | U41: ='Menus déjeuner'!J21 -> 0
P45: 0 | U45: 0
A46: ='Menus déjeuner'!N22 -> Crème dessert chocolat | F46: ='Menus déjeuner'!P22 -> Salade de fruits frais | K46: ='Menus déjeuner'!R22 -> Banane caramelisée aux épices | P46: ='Menus déjeuner'!T22 -> Salade d'ananas à la menthe | U46: ='Menus déjeuner'!V22 -> 0
A47: ='Menus déjeuner'!N23 -> Flan vanille | F47: ='Menus déjeuner'!P23 -> Pamplemousse | K47: ='Menus déjeuner'!R23 -> Pomme au four | P47: ='Menus déjeuner'!T23 -> Salade de fruits frais | U47: ='Menus déjeuner'!V23 -> 0
A48: ='Menus déjeuner'!N24 -> Pêches au sirop léger | F48: ='Menus déjeuner'!P24 -> Compote sans sucre ajouté ARA | K48: ='Menus déjeuner'!R24 -> Compote sans sucre ajouté ARA | P48: ='Menus déjeuner'!T24 -> Compote sans sucre ajouté ARA | U48: ='Menus déjeuner'!V24 -> 0
A49: ='Menus déjeuner'!N25 -> Corbeille de fruits frais | F49: ='Menus déjeuner'!P25 -> Corbeille de fruits frais | K49: ='Menus déjeuner'!R25 -> Corbeille de fruits frais | P49: ='Menus déjeuner'!H25 -> Corbeille de fruits frais | U49: ='Menus déjeuner'!V25 -> Corbeille de fruits frais
U50: 0

Sheet Menus S3
C3: =+'Menus déjeuner'!AD3 -> 46307 | H3: =C3+1 -> 46308 | M3: =H3+1 -> 46309 | R3: =C3+3 -> 46310 | W3: =C3+4 -> 46311
C4: DEJEUNER | H4: DEJEUNER | M4: DEJEUNER | R4: DEJEUNER | W4: DEJEUNER
A6: La liste des allergènes présents volontairement dans les préparations est affichée à l'entrée du restaurant, conformément au règlement UE n° 1169/2011 | F6: La liste des allergènes présents volontairement dans les préparations est affichée à l'entrée du restaurant, conformément au règlement UE n° 1169/2011 | K6: La liste des allergènes présents volontairement dans les préparations est affichée à l'entrée du restaurant, conformément au règlement UE n° 1169/2011 | P6: La liste des allergènes présents volontairement dans les préparations est affichée à l'entrée du restaurant, conformément au règlement UE n° 1169/2011 | U6: La liste des allergènes présents volontairement dans les préparations est affichée à l'entrée du restaurant, conformément au règlement UE n° 1169/2011
A12: 0 | F12: 0 | P12: 0 | U12: 0
A13: ='Menus déjeuner'!Z10 -> Taboulé de boulgour | F13: ='Menus déjeuner'!AB10 -> Rémoulade de radis noir | K13: ='Menus déjeuner'!AD10 -> Poireaux vinaigrette | P13: ='Menus déjeuner'!AF10 -> Animation | U13: ='Menus déjeuner'!AH10 -> Pain perdu salé au jambon
A14: ='Menus déjeuner'!Z11 -> Salade de pâtes | F14: ='Menus déjeuner'!AB11 -> Salade de tomate et concombre | K14: ='Menus déjeuner'!AD11 -> Betteraves vinaigrette | P14: ='Menus déjeuner'!AF11 -> 0 | U14: ='Menus déjeuner'!AH11 -> Cake légumes et fromage
A15: ='Menus déjeuner'!Z12 -> Salade de maïs | F15: ='Menus déjeuner'!AB12 -> Chou blanc & croutons | K15: ='Menus déjeuner'!AD12 -> Soupe de chou fleur au cheddar | P15: ='Menus déjeuner'!AF12 -> 0 | U15: ='Menus déjeuner'!AH12 -> Quiche au thon
A16: ='Menus déjeuner'!Z13 -> Salade verte | F16: ='Menus déjeuner'!AB13 -> Salade verte | K16: ='Menus déjeuner'!AD13 -> Salade verte | P16: ='Menus déjeuner'!T13 -> Salade verte | U16: ='Menus déjeuner'!J13 -> Salade verte
P17: 0
A18: 0 | C18: =A13 -> Taboulé de boulgour | F18: 0 | H18: =F13 -> Rémoulade de radis noir | M18: =K13 -> Poireaux vinaigrette | P18: 0 | R18: =P13 -> Animation | U18: 0 | W18: =U13 -> Pain perdu salé au jambon
A23: ='Menus déjeuner'!Z14 -> Filet de poisson à la bisque | C23: =A23 -> Filet de poisson à la bisque | F23: ='Menus déjeuner'!AB14 -> Poêlée de pois chiches à l'orientale | H23: =F23 -> Poêlée de pois chiches à l'orientale | K23: ='Menus déjeuner'!AD14 -> Haut de cuisse de poulet à l'ail | M23: =K23 -> Haut de cuisse de poulet à l'ail | P23: ='Menus déjeuner'!AF14 -> porc | R23: =P23 -> porc | U23: ='Menus déjeuner'!AH14 -> Sauté de bœuf à la tomate | W23: =U23 -> Sauté de bœuf à la tomate
A24: ='Menus déjeuner'!Z15 -> Brouillade d'œufs | F24: ='Menus déjeuner'!AB15 -> Sauté de dinde à la tomate (Eglim EE) | K24: ='Menus déjeuner'!AD15 -> Œufs durs sauce tomate | P24: ='Menus déjeuner'!AF15 -> 0 | U24: ='Menus déjeuner'!AH15 -> Tajine de poisson
A26: 0 | K26: 0 | P26: 0 | U26: 0
C28: =A31 -> Haricots beurre | H28: =F31 -> Semoule semi complète | M28: =K31 -> Tortis | R28: =P31 -> légumes | W28: =U31 -> Haricots rouges à la cubaine (oignon, paprika, vinaigre balsamique, poivrons, cumin, ail)
A31: ='Menus déjeuner'!Z16 -> Haricots beurre | F31: ='Menus déjeuner'!AB16 -> Semoule semi complète | K31: ='Menus déjeuner'!AD16 -> Tortis | P31: ='Menus déjeuner'!AF16 -> légumes | U31: ='Menus déjeuner'!AH16 -> Haricots rouges à la cubaine (oignon, paprika, vinaigre balsamique, poivrons, cumin, ail)
A32: ='Menus déjeuner'!Z17 -> Polenta crémeuse | F32: ='Menus déjeuner'!AB17 -> Légumes couscous (carottes, courgettes, courge, navet) | K32: ='Menus déjeuner'!AD17 -> Endives caramélisées | P32: ='Menus déjeuner'!AF17 -> féculents | U32: ='Menus déjeuner'!AH17 -> Carottes braisées
C33: =A38 -> 2 fromages à la coupe | H33: =F38 -> 2 fromages à la coupe | M33: =K38 -> 2 fromages à la coupe | R33: =P38 -> 2 fromages à la coupe | W33: =U38 -> 2 fromages à la coupe
K34: 0 | P34: 0 | U34: 0
P37: 0 | U37: 0
A38: ='Menus déjeuner'!Z18 -> 2 fromages à la coupe | C38: =A46 -> Salade d'agrumes | F38: ='Menus déjeuner'!AB18 -> 2 fromages à la coupe | H38: =F46 -> Fromage blanc crème de marron | K38: ='Menus déjeuner'!AD18 -> 2 fromages à la coupe | M38: =K46 -> Ananas | P38: ='Menus déjeuner'!AF18 -> 2 fromages à la coupe | R38: =P46 -> pâtisserie | U38: ='Menus déjeuner'!AH18 -> 2 fromages à la coupe | W38: =U46 -> Salade de fruits frais
A39: ='Menus déjeuner'!Z19 -> dont 1 AOP/AOC/IGP | F39: ='Menus déjeuner'!AB19 -> dont 1 AOP/AOC/IGP | K39: ='Menus déjeuner'!AD19 -> dont 1 AOP/AOC/IGP | P39: ='Menus déjeuner'!AF19 -> dont 1 AOP/AOC/IGP | U39: ='Menus déjeuner'!AH19 -> dont 1 AOP/AOC/IGP
A40: ='Menus déjeuner'!Z20 -> 2 laitages dont 1 yaourt nature | F40: ='Menus déjeuner'!AB20 -> 2 laitages dont 1 yaourt nature | K40: ='Menus déjeuner'!AD20 -> 2 laitages dont 1 yaourt nature | P40: ='Menus déjeuner'!AF20 -> 2 laitages dont 1 yaourt nature | U40: ='Menus déjeuner'!AH20 -> 2 laitages dont 1 yaourt nature
A41: ='Menus déjeuner'!Z21 -> 0 | F41: ='Menus déjeuner'!AB21 -> 0 | K41: ='Menus déjeuner'!AD21 -> 0 | P41: ='Menus déjeuner'!AF21 -> 0 | U41: ='Menus déjeuner'!AH21 -> 0
P45: 0 | U45: 0
A46: ='Menus déjeuner'!Z22 -> Salade d'agrumes | F46: ='Menus déjeuner'!AB22 -> Fromage blanc crème de marron | K46: ='Menus déjeuner'!AD22 -> Ananas | P46: ='Menus déjeuner'!AF22 -> pâtisserie | U46: ='Menus déjeuner'!AH22 -> Salade de fruits frais
A47: ='Menus déjeuner'!Z23 -> Banane au chocolat | F47: ='Menus déjeuner'!AB23 -> Panna cotta caramel | K47: ='Menus déjeuner'!AD23 -> Salade de fruits frais | P47: ='Menus déjeuner'!AF23 -> 0 | U47: ='Menus déjeuner'!AH23 -> Salade d'oranges à la fleur d'oranger
A48: ='Menus déjeuner'!Z24 -> Compote sans sucre ajouté ARA | F48: ='Menus déjeuner'!AB24 -> Pêche au coulis | K48: ='Menus déjeuner'!AD24 -> Cocktail de fruits au sirop | P48: ='Menus déjeuner'!AF24 -> 0 | U48: ='Menus déjeuner'!AH24 -> Compote sans sucre ajouté ARA
A49: ='Menus déjeuner'!Z25 -> Corbeille de fruits frais | F49: ='Menus déjeuner'!AB25 -> Corbeille de fruits frais | K49: ='Menus déjeuner'!AD25 -> Corbeille de fruits frais | P49: ='Menus déjeuner'!AF25 -> Corbeille de fruits frais | U49: ='Menus déjeuner'!AH25 -> Corbeille de fruits frais
U50: 0

Sheet Menus M+S S4
C3: ='Menus déjeuner'!AP3 -> 46314 | H3: =C3+1 -> 46315 | M3: =H3+1 -> 46316 | R3: =C3+3 -> 46317 | W3: =C3+4 -> 46318
C4: DEJEUNER | H4: DEJEUNER | M4: DEJEUNER | R4: DEJEUNER | W4: DEJEUNER
A6: La liste des allergènes présents volontairement dans les préparations est affichée à l'entrée du restaurant, conformément au règlement UE n° 1169/2011 | F6: La liste des allergènes présents volontairement dans les préparations est affichée à l'entrée du restaurant, conformément au règlement UE n° 1169/2011 | K6: La liste des allergènes présents volontairement dans les préparations est affichée à l'entrée du restaurant, conformément au règlement UE n° 1169/2011 | P6: La liste des allergènes présents volontairement dans les préparations est affichée à l'entrée du restaurant, conformément au règlement UE n° 1169/2011 | U6: La liste des allergènes présents volontairement dans les préparations est affichée à l'entrée du restaurant, conformément au règlement UE n° 1169/2011
A12: 0 | F12: 0 | P12: 0 | U12: 0
A13: ='Menus déjeuner'!AL10 -> 0 | F13: ='Menus déjeuner'!AN10 -> 0 | K13: ='Menus déjeuner'!AP10 -> 0 | P13: ='Menus déjeuner'!AR10 -> 0 | U13: ='Menus déjeuner'!AT10 -> 0
A14: ='Menus déjeuner'!AL11 -> 0 | F14: ='Menus déjeuner'!AN11 -> 0 | K14: ='Menus déjeuner'!AP11 -> 0 | P14: ='Menus déjeuner'!AR11 -> 0 | U14: ='Menus déjeuner'!AT11 -> 0
A15: ='Menus déjeuner'!AL12 -> 0 | F15: ='Menus déjeuner'!AN12 -> 0 | K15: ='Menus déjeuner'!AP12 -> 0 | P15: ='Menus déjeuner'!AR12 -> 0 | U15: ='Menus déjeuner'!AT12 -> 0
A16: ='Menus déjeuner'!AL13 -> 0 | F16: ='Menus déjeuner'!AN13 -> 0 | K16: ='Menus déjeuner'!AP13 -> 0 | P16: ='Menus déjeuner'!AR13 -> 0 | U16: ='Menus déjeuner'!AT13 -> 0
P17: 0
A18: 0 | C18: =A13 -> 0 | F18: 0 | H18: =F13 -> 0 | K18: 0 | M18: =K13 -> 0 | P18: 0 | R18: =P13 -> 0 | U18: 0 | W18: =U13 -> 0
A23: ='Menus déjeuner'!AL14 -> 0 | C23: =A23 -> 0 | F23: ='Menus déjeuner'!AN14 -> 0 | H23: =F23 -> 0 | K23: ='Menus déjeuner'!AP14 -> 0 | M23: =K23 -> 0 | P23: ='Menus déjeuner'!AR14 -> 0 | R23: =P23 -> 0 | U23: ='Menus déjeuner'!AT14 -> 0 | W23: =U23 -> 0
A24: ='Menus déjeuner'!AL15 -> 0 | F24: ='Menus déjeuner'!AN15 -> 0 | K24: ='Menus déjeuner'!AP15 -> 0 | P24: ='Menus déjeuner'!AR15 -> 0 | U24: ='Menus déjeuner'!AT15 -> 0
A26: 0 | K26: 0 | P26: 0 | U26: 0
C28: =A31 -> 0 | H28: =F31 -> 0 | M28: =K31 -> 0 | R28: =P31 -> 0 | W28: =U31 -> 0
A31: ='Menus déjeuner'!AL16 -> 0 | F31: ='Menus déjeuner'!AN16 -> 0 | K31: ='Menus déjeuner'!AP16 -> 0 | P31: ='Menus déjeuner'!AR16 -> 0 | U31: ='Menus déjeuner'!AT16 -> 0
A32: ='Menus déjeuner'!AL17 -> 0 | F32: ='Menus déjeuner'!AN17 -> 0 | K32: ='Menus déjeuner'!AP17 -> 0 | P32: ='Menus déjeuner'!AR17 -> 0 | U32: ='Menus déjeuner'!AT17 -> 0
C33: =A38 -> 0 | H33: =F38 -> 0 | M33: =K38 -> 0 | R33: =P38 -> 0 | W33: =U38 -> 0
K34: 0 | P34: 0 | U34: 0
P37: 0 | U37: 0
A38: ='Menus déjeuner'!AL18 -> 0 | C38: =A46 -> 0 | F38: ='Menus déjeuner'!AN18 -> 0 | H38: =F46 -> 0 | K38: ='Menus déjeuner'!AP18 -> 0 | M38: =K46 -> 0 | P38: ='Menus déjeuner'!AR18 -> 0 | R38: =P46 -> 0 | U38: ='Menus déjeuner'!AT18 -> 0 | W38: =U46 -> 0
A39: ='Menus déjeuner'!AL19 -> 0 | F39: ='Menus déjeuner'!AN19 -> 0 | K39: ='Menus déjeuner'!AP19 -> 0 | P39: ='Menus déjeuner'!AR19 -> 0 | U39: ='Menus déjeuner'!AT19 -> 0
A40: ='Menus déjeuner'!AL20 -> 0 | F40: ='Menus déjeuner'!AN20 -> 0 | K40: ='Menus déjeuner'!AP20 -> 0 | P40: ='Menus déjeuner'!AR20 -> 0 | U40: ='Menus déjeuner'!AT20 -> 0
A41: ='Menus déjeuner'!AL21 -> 0 | F41: ='Menus déjeuner'!AN21 -> 0 | K41: ='Menus déjeuner'!AP21 -> 0 | P41: ='Menus déjeuner'!AR21 -> 0 | U41: ='Menus déjeuner'!AT21 -> 0
P45: 0 | U45: 0
A46: ='Menus déjeuner'!AL22 -> 0 | F46: ='Menus déjeuner'!AN22 -> 0 | K46: ='Menus déjeuner'!AP22 -> 0 | P46: ='Menus déjeuner'!AR22 -> 0 | U46: ='Menus déjeuner'!AT22 -> 0
A47: ='Menus déjeuner'!AL23 -> 0 | F47: ='Menus déjeuner'!AN23 -> 0 | K47: ='Menus déjeuner'!AP23 -> 0 | P47: ='Menus déjeuner'!AR23 -> 0 | U47: ='Menus déjeuner'!AT23 -> 0
A48: ='Menus déjeuner'!AL24 -> 0 | F48: ='Menus déjeuner'!AN24 -> 0 | K48: ='Menus déjeuner'!AP24 -> 0 | P48: ='Menus déjeuner'!AR24 -> 0 | U48: ='Menus déjeuner'!AT24 -> 0
A49: ='Menus déjeuner'!AL25 -> 0 | F49: ='Menus déjeuner'!AN25 -> 0 | K49: ='Menus déjeuner'!AP25 -> 0 | P49: ='Menus déjeuner'!AR25 -> 0 | U49: ='Menus déjeuner'!AT25 -> 0
U50: 0
C54: =C3 -> 46314 | H54: =C54+1 -> 46315 | M54: =C54+2 -> 46316 | R54: =C54+3 -> 46317
C55: DÎNER | H55: DÎNER | M55: DÎNER | R55: DÎNER
A63: 0 | F63: 0 | K63: 0 | P63: 0
A64: ='Menus déjeuner'!#REF! -> #REF! | F64: ='Menus déjeuner'!#REF! -> #REF! | K64: ='Menus déjeuner'!#REF! -> #REF! | P64: ='Menus déjeuner'!#REF! -> #REF!
A65: ='Menus déjeuner'!#REF! -> #REF! | F65: ='Menus déjeuner'!#REF! -> #REF! | K65: ='Menus déjeuner'!#REF! -> #REF! | P65: ='Menus déjeuner'!#REF! -> #REF!
A66: =#REF! -> #REF! | F66: =#REF! -> #REF! | K66: =#REF! -> #REF! | P66: =#REF! -> #REF!
A67: =#REF! -> #REF! | F67: =#REF! -> #REF! | K67: =#REF! -> #REF! | P67: =#REF! -> #REF!
P68: =#REF! -> #REF!
A69: 0 | C69: =A64 -> #REF! | H69: =F64 -> #REF! | K69: 0 | M69: =K64 -> #REF! | R69: =P64 -> #REF!
A73: ='Menus déjeuner'!#REF! -> #REF! | F73: ='Menus déjeuner'!#REF! -> #REF! | K73: ='Menus déjeuner'!#REF! -> #REF! | P73: ='Menus déjeuner'!#REF! -> #REF!
A74: ='Menus déjeuner'!#REF! -> #REF! | C74: =A73 -> #REF! | F74: ='Menus déjeuner'!#REF! -> #REF! | H74: =F73 -> #REF! | K74: ='Menus déjeuner'!#REF! -> #REF! | M74: =K73 -> #REF! | P74: ='Menus déjeuner'!#REF! -> #REF! | R74: =P73 -> #REF!
A75: =#REF! -> #REF! | F75: =#REF! -> #REF! | P75: =#REF! -> #REF!
A76: =#REF! -> #REF! | F76: =#REF! -> #REF! | K76: =#REF! -> #REF! | P76: =#REF! -> #REF!
A77: =#REF! -> #REF! | F77: =#REF! -> #REF! | K77: =#REF! -> #REF! | P77: =#REF! -> #REF!
C79: =A82 -> #REF! | H79: =F82 -> #REF! | M79: =K82 -> #REF! | R79: =P82 -> #REF!
A82: ='Menus déjeuner'!#REF! -> #REF! | F82: ='Menus déjeuner'!#REF! -> #REF! | K82: ='Menus déjeuner'!#REF! -> #REF! | P82: ='Menus déjeuner'!#REF! -> #REF!
A83: ='Menus déjeuner'!#REF! -> #REF! | F83: ='Menus déjeuner'!#REF! -> #REF! | K83: ='Menus déjeuner'!#REF! -> #REF! | P83: ='Menus déjeuner'!#REF! -> #REF!
A84: =#REF! -> #REF! | C84: =A89 -> #REF! | F84: =#REF! -> #REF! | H84: =F89 -> #REF! | K84: =#REF! -> #REF! | M84: =K89 -> #REF! | P84: =#REF! -> #REF! | R84: =P89 -> #REF!
A88: 0 | F88: 0 | K88: 0 | P88: 0
A89: ='Menus déjeuner'!#REF! -> #REF! | C89: =A97 -> #REF! | F89: ='Menus déjeuner'!#REF! -> #REF! | H89: =F97 -> #REF! | K89: ='Menus déjeuner'!#REF! -> #REF! | M89: =K97 -> #REF! | P89: ='Menus déjeuner'!#REF! -> #REF! | R89: =P97 -> #REF!
A90: ='Menus déjeuner'!#REF! -> #REF! | F90: ='Menus déjeuner'!#REF! -> #REF! | K90: ='Menus déjeuner'!#REF! -> #REF! | P90: ='Menus déjeuner'!#REF! -> #REF!
A91: =#REF! -> #REF! | F91: =#REF! -> #REF! | K91: =#REF! -> #REF! | P91: =#REF! -> #REF!
A92: 0 | F92: =#REF! -> #REF! | K92: =#REF! -> #REF! | P92: 0
A93: 0
A96: 0 | F96: 0 | K96: 0 | P96: 0
A97: ='Menus déjeuner'!#REF! -> #REF! | F97: ='Menus déjeuner'!#REF! -> #REF! | K97: ='Menus déjeuner'!#REF! -> #REF! | P97: ='Menus déjeuner'!#REF! -> #REF!
A98: ='Menus déjeuner'!#REF! -> #REF! | F98: ='Menus déjeuner'!#REF! -> #REF! | K98: ='Menus déjeuner'!#REF! -> #REF! | P98: ='Menus déjeuner'!#REF! -> #REF!
A99: =#REF! -> #REF! | F99: =#REF! -> #REF! | K99: =#REF! -> #REF! | P99: =#REF! -> #REF!
A100: =#REF! -> #REF! | F100: =#REF! -> #REF! | K100: =#REF! -> #REF! | P100: =#REF! -> #REF!
