Workbook

Sheet Mode d'emploi
A4: Cette matrice de menus dispose des onglets suivants :
A7: pictos | C7: Onglet protégé à partir duquel vous pouvez copier les logos pour les insérer dans vos menus, au jour ou à la semaine.
C8: Vous devez imprimer cet onglet et afficher à l'entrée de votre salle de restaurant, à proximité des menus.
A10: Plan alimentaire choix multiple M + S | C10: Onglet protégé qui présente le plan alimentaire équilibré, sur 4 à 5 semaines, pour le midi et le soir. Vous ne pouvez pas le modifier.
C11: Le plan alimentaire demeure la référence lorsque vous modifiez le menu. Les modifications doivent se faire dans la même famille alimentaire (crudité, féculent, bœuf, dessert lacté …)
C12: Le plan alimentaire couvre également le service du soir pour les sites ayant un internat.
A14: Choix mutiple hebdo | C14: C'est à partir de cet onglet (non protégé!) que tout se pilote. Il est donc modifiable
C15: Vous changez la date du 1er lundi et tout s'enregistre automatiquement sur le soir, sur les autres semaines et sur les autres onglets
C16: Vous changez le nom de l'établissement (la 1ère semaine) et tout s'enregistre automatiquement sur le soir, sur les semaines qui suivent, et même sur les autres onglets
C17: Vous pouvez modifier les menus.
C18: Dans le menu, les lignes bleues représentent le menu conseillé, conformément au GEMRCN.
C19: Les menus de l'internat se trouvent en dessous des menus du déjeuner.
A21: Allergènes | C21: Ces onglets ne sont pas protégés. Ils s'alimentent directement depuis l'onglet Choix multiple hebdo.
C22: Si vous faites des modifications dans le menu hebdo, elles se reportent sur les onglets allergènes.
C23: All MS1, MS2, MS3 … concernent les allergènes du midi.
C24: All SS1, SS2, SS3 … concernent les allergènes du soir.
C25: ! Attention ! En revanche, vous devez modifier le cochage des allergènes lorsque vous faites des modifications !
A28: Menus du jour | C28: Onglet protégé sur lequel vous diposez des menus au jour le jour avec le menu équilibré recommandé mis en avant.
C29: Les menus du soir se trouvent sous les menus du midi.

Sheet pictos
D4: bœuf/veau français
D10: porc français
D16: volaille française
D22: préparation contenant au moins 1 produit bio
D29: plat végétarien
D35: préparation contenant au moins 1 produit local
D41: poisson frais
D47: cuisiné par nos soins
D48: (remplace le picto "fait maison")

Sheet Plan ali. choix multiple M+S
C1: Nom établissement | J1: =+C1 -> Nom établissement | Q1: =+J1 -> Nom établissement | X1: =+Q1 -> Nom établissement | AE1: =+X1 -> Nom établissement
B3: Déjeuners du | C3: ='Menus déjeuner'!F3 -> 46265 | D3: au | E3: =C3+4 -> 46269 | I3: Déjeuners du | J3: =E3+3 -> 46272 | K3: au | L3: =J3+4 -> 46276 | P3: Déjeuners du | Q3: =L3+3 -> 46279 | R3: au | S3: =Q3+4 -> 46283 | W3: Déjeuners du | X3: =S3+3 -> 46286 | Y3: au | Z3: =X3+4 -> 46290 | AD3: Déjeuners du | AE3: =Z3+3 -> 46293 | AF3: au | AG3: =AE3+4 -> 46297
B5: Plan alimentaire déjeuner SEMAINE 1 | I5: Plan alimentaire déjeuner SEMAINE 2 | P5: Plan alimentaire déjeuner SEMAINE 3 | W5: Plan alimentaire déjeuner SEMAINE 4 | AD5: Plan alimentaire déjeuner SEMAINE 5
D7: * Menus indicatifs sous réserve de modifications * | K7: * Menus indicatifs sous réserve de modifications * | R7: * Menus indicatifs sous réserve de modifications * | Y7: * Menus indicatifs sous réserve de modifications * | AF7: * Menus indicatifs sous réserve de modifications *
A8: SEMAINE 1 | B8: Lundi | C8: Mardi | D8: Mercredi | E8: Jeudi | F8: Vendredi | H8: SEMAINE 2 | I8: Lundi | J8: Mardi | K8: Mercredi | L8: Jeudi | M8: Vendredi | O8: SEMAINE 3 | P8: Lundi | Q8: Mardi | R8: Mercredi | S8: Jeudi | T8: Vendredi | V8: SEMAINE 4 | W8: Lundi | X8: Mardi | Y8: Mercredi | Z8: Jeudi | AA8: Vendredi | AC8: SEMAINE 5 | AD8: Lundi | AE8: Mardi | AF8: Mercredi | AG8: Jeudi | AH8: Vendredi
A10: Entrées | B10: Crudité | C10: Pâtisserie salée | D10: Cuidité | E10: Crudité | F10: Cuidité | H10: Entrées | I10: Entrée protidique | J10: Crudité | K10: Cuidité | L10: Crudité | M10: Entrée féculents | O10: Entrées | P10: Crudité | Q10: Entrée féculents | R10: Pâtisserie salée | S10: Cuidité | T10: Crudité | V10: Entrées | W10: Crudité | X10: Crudité | Y10: Cuidité | Z10: Entrée féculents | AA10: Entrée protidique | AC10: Entrées
B13: Crudité | C13: Crudité | D13: Crudité | E13: Crudité | F13: Crudité | I13: Crudité | J13: Crudité | K13: Crudité | L13: Crudité | M13: Crudité | P13: Crudité | Q13: Crudité | R13: Crudité | S13: Crudité | T13: Crudité | W13: Crudité | X13: Crudité | Y13: Crudité | Z13: Crudité | AA13: Crudité
A14: Plat principaux | B14: Poulet | C14: Poisson | D14: Dinde | E14: Œufs | F14: Abats | H14: Plat principaux | I14: Lapin | J14: Végétarien | K14: Dinde | L14: Poisson | M14: Bœuf non haché | O14: Plat principaux | P14: Poisson | Q14: Agneau non haché | R14: Porc | S14: Charcuterie | T14: Végétarien | V14: Plat principaux | W14: Bœuf haché | X14: Poisson | Y14: Poulet | Z14: Végétarien | AA14: Veau non haché | AC14: Plat principaux
B15: Végétarien | C15: Œufs | D15: Végétarien | E15: Porc | F15: Poisson | I15: Végétarien | J15: Porc | K15: Œufs | L15: Charcuterie | M15: Poisson | P15: Végétarien | Q15: Poisson | R15: Œufs | S15: Végétarien | T15: Poulet | W15: Végétarien | X15: Porc | Y15: Œufs | Z15: Poisson | AA15: Œufs
A16: Garnitures | B16: Féculents | C16: Légumes | D16: Féculents | E16: Légumes | F16: Féculents | H16: Garnitures | I16: Féculents | J16: Légumes | K16: Féculents | L16: Féculents | M16: Légumes | O16: Garnitures | P16: Légumes | Q16: Légumes | R16: Légumes | S16: Féculents | T16: Féculents | V16: Garnitures | W16: Féculents | X16: Légumes | Y16: Légumes | Z16: Légumes | AA16: Féculents | AC16: Garnitures
A18: Produits | B18: Fromage | C18: Fromage | D18: Fromage | E18: Fromage | F18: Fromage | H18: Produits | I18: Fromage | J18: Fromage | K18: Fromage | L18: Fromage | M18: Fromage | O18: Produits | P18: Fromage | Q18: Fromage | R18: Fromage | S18: Fromage | T18: Fromage | V18: Produits | W18: Fromage | X18: Fromage | Y18: Fromage | Z18: Fromage | AA18: Fromage | AC18: Produits
A19: Laitiers | H19: Laitiers | O19: Laitiers | V19: Laitiers | AC19: Laitiers
B20: Laitage | C20: Laitage | D20: Laitage | E20: Laitage | F20: Laitage | I20: Laitage | J20: Laitage | K20: Laitage | L20: Laitage | M20: Laitage | P20: Laitage | Q20: Laitage | R20: Laitage | S20: Laitage | T20: Laitage | W20: Laitage | X20: Laitage | Y20: Laitage | Z20: Laitage | AA20: Laitage
A22: Desserts | B22: Dessert lacté | C22: Fruit cru | D22: Fruit cru | E22: Pâtisserie | F22: Fruit cru | H22: Desserts | I22: Fruit cru | J22: Pâtisserie | K22: Fruit cru | L22: Fruit cuit | M22: Fruit cru | O22: Desserts | P22: Pâtisserie | Q22: Fruit cru | R22: Fruit cru | S22: Fruit cru | T22: Dessert lacté | V22: Desserts | W22: Dessert lacté | X22: Pâtisserie | Y22: Fruit cru | Z22: Fruit cru | AA22: Fruit cru | AC22: Desserts
B24: Fruit cuit | C24: Fruit cuit | D24: Fruit cuit | F24: Fruit cuit | I24: Fruit cuit | K24: Fruit cuit | L24: Fruit cuit | M24: Fruit cuit | Q24: Fruit cuit | R24: Fruit cuit | S24: Fruit cuit | T24: Fruit cuit | W24: Fruit cuit | Y24: Fruit cuit | Z24: Fruit cuit | AA24: Fruit cuit
B25: Fruit cru | C25: Fruit cru | D25: Fruit cru | E25: Fruit cru | F25: Fruit cru | I25: Fruit cru | J25: Fruit cru | K25: Fruit cru | L25: Fruit cru | M25: Fruit cru | P25: Fruit cru | Q25: Fruit cru | R25: Fruit cru | S25: Fruit cru | T25: Fruit cru | W25: Fruit cru | X25: Fruit cru | Y25: Fruit cru | Z25: Fruit cru | AA25: Fruit cru
B27: Menus équilibrés recommandés par le service Diététique & Nutrition de Mille et Un Repas et conformes au GEMRCN | I27: Menus équilibrés recommandés par le service Diététique & Nutrition de Mille et Un Repas et conformes au GEMRCN | P27: Menus équilibrés recommandés par le service Diététique & Nutrition de Mille et Un Repas et conformes au GEMRCN | W27: Menus équilibrés recommandés par le service Diététique & Nutrition de Mille et Un Repas et conformes au GEMRCN | AD27: Menus équilibrés recommandés par le service Diététique & Nutrition de Mille et Un Repas et conformes au GEMRCN

Sheet Menus déjeuner
D1: CHOIX DIRIGÉ | P1: =+D1 -> CHOIX DIRIGÉ | Z1: =+P1 -> CHOIX DIRIGÉ | AN1: =+Z1 -> CHOIX DIRIGÉ | AZ1: =+AN1 -> CHOIX DIRIGÉ
D3: Déjeuners | E3: du | F3: 46265 | G3: au | H3: =F3+4 -> 46269 | P3: Déjeuners | Q3: du | R3: =H3+3 -> 46272 | S3: au | T3: =R3+4 -> 46276 | AB3: Déjeuners | AC3: du | AD3: =T3+3 -> 46279 | AE3: au | AF3: =AD3+4 -> 46283 | AN3: Déjeuners | AO3: du | AP3: =AF3+3 -> 46286 | AQ3: au | AR3: =AP3+4 -> 46290 | AZ3: Déjeuners | BA3: du | BB3: =AR3+3 -> 46293 | BC3: au | BD3: =BB3+4 -> 46297
L4: Poisson MSC | X4: Poisson MSC | AJ4: Poisson MSC | AV4: Poisson MSC
B5: La liste des allergènes présents volontairement dans les préparations est affichée à l'entrée du restaurant, conformément au règlement UE n° 1169/2011 | N5: La liste des allergènes présents volontairement dans les préparations est affichée à l'entrée du restaurant, conformément au règlement UE n° 1169/2011 | Z5: La liste des allergènes présents volontairement dans les préparations est affichée à l'entrée du restaurant, conformément au règlement UE n° 1169/2011 | AL5: La liste des allergènes présents volontairement dans les préparations est affichée à l'entrée du restaurant, conformément au règlement UE n° 1169/2011 | AX5: La liste des allergènes présents volontairement dans les préparations est affichée à l'entrée du restaurant, conformément au règlement UE n° 1169/2011
F7: * Menus indicatifs sous réserve de modifications * | R7: * Menus indicatifs sous réserve de modifications * | AD7: * Menus indicatifs sous réserve de modifications * | AP7: * Menus indicatifs sous réserve de modifications * | BB7: * Menus indicatifs sous réserve de modifications *
A8: SEMAINE 1 | B8: Lundi | C8: Logos | D8: Mardi | E8: Logos | F8: Mercredi | G8: Logos | H8: Jeudi | I8: Logos | J8: Vendredi | K8: Logos | M8: SEMAINE 2 | N8: Lundi | O8: Logos | P8: Mardi | Q8: Logos | R8: Mercredi | S8: Logos | T8: Jeudi | U8: Logos | V8: Vendredi | W8: Logos | Y8: SEMAINE 3 | Z8: Lundi | AA8: Logos | AB8: Mardi | AC8: Logos | AD8: Mercredi | AE8: Logos | AF8: Jeudi | AG8: Logos | AH8: Vendredi | AI8: Logos | AK8: SEMAINE 4 | AL8: Lundi | AM8: Logos | AN8: Mardi | AO8: Logos | AP8: Mercredi | AQ8: Logos | AR8: Jeudi | AS8: Logos | AT8: Vendredi | AU8: Logos | AW8: SEMAINE 5 | AX8: Lundi | AY8: Logos | AZ8: Mardi | BA8: Logos | BB8: Mercredi | BC8: Logos | BD8: Jeudi | BE8: Logos | BF8: 0 | BG8: Logos
A10: Entrées | D10: Melon | F10: Cake aux olives | H10: Concombre à l'aneth | J10: Rosette | L10: Appellation d'origine Contrôlée | M10: Entrées | N10: Salade de blé | P10: Brunoise courgette et tomate | R10: Chou fleur ravigote | T10: Mousse de carottes au curry | V10: Lentilles vertes Isère vinaigrette | X10: Appellation d'origine Contrôlée | Y10: Entrées | Z10: Salade de radis aux fines herbes | AB10: Salade de pommes de terre ciboulette | AD10: Tartine au fromage | AF10: animation Italie | AH10: Tomates et olives noires | AJ10: Appellation d'origine Contrôlée | AK10: Entrées | AL10: Melon (selon météo) | AN10: Salade de pommes de terre & cervelas | AP10: Macédoine vinaigrette au citron | AR10: Concombre au fromage blanc | AT10: Rillettes de sardines | AV10: Appellation d'origine Contrôlée | AW10: Entrées
D11: Salade de courgettes à la mimolette | F11: Salade composée | H11: Salade de courgette & féta | J11: Rillettes de maquereau | L11: Appellation d'origine protégée | N11: Salade de tomate et oignon rouge | P11: Cèleri mayo curry | R11: Macédoine vinaigrette | T11: Betteraves vinaigrette | V11: Taboulé | X11: Appellation d'origine protégée | Z11: Carottes râpées | AB11: Boulgour en salade | AD11: Cake légumes curry | AF11: Salade vert ,jambon crue, melon | AH11: Radis | AJ11: Appellation d'origine protégée | AL11: Cèleri râpé citronné | AN11: Salade de haricots rouges | AP11: Velouté de légumes | AR11: Radis et pomme râpés | AT11: Œufs durs mayonnaise | AV11: Appellation d'origine protégée
D12: Salade de tomate & basilic | F12: Terrine de campagne cornichon | H12: Tomate vinaigrette | J12: Œufs mimosa | N12: Pomelos | P12: Salade composée | R12: Salade de fonds d'artichaut au curry | T12: Salade de petits pois, féta et zeste de citron | V12: Salade de coquillettes | Z12: Chou blanc émincé | AB12: Houmous rose | AD12: Pain perdu salé | AF12: Tomate mozza | AH12: Concombre tzatzíki | AL12: Salade de tomate et maïs | AN12: Salade de riz | AP12: Champignons à la grecque | AR12: Carottes râpées à l'orange | AT12: Jambon cornichon
D13: Salade verte | F13: Salade verte | H13: Salade verte | J13: Salade verte | L13: Indication géographique protégée | N13: Salade verte | P13: Salade verte | R13: Salade verte | T13: Salade verte | V13: Salade verte | X13: Indication géographique protégée | Z13: Salade verte | AB13: Salade verte | AD13: Salade verte | AF13: Salade verte | AH13: Salade verte | AJ13: Indication géographique protégée | AL13: Salade verte | AN13: Salade verte | AP13: Salade verte | AR13: Salade verte | AT13: Salade verte | AV13: Indication géographique protégée
A14: Plats principaux | D14: Bolognaise au bœuf | F14: Escalope de dinde aux herbes (Egalim EE) | H14: Filet de poisson crème citron | J14: Poulet Yassa (moutarde, oignon, ail, citrons jaune & vert) (Egalim EE) | M14: Plats principaux | N14: Filet de poisson au basilic | P14: Gigolette de lapin à la moutarde | R14: Rôti de dinde au jus (Egalim EE) | T14: Quenelles gratinées sauce tomate | V14: Émincé de bœuf au paprika | Y14: Plats principaux | Z14: Tacos haricots rouges et maïs | AB14: Sauté d'agneau aux 4 épices | AD14: Poulet au citron | AF14: Pâtes carbo | AH14: Crumble de poisson | AK14: Plats principaux | AL14: Tajine de pois chiches & légumes (carottes, courgettes, navets) | AN14: Émincé de porc aux olives (CE2) | AP14: Poulet rôti aux épices | AR14: Gratin de poisson aneth citron | AT14: Dinde façon basquaise (Egalim EE) | AW14: Plats principaux
D15: Bolognaise lentilles et légumes | F15: Falafels sauce yaourt | H15: Rôti de porc au jus (CE2) | J15: Omelette roulée | L15: Haute valeur environnementale | N15: Saucisse brassée à l'ail | P15: Curry de pois chiches Rhône/Isère | R15: Croque du Chef au fromage | T15: Sauté de porc sauce charcutière (CE2) | V15: Cassolette de poisson à la provençale | X15: Haute valeur environnementale | Z15: Jambon grillé | AB15: Filet de poisson meunière | AD15: Clafoutis courgette & chèvre | AF15: Pâtes au thon catalane | AH15: Œufs durs gratinés | AJ15: Haute valeur environnementale | AL15: Tajine de poisson | AN15: Omelette aux herbes | AP15: Œufs brouillés | AR15: Foie à l'échalote | AT15: Bolognaise égrené de pois et légumes | AV15: Haute valeur environnementale
A16: Garnitures | D16: Pâtes | F16: Courgettes | H16: Gratin d'aubergine à la tomate | J16: Blé | L16: Label rouge | M16: Garnitures | N16: Frites | P16: Gratin de courgettes | R16: Polenta | T16: Riz | V16: Carottes au beurre | X16: Label rouge | Y16: Garnitures | Z16: Galette de blé à garnir | AB16: Ratatouille | AD16: Chou fleur persillé | AF16: Pennes | AH16: Purée de brocolis | AJ16: Label rouge | AK16: Garnitures | AL16: Semoule semi complète | AN16: Carottes persillées | AP16: Poêlée de légumes | AR16: Haricots verts sautés l'ail | AT16: Boulgour | AV16: Label rouge | AW16: Garnitures
D17: Fondue de courgettes | F17: Boulgour | H17: Semoule semi complète | J17: Épinards à la crème | L17: Région ultra périphérique | N17: Cœur de blé | P17: Boulgour façon pilaf | R17: Tomates à la provençale | T17: Navets glacés au miel | V17: Petit épeautre | X17: Région ultra périphérique | Z17: Fondue de poireaux | AB17: Poêlée de pois chiches aux légumes | AD17: Quinoa blond | AH17: Coquillettes | AJ17: Région ultra périphérique | AL17: Courgettes braisées | AN17: Flageolets | AP17: Riz | AR17: Lentilles vertes Isère | AT17: Aubergines braisées | AV17: Région ultra périphérique
A18: Produits laitiers | D18: 2 fromages à la coupe | F18: 2 fromages à la coupe | H18: 2 fromages à la coupe | J18: 2 fromages à la coupe | M18: Produits laitiers | N18: 2 fromages à la coupe | P18: 2 fromages à la coupe | R18: 2 fromages à la coupe | T18: 2 fromages à la coupe | V18: 2 fromages à la coupe | Y18: Produits laitiers | Z18: 2 fromages à la coupe | AB18: 2 fromages à la coupe | AD18: 2 fromages à la coupe | AF18: 2 fromages à la coupe | AH18: 2 fromages à la coupe | AK18: Produits laitiers | AL18: 2 fromages à la coupe | AN18: 2 fromages à la coupe | AP18: 2 fromages à la coupe | AR18: 2 fromages à la coupe | AT18: 2 fromages à la coupe | AW18: Produits
D19: dont 1 AOP/AOC/IGP | F19: dont 1 AOP/AOC/IGP | H19: dont 1 AOP/AOC/IGP | J19: dont 1 AOP/AOC/IGP | L19: Contient au moins 1 ingrédient bio | N19: dont 1 AOP/AOC/IGP | P19: dont 1 AOP/AOC/IGP | R19: dont 1 AOP/AOC/IGP | T19: dont 1 AOP/AOC/IGP | V19: dont 1 AOP/AOC/IGP | X19: Contient au moins 1 ingrédient bio | Z19: dont 1 AOP/AOC/IGP | AB19: dont 1 AOP/AOC/IGP | AD19: dont 1 AOP/AOC/IGP | AF19: dont 1 AOP/AOC/IGP | AH19: dont 1 AOP/AOC/IGP | AJ19: Contient au moins 1 ingrédient bio | AL19: dont 1 AOP/AOC/IGP | AN19: dont 1 AOP/AOC/IGP | AP19: dont 1 AOP/AOC/IGP | AR19: dont 1 AOP/AOC/IGP | AT19: dont 1 AOP/AOC/IGP | AV19: Contient au moins 1 ingrédient bio | AW19: Laitiers
D20: 2 laitages dont 1 yaourt nature | F20: 2 laitages dont 1 yaourt nature | H20: 2 laitages dont 1 yaourt nature | J20: 2 laitages dont 1 yaourt nature | L20: Contient au moins 1 ingrédient local | N20: 2 laitages dont 1 yaourt nature | P20: 2 laitages dont 1 yaourt nature | R20: 2 laitages dont 1 yaourt nature | T20: 2 laitages dont 1 yaourt nature | V20: 2 laitages dont 1 yaourt nature | X20: Contient au moins 1 ingrédient local | Z20: 2 laitages dont 1 yaourt nature | AB20: 2 laitages dont 1 yaourt nature | AD20: 2 laitages dont 1 yaourt nature | AF20: 2 laitages dont 1 yaourt nature | AH20: 2 laitages dont 1 yaourt nature | AJ20: Contient au moins 1 ingrédient local | AL20: 2 laitages dont 1 yaourt nature | AN20: 2 laitages dont 1 yaourt nature | AP20: 2 laitages dont 1 yaourt nature | AR20: 2 laitages dont 1 yaourt nature | AT20: 2 laitages dont 1 yaourt nature | AV20: Contient au moins 1 ingrédient local
A22: Desserts | D22: Panna Cotta coco | F22: Fromage blanc au caramel | H22: Tarte aux pommes | J22: Salade fruits frais | L22: Poisson frais | M22: Desserts | N22: Poire au chocolat | P22: Far aux pruneaux | R22: Quartiers d'agrumes | T22: Ananas | V22: Salade de fruits frais | X22: Poisson frais | Y22: Desserts | Z22: Beignet | AB22: Pastèque | AD22: Melon | AF22: Pana cotta mangue | AH22: Crème dessert vanille | AJ22: Poisson frais | AK22: Desserts | AL22: Liégeois | AN22: Salade de fruits frais | AP22: Banane caramel | AR22: Marbré | AT22: Ananas | AV22: Poisson frais | AW22: Desserts
D23: Eclaire chocolat | F23: Eclaire chocolat | H23: Quatre quarts au citron | J23: Pastèque | L23: Plat végétarien | N23: Pomme au four | P23: Fondant chocolat | R23: Banane aux amandes | T23: Salade de fruits frais | V23: Smoothie fruits frais | X23: Plat végétarien | Z23: Semoule au lait vanillé | AB23: Salade de fruits frais | AD23: Salade de pommes et fruits rouges | AF23: Raisin italia | AH23: Flan caramel du Chef | AJ23: Plat végétarien | AL23: Flan du Chef chocolat | AN23: Compotée de fruits crus | AP23: Salade d'oranges | AR23: Moelleux fromage blanc, abricots & romarin | AT23: Smoothie aux fruits frais | AV23: Plat végétarien
D24: Compote sans sucre ajouté ARA | F24: Compote sans sucre ajouté ARA | J24: Compote sans sucre ajouté ARA | N24: Compote sans sucre ajouté ARA | R24: Compote sans sucre ajouté ARA | T24: Cocktail de fruits au sirop léger | V24: Dés de pêche au sirop léger | AB24: Pomme au four | AD24: Abricots au sirop léger | AH24: Compote sans sucre ajouté ARA | AL24: Abricots au sirop léger | AN24: Poire aux amandes | AP24: Compote sans sucre ajouté ARA | AT24: Compote sans sucre ajouté ARA
D25: Corbeille de fruits frais | F25: Corbeille de fruits frais | H25: Corbeille de fruits frais | J25: Corbeille de fruits frais | N25: Corbeille de fruits frais | P25: Corbeille de fruits frais | R25: Corbeille de fruits frais | T25: Corbeille de fruits frais | V25: Corbeille de fruits frais | Z25: Corbeille de fruits frais | AB25: Corbeille de fruits frais | AD25: Corbeille de fruits frais | AF25: Corbeille de fruits frais | AH25: Corbeille de fruits frais | AL25: Corbeille de fruits frais | AN25: Corbeille de fruits frais | AP25: Corbeille de fruits frais | AR25: Corbeille de fruits frais | AT25: Corbeille de fruits frais

Sheet All S1
A1: AFFICHAGE DES ALLERGENES PRÉSENTS VOLONTAIREMENT DANS LES MENUS
B2: GLUTEN | C2: LAIT | D2: OEUF | E2: POISSON | F2: SOJA | G2: MOLLUSQUES / CRUSTACÉS | H2: SÉSAME | I2: ARACHIDE | J2: MOUTARDE | K2: LUPIN | L2: CELERI | M2: FRUITS A COQUE | N2: SULFITES
A3: Vinaigrette | J3: X | N3: X
A4: Pain | B4: X
A5: Fromages | C5: X | D5: X
A6: Laitages | C6: X
A7: Corbeille de fruits frais
A8: ='Menus déjeuner'!F3 -> 46265
A9: ='Menus déjeuner'!B10 -> 0
A10: ='Menus déjeuner'!B11 -> 0
A11: ='Menus déjeuner'!B12 -> 0
A12: ='Menus déjeuner'!B13 -> 0
A13: ='Menus déjeuner'!B14 -> 0
A14: ='Menus déjeuner'!B15 -> 0
A15: ='Menus déjeuner'!B16 -> 0
A16: ='Menus déjeuner'!B17 -> 0
A17: ='Menus déjeuner'!B22 -> 0
A18: ='Menus déjeuner'!B23 -> 0
A19: ='Menus déjeuner'!B24 -> 0
A20: =A8+1 -> 46266
A21: ='Menus déjeuner'!D10 -> Melon
A22: ='Menus déjeuner'!D11 -> Salade de courgettes à la mimolette | C22: X | D22: X | J22: X | N22: X
A23: ='Menus déjeuner'!D12 -> Salade de tomate & basilic | J23: X | L23: X
A24: ='Menus déjeuner'!D13 -> Salade verte | J24: X | N24: X
A25: ='Menus déjeuner'!D14 -> Bolognaise au bœuf | N25: X
A26: ='Menus déjeuner'!D15 -> Bolognaise lentilles et légumes
A27: ='Menus déjeuner'!D16 -> Pâtes | B27: X | C27: X | D27: X
A28: ='Menus déjeuner'!D17 -> Fondue de courgettes
A29: ='Menus déjeuner'!D22 -> Panna Cotta coco | C29: X | F29: X | M29: X
A30: ='Menus déjeuner'!D23 -> Eclaire chocolat | B30: X | C30: X | D30: X | L30: X | N30: X
A31: ='Menus déjeuner'!D24 -> Compote sans sucre ajouté ARA
A32: =+A20+1 -> 46267
A33: ='Menus déjeuner'!F10 -> Cake aux olives | B33: X | C33: X | D33: X | N33: X
A34: ='Menus déjeuner'!F11 -> Salade composée | B34: X | J34: X | N34: X
A35: ='Menus déjeuner'!F12 -> Terrine de campagne cornichon | B35: X | C35: X | D35: X | F35: X | J35: X | N35: X
A36: ='Menus déjeuner'!F13 -> Salade verte | J36: X | N36: X
A37: ='Menus déjeuner'!F14 -> Escalope de dinde aux herbes (Egalim EE) | B37: X | C37: X | D37: X | L37: X | N37: X
A38: ='Menus déjeuner'!F15 -> Falafels sauce yaourt | B38: X | C38: X | J38: X | N38: X
A39: ='Menus déjeuner'!F16 -> Courgettes | L39: X
A40: ='Menus déjeuner'!F17 -> Boulgour | B40: X | C40: X
...

Sheet All S2
A1: AFFICHAGE DES ALLERGENES PRÉSENTS VOLONTAIREMENT DANS LES MENUS
B2: GLUTEN | C2: LAIT | D2: OEUF | E2: POISSON | F2: SOJA | G2: MOLLUSQUES / CRUSTACÉS | H2: SÉSAME | I2: ARACHIDE | J2: MOUTARDE | K2: LUPIN | L2: CELERI | M2: FRUITS A COQUE | N2: SULFITES
A3: Vinaigrette | J3: X | N3: X
A4: Pain | B4: X
A5: Fromages | C5: X | D5: X
A6: Laitages | C6: X
A7: Corbeille de fruits frais
A8: ='Menus déjeuner'!R3 -> 46272
A9: ='Menus déjeuner'!N10 -> Salade de blé | B9: X | C9: X | D9: X | J9: X | N9: X
A10: ='Menus déjeuner'!N11 -> Salade de tomate et oignon rouge | J10: X
A11: ='Menus déjeuner'!N12 -> Pomelos
A12: ='Menus déjeuner'!N13 -> Salade verte | J12: X | N12: X
A13: ='Menus déjeuner'!N14 -> Filet de poisson au basilic | B13: X | C13: X | D13: X | E13: X | L13: X
A14: ='Menus déjeuner'!N15 -> Saucisse brassée à l'ail | B14: X | C14: X | D14: X | F14: X | L14: X | N14: X
A15: ='Menus déjeuner'!N16 -> Frites
A16: ='Menus déjeuner'!N17 -> Cœur de blé | B16: X | C16: X | D16: X
A17: ='Menus déjeuner'!N22 -> Poire au chocolat | C17: X | F17: X | M17: X
A18: ='Menus déjeuner'!N23 -> Pomme au four | C18: X | M18: X | N18: X
A19: ='Menus déjeuner'!N24 -> Compote sans sucre ajouté ARA
A20: =+A8+1 -> 46273
A21: ='Menus déjeuner'!P10 -> Brunoise courgette et tomate | J21: X | N21: X
A22: ='Menus déjeuner'!P11 -> Cèleri mayo curry | C22: X | D22: X | J22: X | L22: X | N22: X
A23: ='Menus déjeuner'!P12 -> Salade composée | B23: X | C23: X | D23: X | E23: X | J23: X | N23: X
A24: ='Menus déjeuner'!P13 -> Salade verte | J24: X | N24: X
A25: ='Menus déjeuner'!P14 -> Gigolette de lapin à la moutarde | B25: X | C25: X | D25: X | J25: X | L25: X
A26: ='Menus déjeuner'!P15 -> Curry de pois chiches Rhône/Isère | B26: X | C26: X | D26: X | J26: X | L26: X | N26: X
A27: ='Menus déjeuner'!P16 -> Gratin de courgettes | B27: X | C27: X | D27: X
A28: ='Menus déjeuner'!P17 -> Boulgour façon pilaf | B28: X | C28: X | D28: X | L28: X | N28: X
A29: ='Menus déjeuner'!P22 -> Far aux pruneaux | B29: X | C29: X | D29: X
A30: ='Menus déjeuner'!P23 -> Fondant chocolat | B30: X | C30: X | D30: X | F30: X
A31: ='Menus déjeuner'!P24 -> 0
A32: =+A20+1 -> 46274
A33: ='Menus déjeuner'!R10 -> Chou fleur ravigote | C33: X | D33: X | J33: X | N33: X
A34: ='Menus déjeuner'!R11 -> Macédoine vinaigrette | J34: X | N34: X
A35: ='Menus déjeuner'!R12 -> Salade de fonds d'artichaut au curry | J35: X | N35: X
A36: ='Menus déjeuner'!R13 -> Salade verte | J36: X | N36: X
A37: ='Menus déjeuner'!R14 -> Rôti de dinde au jus (Egalim EE) | B37: X | C37: X | D37: X | L37: X | N37: X
A38: ='Menus déjeuner'!R15 -> Croque du Chef au fromage | B38: X | C38: X | D38: X
A39: ='Menus déjeuner'!R16 -> Polenta | C39: X
A40: ='Menus déjeuner'!R17 -> Tomates à la provençale | C40: X | N40: X
...

Sheet All S3
A1: AFFICHAGE DES ALLERGENES PRÉSENTS VOLONTAIREMENT DANS LES MENUS
B2: GLUTEN | C2: LAIT | D2: OEUF | E2: POISSON | F2: SOJA | G2: MOLLUSQUES / CRUSTACÉS | H2: SÉSAME | I2: ARACHIDE | J2: MOUTARDE | K2: LUPIN | L2: CELERI | M2: FRUITS A COQUE | N2: SULFITES
A3: Vinaigrette | J3: X | N3: X
A4: Pain | B4: X
A5: Fromages | C5: X | D5: X
A6: Laitages | C6: X
A7: Corbeille de fruits frais
A8: ='Menus déjeuner'!AD3 -> 46279
A9: ='Menus déjeuner'!Z10 -> Salade de radis aux fines herbes | C9: X | J9: X | N9: X
A10: ='Menus déjeuner'!Z11 -> Carottes râpées | J10: X | N10: X
A11: ='Menus déjeuner'!Z12 -> Chou blanc émincé | J11: X | N11: X
A12: ='Menus déjeuner'!Z13 -> Salade verte | J12: X | N12: X
A13: ='Menus déjeuner'!Z14 -> Tacos haricots rouges et maïs | B13: X | C13: X | D13: X | L13: X | N13: X
A14: ='Menus déjeuner'!Z15 -> Jambon grillé | B14: X | C14: X | D14: X | L14: X | N14: X
A15: ='Menus déjeuner'!Z16 -> Galette de blé à garnir | B15: X
A16: ='Menus déjeuner'!Z17 -> Fondue de poireaux | C16: X
A17: ='Menus déjeuner'!Z22 -> Beignet | B17: X | C17: X | D17: X | F17: X | M17: X
A18: ='Menus déjeuner'!Z23 -> Semoule au lait vanillé | B18: X | C18: X
A19: ='Menus déjeuner'!Z24 -> 0
A20: =+A8+1 -> 46280
A21: ='Menus déjeuner'!AB10 -> Salade de pommes de terre ciboulette | C21: X | D21: X | J21: X | N21: X
A22: ='Menus déjeuner'!AB11 -> Boulgour en salade | B22: X | C22: X | D22: X | E22: X | J22: X | N22: X
A23: ='Menus déjeuner'!AB12 -> Houmous rose | C23: X | J23: X | N23: X
A24: ='Menus déjeuner'!AB13 -> Salade verte | J24: X | N24: X
A25: ='Menus déjeuner'!AB14 -> Sauté d'agneau aux 4 épices | B25: X | C25: X | D25: X | J25: X | L25: X | N25: X
A26: ='Menus déjeuner'!AB15 -> Filet de poisson meunière | B26: X | C26: X | D26: X | E26: X
A27: ='Menus déjeuner'!AB16 -> Ratatouille
A28: ='Menus déjeuner'!AB17 -> Poêlée de pois chiches aux légumes | C28: X | L28: X
A29: ='Menus déjeuner'!AB22 -> Pastèque | N29: X
A30: ='Menus déjeuner'!AB23 -> Salade de fruits frais
A31: ='Menus déjeuner'!AB24 -> Pomme au four | C31: X | M31: X | N31: X
A32: =+A20+1 -> 46281
A33: ='Menus déjeuner'!AD10 -> Tartine au fromage | B33: X | C33: X | D33: X
A34: ='Menus déjeuner'!AD11 -> Cake légumes curry | B34: X | C34: X | D34: X | J34: X | L34: X
A35: ='Menus déjeuner'!AD12 -> Pain perdu salé | B35: X | C35: X | D35: X | F35: X
A36: ='Menus déjeuner'!AD13 -> Salade verte | J36: X | N36: X
A37: ='Menus déjeuner'!AD14 -> Poulet au citron | B37: X | C37: X | D37: X | L37: X | N37: X
A38: ='Menus déjeuner'!AD15 -> Clafoutis courgette & chèvre | B38: X | C38: X | D38: X
A39: ='Menus déjeuner'!AD16 -> Chou fleur persillé | C39: X | N39: X
A40: ='Menus déjeuner'!AD17 -> Quinoa blond | C40: X
...

Sheet All S4
A1: AFFICHAGE DES ALLERGENES PRÉSENTS VOLONTAIREMENT DANS LES MENUS
B2: GLUTEN | C2: LAIT | D2: OEUF | E2: POISSON | F2: SOJA | G2: MOLLUSQUES / CRUSTACÉS | H2: SÉSAME | I2: ARACHIDE | J2: MOUTARDE | K2: LUPIN | L2: CELERI | M2: FRUITS A COQUE | N2: SULFITES
A3: Vinaigrette | J3: X | N3: X
A4: Pain | B4: X
A5: Fromages | C5: X | D5: X
A6: Laitages | C6: X
A7: Corbeille de fruits frais
A8: ='Menus déjeuner'!AP3 -> 46286
A9: ='Menus déjeuner'!AL10 -> Melon (selon météo)
A10: ='Menus déjeuner'!AL11 -> Cèleri râpé citronné | J10: X | L10: X | N10: X
A11: ='Menus déjeuner'!AL12 -> Salade de tomate et maïs | J11: X | N11: X
A12: ='Menus déjeuner'!AL13 -> Salade verte | J12: X | N12: X
A13: ='Menus déjeuner'!AL14 -> Tajine de pois chiches & légumes (carottes, courgettes, navets) | B13: X | C13: X | D13: X | J13: X | L13: X | N13: X
A14: ='Menus déjeuner'!AL15 -> Tajine de poisson | B14: X | C14: X | D14: X | E14: X | L14: X | N14: X
A15: ='Menus déjeuner'!AL16 -> Semoule semi complète | B15: X | C15: X
A16: ='Menus déjeuner'!AL17 -> Courgettes braisées | C16: X | N16: X
A17: ='Menus déjeuner'!AL22 -> Liégeois | C17: X
A18: ='Menus déjeuner'!AL23 -> Flan du Chef chocolat | C18: X | D18: X | F18: X
A19: ='Menus déjeuner'!AL24 -> Abricots au sirop léger
A20: =+A8+1 -> 46287
A21: ='Menus déjeuner'!AN10 -> Salade de pommes de terre & cervelas | C21: X | D21: X | J21: X | N21: X
A22: ='Menus déjeuner'!AN11 -> Salade de haricots rouges | J22: X | N22: X
A23: ='Menus déjeuner'!AN12 -> Salade de riz | C23: X | D23: X | E23: X | J23: X | N23: X
A24: ='Menus déjeuner'!AN13 -> Salade verte | J24: X | N24: X
A25: ='Menus déjeuner'!AN14 -> Émincé de porc aux olives (CE2) | B25: X | C25: X | D25: X | L25: X | N25: X
A26: ='Menus déjeuner'!AN15 -> Omelette aux herbes | C26: X | D26: X
A27: ='Menus déjeuner'!AN16 -> Carottes persillées | C27: X | N27: X
A28: ='Menus déjeuner'!AN17 -> Flageolets | C28: X
A29: ='Menus déjeuner'!AN22 -> Salade de fruits frais | N29: X
A30: ='Menus déjeuner'!AN23 -> Compotée de fruits crus | N30: X
A31: ='Menus déjeuner'!AN24 -> Poire aux amandes | M31: X | N31: X
A32: =+A20+1 -> 46288
A33: ='Menus déjeuner'!AP10 -> Macédoine vinaigrette au citron | J33: X | N33: X
A34: ='Menus déjeuner'!AP11 -> Velouté de légumes | C34: X | L34: X
A35: ='Menus déjeuner'!AP12 -> Champignons à la grecque | J35: X | N35: X
A36: ='Menus déjeuner'!AP13 -> Salade verte | J36: X | N36: X
A37: ='Menus déjeuner'!AP14 -> Poulet rôti aux épices | B37: X | C37: X | D37: X | J37: X | L37: X | N37: X
A38: ='Menus déjeuner'!AP15 -> Œufs brouillés | C38: X | D38: X
A39: ='Menus déjeuner'!AP16 -> Poêlée de légumes | C39: X | L39: X | N39: X
A40: ='Menus déjeuner'!AP17 -> Riz | B40: X | C40: X | D40: X | L40: X | N40: X
...

Sheet All MS1
A1: AFFICHAGE DES ALLERGENES PRÉSENTS VOLONTAIREMENT DANS LES MENUS
B2: GLUTEN | C2: LAIT | D2: OEUF | E2: POISSON | F2: SOJA | G2: MOLLUSQUES / CRUSTACÉS | H2: SÉSAME | I2: ARACHIDE | J2: MOUTARDE | K2: LUPIN | L2: CELERI | M2: FRUITS A COQUE | N2: SULFITES
A3: Vinaigrette | J3: X | N3: X
A4: Pain | B4: X
A5: Fromages et laitages | C5: X
A6: Déjeuner du | B6: =+'Menus déjeuner'!$F$3 -> 46265
A7: ='Menus déjeuner'!B10 -> 0
A8: ='Menus déjeuner'!B11 -> 0
A9: ='Menus déjeuner'!B12 -> 0
A10: ='Menus déjeuner'!B13 -> 0
A11: ='Menus déjeuner'!B14 -> 0
A12: ='Menus déjeuner'!B15 -> 0
A13: ='Menus déjeuner'!B16 -> 0
A14: ='Menus déjeuner'!B17 -> 0
A15: ='Menus déjeuner'!B22 -> 0
A16: ='Menus déjeuner'!B23 -> 0
A17: ='Menus déjeuner'!B24 -> 0
A18: ='Menus déjeuner'!B25 -> 0
A19: Déjeuner du | B19: =B6+1 -> 46266
A20: ='Menus déjeuner'!D10 -> Melon
A21: ='Menus déjeuner'!D11 -> Salade de courgettes à la mimolette
A22: ='Menus déjeuner'!D12 -> Salade de tomate & basilic
A23: ='Menus déjeuner'!D13 -> Salade verte
A24: ='Menus déjeuner'!D14 -> Bolognaise au bœuf
A25: ='Menus déjeuner'!D15 -> Bolognaise lentilles et légumes
A26: ='Menus déjeuner'!D16 -> Pâtes
A27: ='Menus déjeuner'!D17 -> Fondue de courgettes
A28: ='Menus déjeuner'!D22 -> Panna Cotta coco
A29: ='Menus déjeuner'!D23 -> Eclaire chocolat
A30: ='Menus déjeuner'!D24 -> Compote sans sucre ajouté ARA
A31: ='Menus déjeuner'!D25 -> Corbeille de fruits frais
A32: Déjeuner du | B32: =B19+1 -> 46267
A33: ='Menus déjeuner'!F10 -> Cake aux olives
A34: ='Menus déjeuner'!F11 -> Salade composée
A35: ='Menus déjeuner'!F12 -> Terrine de campagne cornichon
A36: ='Menus déjeuner'!F13 -> Salade verte
A37: ='Menus déjeuner'!F14 -> Escalope de dinde aux herbes (Egalim EE)
A38: ='Menus déjeuner'!F15 -> Falafels sauce yaourt
A39: ='Menus déjeuner'!F16 -> Courgettes
A40: ='Menus déjeuner'!F17 -> Boulgour
...

Sheet All MS2
A1: AFFICHAGE DES ALLERGENES PRÉSENTS VOLONTAIREMENT DANS LES MENUS
B2: GLUTEN | C2: LAIT | D2: OEUF | E2: POISSON | F2: SOJA | G2: MOLLUSQUES / CRUSTACÉS | H2: SÉSAME | I2: ARACHIDE | J2: MOUTARDE | K2: LUPIN | L2: CELERI | M2: FRUITS A COQUE | N2: SULFITES
A3: Vinaigrette | J3: X | N3: X
A4: Pain | B4: X
A5: Fromages et laitages | C5: X
A6: Déjeuner du | B6: =+'Menus déjeuner'!$R$3 -> 46272
A7: ='Menus déjeuner'!N10 -> Salade de blé | J7: X | N7: X
A8: ='Menus déjeuner'!N11 -> Salade de tomate et oignon rouge | B8: X | C8: X | D8: X | E8: X | J8: X | N8: X
A9: ='Menus déjeuner'!N12 -> Pomelos | J9: X | N9: X
A10: ='Menus déjeuner'!N13 -> Salade verte | J10: X | L10: X | N10: X
A11: ='Menus déjeuner'!N14 -> Filet de poisson au basilic | B11: X | C11: X | D11: X | E11: X | L11: X | N11: X
A12: ='Menus déjeuner'!N15 -> Saucisse brassée à l'ail | B12: X | C12: X | D12: X | L12: X | N12: X
A13: ='Menus déjeuner'!N16 -> Frites | C13: X
A14: ='Menus déjeuner'!N17 -> Cœur de blé | B14: X | C14: X | D14: X
A15: ='Menus déjeuner'!N22 -> Poire au chocolat
A16: ='Menus déjeuner'!N23 -> Pomme au four
A17: ='Menus déjeuner'!N24 -> Compote sans sucre ajouté ARA | C17: X
A18: ='Menus déjeuner'!N25 -> Corbeille de fruits frais | B18: X | C18: X | D18: X | F18: X | M18: X
A19: Déjeuner du | B19: =B6+1 -> 46273
A20: ='Menus déjeuner'!P10 -> Brunoise courgette et tomate | C20: X | J20: X | N20: X
A21: ='Menus déjeuner'!P11 -> Cèleri mayo curry | J21: X | N21: X
A22: ='Menus déjeuner'!P12 -> Salade composée | B22: X | C22: X | D22: X | L22: X
A23: ='Menus déjeuner'!P13 -> Salade verte | B23: X | C23: X | D23: X | E23: X | J23: X | N23: X
A24: ='Menus déjeuner'!P14 -> Gigolette de lapin à la moutarde | B24: X | C24: X | D24: X | J24: X | L24: X | N24: X
A25: ='Menus déjeuner'!P15 -> Curry de pois chiches Rhône/Isère | C25: X | D25: X
A26: ='Menus déjeuner'!P16 -> Gratin de courgettes | C26: X
A27: ='Menus déjeuner'!P17 -> Boulgour façon pilaf | B27: X | C27: X
A28: ='Menus déjeuner'!P22 -> Far aux pruneaux | C28: X
A29: ='Menus déjeuner'!P23 -> Fondant chocolat | C29: X
A30: ='Menus déjeuner'!P24 -> 0 | B30: X | C30: X | D30: X
A31: ='Menus déjeuner'!P25 -> Corbeille de fruits frais
A32: Déjeuner du | B32: =B19+1 -> 46274
A33: ='Menus déjeuner'!R10 -> Chou fleur ravigote | J33: X | N33: X
A34: ='Menus déjeuner'!R11 -> Macédoine vinaigrette | C34: X | J34: X | N34: X
A35: ='Menus déjeuner'!R12 -> Salade de fonds d'artichaut au curry | B35: X | C35: X | D35: X | E35: X | J35: X | N35: X
A36: ='Menus déjeuner'!R13 -> Salade verte | J36: X | N36: X
A37: ='Menus déjeuner'!R14 -> Rôti de dinde au jus (Egalim EE) | B37: X | C37: X | D37: X | F37: X | H37: X | J37: X | L37: X | N37: X
A38: ='Menus déjeuner'!R15 -> Croque du Chef au fromage | B38: X | C38: X | D38: X | E38: X | L38: X | N38: X
A39: ='Menus déjeuner'!R16 -> Polenta | C39: X | L39: X
A40: ='Menus déjeuner'!R17 -> Tomates à la provençale | B40: X | C40: X
...

Sheet All MS3
A1: AFFICHAGE DES ALLERGENES PRÉSENTS VOLONTAIREMENT DANS LES MENUS
B2: GLUTEN | C2: LAIT | D2: OEUF | E2: POISSON | F2: SOJA | G2: MOLLUSQUES / CRUSTACÉS | H2: SÉSAME | I2: ARACHIDE | J2: MOUTARDE | K2: LUPIN | L2: CELERI | M2: FRUITS A COQUE | N2: SULFITES
A3: Vinaigrette | J3: X | N3: X
A4: Pain | B4: X
A5: Fromages et laitages | C5: X
A6: Déjeuner du | B6: =+'Menus déjeuner'!$AD$3 -> 46279
A7: ='Menus déjeuner'!Z10 -> Salade de radis aux fines herbes | C7: X | J7: X | N7: X
A8: ='Menus déjeuner'!Z11 -> Carottes râpées | J8: X | N8: X
A9: ='Menus déjeuner'!Z12 -> Chou blanc émincé | J9: X | N9: X
A10: ='Menus déjeuner'!Z13 -> Salade verte | J10: X | N10: X
A11: ='Menus déjeuner'!Z14 -> Tacos haricots rouges et maïs | B11: X | C11: X | D11: X | F11: X | H11: X | J11: X | L11: X | N11: X
A12: ='Menus déjeuner'!Z15 -> Jambon grillé | B12: X | C12: X | D12: X | E12: X | J12: X | L12: X | N12: X
A13: ='Menus déjeuner'!Z16 -> Galette de blé à garnir | C13: X
A14: ='Menus déjeuner'!Z17 -> Fondue de poireaux | B14: X | C14: X | F14: X
A15: ='Menus déjeuner'!Z22 -> Beignet | B15: X | C15: X | D15: X
A16: ='Menus déjeuner'!Z23 -> Semoule au lait vanillé | B16: X | C16: X | D16: X | F16: X
A17: ='Menus déjeuner'!Z24 -> 0
A18: ='Menus déjeuner'!Z25 -> Corbeille de fruits frais
A19: Déjeuner du | B19: =B6+1 -> 46280
A20: ='Menus déjeuner'!AB10 -> Salade de pommes de terre ciboulette | J20: X | N20: X
A21: ='Menus déjeuner'!AB11 -> Boulgour en salade | B21: X | C21: X | D21: X | E21: X | J21: X | N21: X
A22: ='Menus déjeuner'!AB12 -> Houmous rose
A23: ='Menus déjeuner'!AB13 -> Salade verte | C23: X
A24: ='Menus déjeuner'!AB14 -> Sauté d'agneau aux 4 épices | C24: X | D24: X
A25: ='Menus déjeuner'!AB15 -> Filet de poisson meunière | B25: X | C25: X | D25: X | E25: X | L25: X | N25: X
A26: ='Menus déjeuner'!AB16 -> Ratatouille | C26: X
A27: ='Menus déjeuner'!AB17 -> Poêlée de pois chiches aux légumes | C27: X | N27: X
A28: ='Menus déjeuner'!AB22 -> Pastèque
A29: ='Menus déjeuner'!AB23 -> Salade de fruits frais
A30: ='Menus déjeuner'!AB24 -> Pomme au four | C30: X | F30: X | M30: X
A31: ='Menus déjeuner'!AB25 -> Corbeille de fruits frais | B31: X | C31: X | D31: X
A32: Déjeuner du | B32: =B19+1 -> 46281
A33: ='Menus déjeuner'!AD10 -> Tartine au fromage | J33: X | N33: X
A34: ='Menus déjeuner'!AD11 -> Cake légumes curry | D34: X | J34: X | L34: X | N34: X
A35: ='Menus déjeuner'!AD12 -> Pain perdu salé | B35: X | C35: X | F35: X | J35: X | N35: X
A36: ='Menus déjeuner'!AD13 -> Salade verte | B36: X | C36: X | D36: X | J36: X | L36: X
A37: ='Menus déjeuner'!AD14 -> Poulet au citron | B37: X | C37: X | D37: X | L37: X | N37: X
A38: ='Menus déjeuner'!AD15 -> Clafoutis courgette & chèvre | B38: X | C38: X | D38: X | E38: X | L38: X | N38: X
A39: ='Menus déjeuner'!AD16 -> Chou fleur persillé | C39: X
A40: ='Menus déjeuner'!AD17 -> Quinoa blond | C40: X
...

Sheet All MS4
A1: AFFICHAGE DES ALLERGENES PRÉSENTS VOLONTAIREMENT DANS LES MENUS
B2: GLUTEN | C2: LAIT | D2: OEUF | E2: POISSON | F2: SOJA | G2: MOLLUSQUES / CRUSTACÉS | H2: SÉSAME | I2: ARACHIDE | J2: MOUTARDE | K2: LUPIN | L2: CELERI | M2: FRUITS A COQUE | N2: SULFITES
A3: Vinaigrette | J3: X | N3: X
A4: Pain | B4: X
A5: Fromages et laitages | C5: X
A6: Déjeuner du | B6: =+'Menus déjeuner'!$AP$3 -> 46286
A7: ='Menus déjeuner'!AL10 -> Melon (selon météo) | C7: X | J7: X | N7: X
A8: ='Menus déjeuner'!AL11 -> Cèleri râpé citronné | J8: X | N8: X
A9: ='Menus déjeuner'!AL12 -> Salade de tomate et maïs | B9: X | C9: X | D9: X
A10: ='Menus déjeuner'!AL13 -> Salade verte | J10: X | N10: X
A11: ='Menus déjeuner'!AL14 -> Tajine de pois chiches & légumes (carottes, courgettes, navets)
A12: ='Menus déjeuner'!AL15 -> Tajine de poisson | C12: X | D12: X
A13: ='Menus déjeuner'!AL16 -> Semoule semi complète | B13: X | C13: X | D13: X
A14: ='Menus déjeuner'!AL17 -> Courgettes braisées | C14: X
A15: ='Menus déjeuner'!AL22 -> Liégeois
A16: ='Menus déjeuner'!AL23 -> Flan du Chef chocolat
A17: ='Menus déjeuner'!AL24 -> Abricots au sirop léger | C17: X
A18: ='Menus déjeuner'!AL25 -> Corbeille de fruits frais | B18: X | C18: X | D18: X
A19: Déjeuner du | B19: =B6+1 -> 46287
A20: ='Menus déjeuner'!AN10 -> Salade de pommes de terre & cervelas | C20: X | J20: X | N20: X
A21: ='Menus déjeuner'!AN11 -> Salade de haricots rouges
A22: ='Menus déjeuner'!AN12 -> Salade de riz | J22: X | L22: X | N22: X
A23: ='Menus déjeuner'!AN13 -> Salade verte | B23: X | C23: X | J23: X | N23: X
A24: ='Menus déjeuner'!AN14 -> Émincé de porc aux olives (CE2) | B24: X | C24: X | D24: X | L24: X | N24: X
A25: ='Menus déjeuner'!AN15 -> Omelette aux herbes | B25: X | C25: X | D25: X | E25: X | L25: X | N25: X
A26: ='Menus déjeuner'!AN16 -> Carottes persillées | C26: X
A27: ='Menus déjeuner'!AN17 -> Flageolets | C27: X
A28: ='Menus déjeuner'!AN22 -> Salade de fruits frais | B28: X | C28: X | D28: X | F28: X | M28: X
A29: ='Menus déjeuner'!AN23 -> Compotée de fruits crus | B29: X | C29: X | D29: X
A30: ='Menus déjeuner'!AN24 -> Poire aux amandes
A31: ='Menus déjeuner'!AN25 -> Corbeille de fruits frais
A32: Déjeuner du | B32: =B19+1 -> 46288
A33: ='Menus déjeuner'!AP10 -> Macédoine vinaigrette au citron | C33: X
A34: ='Menus déjeuner'!AP11 -> Velouté de légumes | J34: X | N34: X
A35: ='Menus déjeuner'!AP12 -> Champignons à la grecque | J35: X | N35: X
A36: ='Menus déjeuner'!AP13 -> Salade verte | J36: X | N36: X
A37: ='Menus déjeuner'!AP14 -> Poulet rôti aux épices | B37: X | C37: X | D37: X | L37: X | N37: X
A38: ='Menus déjeuner'!AP15 -> Œufs brouillés | B38: X | C38: X | D38: X
A39: ='Menus déjeuner'!AP16 -> Poêlée de légumes | C39: X
A40: ='Menus déjeuner'!AP17 -> Riz | C40: X | L40: X
...

Sheet All MS5
A1: AFFICHAGE DES ALLERGENES PRÉSENTS VOLONTAIREMENT DANS LES MENUS
B2: GLUTEN | C2: LAIT | D2: OEUF | E2: POISSON | F2: SOJA | G2: MOLLUSQUES / CRUSTACÉS | H2: SÉSAME | I2: ARACHIDE | J2: MOUTARDE | K2: LUPIN | L2: CELERI | M2: FRUITS A COQUE | N2: SULFITES
A3: Vinaigrette | J3: X | N3: X
A4: Pain | B4: X
A5: Fromages et laitages | C5: X
A6: Déjeuner du | B6: =+'Menus déjeuner'!$BB$3 -> 46293
A7: ='Menus déjeuner'!AX10 -> 0 | B7: X | C7: X | J7: X | N7: X
A8: ='Menus déjeuner'!AX11 -> 0 | J8: X | N8: X
A9: ='Menus déjeuner'!AX12 -> 0 | D9: X | J9: X | N9: X
A10: ='Menus déjeuner'!AX13 -> 0 | B10: X | C10: X | D10: X | E10: X | J10: X | N10: X
A11: ='Menus déjeuner'!AX14 -> 0 | B11: X | C11: X | D11: X | L11: X | N11: X
A12: ='Menus déjeuner'!AX15 -> 0 | C12: X | D12: X
A13: ='Menus déjeuner'!AX16 -> 0
A14: ='Menus déjeuner'!AX17 -> 0 | C14: X
A15: ='Menus déjeuner'!AX22 -> 0 | C15: X | D15: X | F15: X | M15: X
A16: ='Menus déjeuner'!AX23 -> 0 | C16: X | D16: X
A17: ='Menus déjeuner'!AX24 -> 0 | C17: X | F17: X
A18: ='Menus déjeuner'!AX25 -> 0
A19: Déjeuner du | B19: =B6+1 -> 46294
A20: ='Menus déjeuner'!AZ10 -> 0 | C20: X | J20: X | N20: X
A21: ='Menus déjeuner'!AZ11 -> 0
A22: ='Menus déjeuner'!AZ12 -> 0 | C22: X | D22: X | E22: X | J22: X | N22: X
A23: ='Menus déjeuner'!AZ13 -> 0 | D23: X | J23: X | N23: X
A24: ='Menus déjeuner'!AZ14 -> 0 | B24: X
A25: ='Menus déjeuner'!AZ15 -> 0 | B25: X | C25: X | D25: X | E25: X | L25: X | N25: X
A26: ='Menus déjeuner'!AZ16 -> 0 | C26: X
A27: ='Menus déjeuner'!AZ17 -> 0 | B27: X | C27: X
A28: ='Menus déjeuner'!AZ22 -> 0 | B28: X | C28: X | D28: X
A29: ='Menus déjeuner'!AZ23 -> 0 | B29: X | C29: X | D29: X | F29: X
A30: ='Menus déjeuner'!AZ24 -> 0
A31: ='Menus déjeuner'!AZ25 -> 0
A32: Déjeuner du | B32: =B19+1 -> 46295
A33: ='Menus déjeuner'!BB10 -> 0 | C33: X | J33: X | N33: X
A34: ='Menus déjeuner'!BB11 -> 0 | J34: X | N34: X
A35: ='Menus déjeuner'!BB12 -> 0 | B35: X | J35: X | N35: X
A36: ='Menus déjeuner'!BB13 -> 0 | J36: X | N36: X
A37: ='Menus déjeuner'!BB14 -> 0
A38: ='Menus déjeuner'!BB15 -> 0 | B38: X | C38: X | D38: X | E38: X | L38: X | N38: X
A39: ='Menus déjeuner'!BB16 -> 0 | B39: X | C39: X | F39: X
A40: ='Menus déjeuner'!BB17 -> 0 | C40: X
...

Sheet mois dej unique
B2: ='Menus déjeuner'!D1 -> CHOIX DIRIGÉ
B4: 43709
B5: La liste des allergènes présents volontairement dans les préparations est affichée à l'entrée du restaurant, conformément au règlement UE n° 1169/2011
B7: Semaine du | C7: ='Matrice menus dej uniques'!D4 -> 46265 | D7: au | E7: =C7+4 -> 46269
C8: ='Menus déjeuner'!D10 -> Melon | D8: ='Menus déjeuner'!F10 -> Cake aux olives | E8: ='Menus déjeuner'!H10 -> Concombre à l'aneth | F8: ='Menus déjeuner'!J10 -> Rosette
C9: ='Matrice menus dej uniques'!C21 -> Bolognaise au bœuf | D9: ='Matrice menus dej uniques'!D21 -> Escalope de dinde aux herbes (Egalim EE) | E9: ='Matrice menus dej uniques'!E21 -> Filet de poisson crème citron | F9: ='Matrice menus dej uniques'!F21 -> Poulet Yassa (moutarde, oignon, ail, citrons jaune & vert) (Egalim EE)
C10: ='Matrice menus dej uniques'!C26 -> Pâtes | D10: ='Matrice menus dej uniques'!D26 -> Courgettes | E10: ='Matrice menus dej uniques'!E26 -> Gratin d'aubergine à la tomate | F10: ='Matrice menus dej uniques'!F26 -> Blé
C11: ='Matrice menus dej uniques'!C31 -> 2 fromages à la coupe | D11: ='Matrice menus dej uniques'!D31 -> 2 fromages à la coupe | E11: ='Matrice menus dej uniques'!E31 -> 2 fromages à la coupe | F11: ='Matrice menus dej uniques'!F31 -> 2 fromages à la coupe
C12: ='Matrice menus dej uniques'!C37 -> Panna Cotta coco | D12: ='Matrice menus dej uniques'!D37 -> Fromage blanc au caramel | E12: ='Matrice menus dej uniques'!E37 -> Tarte aux pommes | F12: ='Matrice menus dej uniques'!F37 -> Salade fruits frais
B14: Semaine du | C14: ='Matrice menus dej uniques'!L4 -> 46272 | D14: au | E14: =C14+4 -> 46276
B15: ='Matrice menus dej uniques'!J13 -> Salade de blé | C15: ='Matrice menus dej uniques'!K13 -> Brunoise courgette et tomate | D15: ='Matrice menus dej uniques'!L13 -> Chou fleur ravigote | E15: ='Matrice menus dej uniques'!M13 -> Mousse de carottes au curry | F15: ='Matrice menus dej uniques'!N13 -> Lentilles vertes Isère vinaigrette
B16: ='Matrice menus dej uniques'!J21 -> Filet de poisson au basilic | C16: ='Matrice menus dej uniques'!K21 -> Gigolette de lapin à la moutarde | D16: ='Matrice menus dej uniques'!L21 -> Rôti de dinde au jus (Egalim EE) | E16: ='Matrice menus dej uniques'!M21 -> Quenelles gratinées sauce tomate | F16: ='Matrice menus dej uniques'!N21 -> Émincé de bœuf au paprika
B17: ='Matrice menus dej uniques'!J26 -> Frites | C17: ='Matrice menus dej uniques'!K26 -> Gratin de courgettes | D17: ='Matrice menus dej uniques'!L26 -> Polenta | E17: ='Matrice menus dej uniques'!M26 -> Riz | F17: ='Matrice menus dej uniques'!N26 -> Carottes au beurre
B18: ='Matrice menus dej uniques'!J31 -> 2 fromages à la coupe | C18: ='Matrice menus dej uniques'!K31 -> 2 fromages à la coupe | D18: ='Matrice menus dej uniques'!L31 -> 2 fromages à la coupe | E18: ='Matrice menus dej uniques'!M31 -> 2 fromages à la coupe | F18: ='Matrice menus dej uniques'!N31 -> 2 fromages à la coupe
B19: ='Matrice menus dej uniques'!J37 -> Poire au chocolat | C19: ='Matrice menus dej uniques'!K37 -> Far aux pruneaux | D19: ='Matrice menus dej uniques'!L37 -> Quartiers d'agrumes | E19: ='Matrice menus dej uniques'!M37 -> Ananas | F19: ='Matrice menus dej uniques'!N37 -> Salade de fruits frais
B21: Semaine du | C21: ='Matrice menus dej uniques'!T4 -> 46279 | D21: au | E21: =C21+4 -> 46283
B22: ='Matrice menus dej uniques'!R13 -> Salade de radis aux fines herbes | C22: ='Matrice menus dej uniques'!S13 -> Salade de pommes de terre ciboulette | D22: ='Matrice menus dej uniques'!T13 -> Tartine au fromage | E22: ='Matrice menus dej uniques'!U13 -> animation Italie | F22: ='Matrice menus dej uniques'!V13 -> Tomates et olives noires
B23: ='Matrice menus dej uniques'!R21 -> Tacos haricots rouges et maïs | C23: ='Matrice menus dej uniques'!S21 -> Sauté d'agneau aux 4 épices | D23: ='Matrice menus dej uniques'!T21 -> Poulet au citron | E23: ='Matrice menus dej uniques'!U21 -> Pâtes carbo | F23: ='Matrice menus dej uniques'!V21 -> Crumble de poisson
B24: ='Matrice menus dej uniques'!R26 -> Galette de blé à garnir | C24: ='Matrice menus dej uniques'!S26 -> Ratatouille | D24: ='Matrice menus dej uniques'!T26 -> Chou fleur persillé | E24: ='Matrice menus dej uniques'!U26 -> Pennes | F24: ='Matrice menus dej uniques'!V26 -> Purée de brocolis
B25: ='Matrice menus dej uniques'!R31 -> 2 fromages à la coupe | C25: ='Matrice menus dej uniques'!S31 -> 2 fromages à la coupe | D25: ='Matrice menus dej uniques'!T31 -> 2 fromages à la coupe | E25: ='Matrice menus dej uniques'!U31 -> 2 fromages à la coupe | F25: ='Matrice menus dej uniques'!V31 -> 2 fromages à la coupe
B26: ='Matrice menus dej uniques'!R37 -> Beignet | C26: ='Matrice menus dej uniques'!S37 -> Pastèque | D26: ='Matrice menus dej uniques'!T37 -> Melon | E26: ='Matrice menus dej uniques'!U37 -> Pana cotta mangue | F26: ='Matrice menus dej uniques'!V37 -> Crème dessert vanille
B28: Semaine du | C28: ='Matrice menus dej uniques'!AB4 -> 46286 | D28: au | E28: =C28+4 -> 46290
B29: ='Matrice menus dej uniques'!Z13 -> Melon (selon météo) | C29: ='Matrice menus dej uniques'!AA13 -> Salade de pommes de terre & cervelas | D29: ='Matrice menus dej uniques'!AB13 -> Macédoine vinaigrette au citron | E29: ='Matrice menus dej uniques'!AC13 -> Concombre au fromage blanc | F29: ='Matrice menus dej uniques'!AD13 -> Rillettes de sardines
B30: ='Matrice menus dej uniques'!Z21 -> Tajine de pois chiches & légumes (carottes, courgettes, navets) | C30: ='Matrice menus dej uniques'!AA21 -> Émincé de porc aux olives (CE2) | D30: ='Matrice menus dej uniques'!AB21 -> Poulet rôti aux épices | E30: ='Matrice menus dej uniques'!AC21 -> Gratin de poisson aneth citron | F30: ='Matrice menus dej uniques'!AD21 -> Dinde façon basquaise (Egalim EE)
B31: ='Matrice menus dej uniques'!Z26 -> Semoule semi complète | C31: ='Matrice menus dej uniques'!AA26 -> Carottes persillées | D31: ='Matrice menus dej uniques'!AB26 -> Poêlée de légumes | E31: ='Matrice menus dej uniques'!AC26 -> Haricots verts sautés l'ail | F31: ='Matrice menus dej uniques'!AD26 -> Boulgour
B32: ='Matrice menus dej uniques'!Z31 -> 2 fromages à la coupe | C32: ='Matrice menus dej uniques'!AA31 -> 2 fromages à la coupe | D32: ='Matrice menus dej uniques'!AB31 -> 2 fromages à la coupe | E32: ='Matrice menus dej uniques'!AC31 -> 2 fromages à la coupe | F32: ='Matrice menus dej uniques'!AD31 -> 2 fromages à la coupe
B33: ='Matrice menus dej uniques'!Z37 -> Liégeois | C33: ='Matrice menus dej uniques'!AA37 -> Salade de fruits frais | D33: ='Matrice menus dej uniques'!AB37 -> Banane caramel | E33: ='Matrice menus dej uniques'!AC37 -> Marbré | F33: ='Matrice menus dej uniques'!AD37 -> Ananas
A39: Menus équilibrés recommandés par le service Diététique & Nutrition de Mille et Un Repas et conformes au GEMRCN

Sheet Matrice menus dej uniques
C2: ='Menus déjeuner'!D1:H1 -> #VALUE! | K2: =C2 -> #VALUE! | S2: =C2 -> #VALUE! | AA2: =C2 -> #VALUE! | AI2: =C2 -> #VALUE!
D4: ='Menus déjeuner'!F3 -> 46265 | E4: ='Menus déjeuner'!H3 -> 46269 | L4: ='Menus déjeuner'!R3 -> 46272 | M4: =L4+4 -> 46276 | T4: ='Menus déjeuner'!AD3 -> 46279 | U4: =T4+4 -> 46283 | AB4: ='Menus déjeuner'!AP3 -> 46286 | AC4: =AB4+4 -> 46290 | AJ4: ='Menus déjeuner'!BB3 -> 46293 | AK4: =AJ4+4 -> 46297
B6: La liste des allergènes présents volontairement dans les préparations est affichée à l'entrée du restaurant, conformément au règlement UE n° 1169/2011 | J6: La liste des allergènes présents volontairement dans les préparations est affichée à l'entrée du restaurant, conformément au règlement UE n° 1169/2011 | R6: La liste des allergènes présents volontairement dans les préparations est affichée à l'entrée du restaurant, conformément au règlement UE n° 1169/2011 | Z6: La liste des allergènes présents volontairement dans les préparations est affichée à l'entrée du restaurant, conformément au règlement UE n° 1169/2011 | AH6: La liste des allergènes présents volontairement dans les préparations est affichée à l'entrée du restaurant, conformément au règlement UE n° 1169/2011
D8: * Menus indicatifs sous réserve de modifications * | L8: * Menus indicatifs sous réserve de modifications * | T8: * Menus indicatifs sous réserve de modifications * | AB8: * Menus indicatifs sous réserve de modifications * | AJ8: * Menus indicatifs sous réserve de modifications *
A10: ='Menus déjeuner'!#REF! -> #REF! | I10: ='Menus déjeuner'!#REF! -> #REF! | Q10: ='Menus déjeuner'!#REF! -> #REF! | Y10: ='Menus déjeuner'!#REF! -> #REF! | AG10: ='Menus déjeuner'!#REF! -> #REF!
B13: ='Menus déjeuner'!B10 -> 0 | C13: ='Menus déjeuner'!D10 -> Melon | D13: ='Menus déjeuner'!F10 -> Cake aux olives | E13: ='Menus déjeuner'!H10 -> Concombre à l'aneth | F13: ='Menus déjeuner'!J10 -> Rosette | J13: ='Menus déjeuner'!N10 -> Salade de blé | K13: ='Menus déjeuner'!P10 -> Brunoise courgette et tomate | L13: ='Menus déjeuner'!R10 -> Chou fleur ravigote | M13: ='Menus déjeuner'!T10 -> Mousse de carottes au curry | N13: ='Menus déjeuner'!V10 -> Lentilles vertes Isère vinaigrette | R13: ='Menus déjeuner'!Z10 -> Salade de radis aux fines herbes | S13: ='Menus déjeuner'!AB10 -> Salade de pommes de terre ciboulette | T13: ='Menus déjeuner'!AD10 -> Tartine au fromage | U13: ='Menus déjeuner'!AF10 -> animation Italie | V13: ='Menus déjeuner'!AH10 -> Tomates et olives noires | Z13: ='Menus déjeuner'!AL10 -> Melon (selon météo) | AA13: ='Menus déjeuner'!AN10 -> Salade de pommes de terre & cervelas | AB13: ='Menus déjeuner'!AP10 -> Macédoine vinaigrette au citron | AC13: ='Menus déjeuner'!AR10 -> Concombre au fromage blanc | AD13: ='Menus déjeuner'!AT10 -> Rillettes de sardines | AH13: ='Menus déjeuner'!AX10 -> 0 | AI13: ='Menus déjeuner'!AZ10 -> 0 | AJ13: ='Menus déjeuner'!BB10 -> 0 | AK13: ='Menus déjeuner'!BD10 -> 0 | AL13: ='Menus déjeuner'!BF10 -> 0
B21: ='Menus déjeuner'!B14 -> 0 | C21: ='Menus déjeuner'!D14 -> Bolognaise au bœuf | D21: ='Menus déjeuner'!F14 -> Escalope de dinde aux herbes (Egalim EE) | E21: ='Menus déjeuner'!H14 -> Filet de poisson crème citron | F21: ='Menus déjeuner'!J14 -> Poulet Yassa (moutarde, oignon, ail, citrons jaune & vert) (Egalim EE) | J21: ='Menus déjeuner'!N14 -> Filet de poisson au basilic | K21: ='Menus déjeuner'!P14 -> Gigolette de lapin à la moutarde | L21: ='Menus déjeuner'!R14 -> Rôti de dinde au jus (Egalim EE) | M21: ='Menus déjeuner'!T14 -> Quenelles gratinées sauce tomate | N21: ='Menus déjeuner'!V14 -> Émincé de bœuf au paprika | R21: ='Menus déjeuner'!Z14 -> Tacos haricots rouges et maïs | S21: ='Menus déjeuner'!AB14 -> Sauté d'agneau aux 4 épices | T21: ='Menus déjeuner'!AD14 -> Poulet au citron | U21: ='Menus déjeuner'!AF14 -> Pâtes carbo | V21: ='Menus déjeuner'!AH14 -> Crumble de poisson | Z21: ='Menus déjeuner'!AL14 -> Tajine de pois chiches & légumes (carottes, courgettes, navets) | AA21: ='Menus déjeuner'!AN14 -> Émincé de porc aux olives (CE2) | AB21: ='Menus déjeuner'!AP14 -> Poulet rôti aux épices | AC21: ='Menus déjeuner'!AR14 -> Gratin de poisson aneth citron | AD21: ='Menus déjeuner'!AT14 -> Dinde façon basquaise (Egalim EE) | AH21: ='Menus déjeuner'!AX14 -> 0 | AI21: ='Menus déjeuner'!AZ14 -> 0 | AJ21: ='Menus déjeuner'!BB14 -> 0 | AK21: ='Menus déjeuner'!BD14 -> 0 | AL21: ='Menus déjeuner'!BF14 -> 0
B26: ='Menus déjeuner'!B16 -> 0 | C26: ='Menus déjeuner'!D16 -> Pâtes | D26: ='Menus déjeuner'!F16 -> Courgettes | E26: ='Menus déjeuner'!H16 -> Gratin d'aubergine à la tomate | F26: ='Menus déjeuner'!J16 -> Blé | J26: ='Menus déjeuner'!N16 -> Frites | K26: ='Menus déjeuner'!P16 -> Gratin de courgettes | L26: ='Menus déjeuner'!R16 -> Polenta | M26: ='Menus déjeuner'!T16 -> Riz | N26: ='Menus déjeuner'!V16 -> Carottes au beurre | R26: ='Menus déjeuner'!Z16 -> Galette de blé à garnir | S26: ='Menus déjeuner'!AB16 -> Ratatouille | T26: ='Menus déjeuner'!AD16 -> Chou fleur persillé | U26: ='Menus déjeuner'!AF16 -> Pennes | V26: ='Menus déjeuner'!AH16 -> Purée de brocolis | Z26: ='Menus déjeuner'!AL16 -> Semoule semi complète | AA26: ='Menus déjeuner'!AN16 -> Carottes persillées | AB26: ='Menus déjeuner'!AP16 -> Poêlée de légumes | AC26: ='Menus déjeuner'!AR16 -> Haricots verts sautés l'ail | AD26: ='Menus déjeuner'!AT16 -> Boulgour | AH26: ='Menus déjeuner'!AX16 -> 0 | AI26: ='Menus déjeuner'!AZ16 -> 0 | AJ26: ='Menus déjeuner'!BB16 -> 0 | AK26: ='Menus déjeuner'!BD16 -> 0 | AL26: ='Menus déjeuner'!BF16 -> 0
B31: ='Menus déjeuner'!B18 -> 0 | C31: ='Menus déjeuner'!D18 -> 2 fromages à la coupe | D31: ='Menus déjeuner'!F18 -> 2 fromages à la coupe | E31: ='Menus déjeuner'!H18 -> 2 fromages à la coupe | F31: ='Menus déjeuner'!J18 -> 2 fromages à la coupe | J31: ='Menus déjeuner'!N18 -> 2 fromages à la coupe | K31: ='Menus déjeuner'!P18 -> 2 fromages à la coupe | L31: ='Menus déjeuner'!R18 -> 2 fromages à la coupe | M31: ='Menus déjeuner'!T18 -> 2 fromages à la coupe | N31: ='Menus déjeuner'!V18 -> 2 fromages à la coupe | R31: ='Menus déjeuner'!Z18 -> 2 fromages à la coupe | S31: ='Menus déjeuner'!AB18 -> 2 fromages à la coupe | T31: ='Menus déjeuner'!AD18 -> 2 fromages à la coupe | U31: ='Menus déjeuner'!AF18 -> 2 fromages à la coupe | V31: ='Menus déjeuner'!AH18 -> 2 fromages à la coupe | Z31: ='Menus déjeuner'!AL18 -> 2 fromages à la coupe | AA31: ='Menus déjeuner'!AN18 -> 2 fromages à la coupe | AB31: ='Menus déjeuner'!AP18 -> 2 fromages à la coupe | AC31: ='Menus déjeuner'!AR18 -> 2 fromages à la coupe | AD31: ='Menus déjeuner'!AT18 -> 2 fromages à la coupe | AH31: ='Menus déjeuner'!AX18 -> 0 | AI31: ='Menus déjeuner'!AZ18 -> 0 | AJ31: ='Menus déjeuner'!BB18 -> 0 | AK31: ='Menus déjeuner'!BD18 -> 0 | AL31: ='Menus déjeuner'!BF18 -> 0
B37: ='Menus déjeuner'!B22 -> 0 | C37: ='Menus déjeuner'!D22 -> Panna Cotta coco | D37: ='Menus déjeuner'!F22 -> Fromage blanc au caramel | E37: ='Menus déjeuner'!H22 -> Tarte aux pommes | F37: ='Menus déjeuner'!J22 -> Salade fruits frais | J37: ='Menus déjeuner'!N22 -> Poire au chocolat | K37: ='Menus déjeuner'!P22 -> Far aux pruneaux | L37: ='Menus déjeuner'!R22 -> Quartiers d'agrumes | M37: ='Menus déjeuner'!T22 -> Ananas | N37: ='Menus déjeuner'!V22 -> Salade de fruits frais | R37: ='Menus déjeuner'!Z22 -> Beignet | S37: ='Menus déjeuner'!AB22 -> Pastèque | T37: ='Menus déjeuner'!AD22 -> Melon | U37: ='Menus déjeuner'!AF22 -> Pana cotta mangue | V37: ='Menus déjeuner'!AH22 -> Crème dessert vanille | Z37: ='Menus déjeuner'!AL22 -> Liégeois | AA37: ='Menus déjeuner'!AN22 -> Salade de fruits frais | AB37: ='Menus déjeuner'!AP22 -> Banane caramel | AC37: ='Menus déjeuner'!AR22 -> Marbré | AD37: ='Menus déjeuner'!AT22 -> Ananas | AH37: ='Menus déjeuner'!AX22 -> 0 | AI37: ='Menus déjeuner'!AZ22 -> 0 | AJ37: ='Menus déjeuner'!BB22 -> 0 | AK37: ='Menus déjeuner'!BD22 -> 0 | AL37: ='Menus déjeuner'!BF22 -> 0
B47: Menus équilibrés recommandés par le service Diététique & Nutrition de Mille et Un Repas et conformes au GEMRCN | J47: Menus équilibrés recommandés par le service Diététique & Nutrition de Mille et Un Repas et conformes au GEMRCN | R47: Menus équilibrés recommandés par le service Diététique & Nutrition de Mille et Un Repas et conformes au GEMRCN | Z47: Menus équilibrés recommandés par le service Diététique & Nutrition de Mille et Un Repas et conformes au GEMRCN | AH47: Menus équilibrés recommandés par le service Diététique & Nutrition de Mille et Un Repas et conformes au GEMRCN
B55: porc français | C55: produit labellisé A.B.* | D55: produit local | E55: poisson frais | J55: porc français | K55: produit labellisé A.B.* | L55: produit local | M55: poisson frais | R55: porc français | S55: produit labellisé A.B.* | T55: produit local | U55: poisson frais | Z55: porc français | AA55: produit labellisé A.B.* | AB55: produit local | AC55: poisson frais | AH55: porc français | AI55: produit labellisé A.B.* | AJ55: produit local | AK55: poisson frais
