Workbook

Sheet Mode d'emploi
A4: Cette matrice de menus dispose des onglets suivants :
A7: pictos | C7: Onglet protégé à partir duquel vous pouvez copier les logos pour les insérer dans vos menus, au jour ou à la semaine.
C8: Vous devez imprimer cet onglet et afficher à l'entrée de votre salle de restaurant, à proximité des menus.
A10: Plan alimentaire choix multiple M + S | C10: Onglet protégé qui présente le plan alimentaire équilibré, sur 4 à 5 semaines, pour le midi et le soir. Vous ne pouvez pas le modifier.
C11: Le plan alimentaire demeure la référence lorsque vous modifiez le menu. Les modifications doivent se faire dans la même famille alimentaire (crudité, féculent, bœuf, dessert lacté …)
C12: Le plan alimentaire couvre également le service du soir pour les sites ayant un internat.
A14: Choix mutiple hebdo | C14: C'est à partir de cet onglet (non protégé!) que tout se pilote. Il est donc modifiable
C15: Vous changez la date du 1er lundi et tout s'enregistre automatiquement sur le soir, sur les autres semaines et sur les autres onglets
C16: Vous changez le nom de l'établissement (la 1ère semaine) et tout s'enregistre automatiquement sur le soir, sur les semaines qui suivent, et même sur les autres onglets
C17: Vous pouvez modifier les menus.
C18: Dans le menu, les lignes bleues représentent le menu conseillé, conformément au GEMRCN.
C19: Les menus de l'internat se trouvent en dessous des menus du déjeuner.
A21: Allergènes | C21: Ces onglets ne sont pas protégés. Ils s'alimentent directement depuis l'onglet Choix multiple hebdo.
C22: Si vous faites des modifications dans le menu hebdo, elles se reportent sur les onglets allergènes.
C23: All MS1, MS2, MS3 … concernent les allergènes du midi.
C24: All SS1, SS2, SS3 … concernent les allergènes du soir.
C25: ! Attention ! En revanche, vous devez modifier le cochage des allergènes lorsque vous faites des modifications !
A28: Menus du jour | C28: Onglet protégé sur lequel vous diposez des menus au jour le jour avec le menu équilibré recommandé mis en avant.
C29: Les menus du soir se trouvent sous les menus du midi.

Sheet pictos
D4: bœuf/veau français
D10: porc français
D16: volaille française
D22: préparation contenant au moins 1 produit bio
D29: plat végétarien
D35: préparation contenant au moins 1 produit local
D41: poisson frais
D47: cuisiné par nos soins
D48: (remplace le picto "fait maison")

Sheet Plan ali. choix multiple M+S
C1: Nom établissement | J1: =+C1 -> Nom établissement | Q1: =+J1 -> Nom établissement | X1: =+Q1 -> Nom établissement | AE1: =+X1 -> Nom établissement
B3: Déjeuners du | C3: ='Menus déjeuner'!F3 -> 46265 | D3: au | E3: =C3+4 -> 46269 | I3: Déjeuners du | J3: =E3+3 -> 46272 | K3: au | L3: =J3+4 -> 46276 | P3: Déjeuners du | Q3: =L3+3 -> 46279 | R3: au | S3: =Q3+4 -> 46283 | W3: Déjeuners du | X3: =S3+3 -> 46286 | Y3: au | Z3: =X3+4 -> 46290 | AD3: Déjeuners du | AE3: =Z3+3 -> 46293 | AF3: au | AG3: =AE3+4 -> 46297
B5: Plan alimentaire déjeuner SEMAINE 1 | I5: Plan alimentaire déjeuner SEMAINE 2 | P5: Plan alimentaire déjeuner SEMAINE 3 | W5: Plan alimentaire déjeuner SEMAINE 4 | AD5: Plan alimentaire déjeuner SEMAINE 5
D7: * Menus indicatifs sous réserve de modifications * | K7: * Menus indicatifs sous réserve de modifications * | R7: * Menus indicatifs sous réserve de modifications * | Y7: * Menus indicatifs sous réserve de modifications * | AF7: * Menus indicatifs sous réserve de modifications *
A8: SEMAINE 1 | B8: Lundi | C8: Mardi | D8: Mercredi | E8: Jeudi | F8: Vendredi | H8: SEMAINE 2 | I8: Lundi | J8: Mardi | K8: Mercredi | L8: Jeudi | M8: Vendredi | O8: SEMAINE 3 | P8: Lundi | Q8: Mardi | R8: Mercredi | S8: Jeudi | T8: Vendredi | V8: SEMAINE 4 | W8: Lundi | X8: Mardi | Y8: Mercredi | Z8: Jeudi | AA8: Vendredi | AC8: SEMAINE 5 | AD8: Lundi | AE8: Mardi | AF8: Mercredi | AG8: Jeudi | AH8: Vendredi
A10: Entrées | B10: Crudité | C10: Pâtisserie salée | D10: Cuidité | E10: Crudité | F10: Cuidité | H10: Entrées | I10: Entrée protidique | J10: Crudité | K10: Cuidité | L10: Crudité | M10: Entrée féculents | O10: Entrées | P10: Crudité | Q10: Entrée féculents | R10: Pâtisserie salée | S10: Cuidité | T10: Crudité | V10: Entrées | W10: Crudité | X10: Crudité | Y10: Cuidité | Z10: Entrée féculents | AA10: Entrée protidique | AC10: Entrées
B13: Crudité | C13: Crudité | D13: Crudité | E13: Crudité | F13: Crudité | I13: Crudité | J13: Crudité | K13: Crudité | L13: Crudité | M13: Crudité | P13: Crudité | Q13: Crudité | R13: Crudité | S13: Crudité | T13: Crudité | W13: Crudité | X13: Crudité | Y13: Crudité | Z13: Crudité | AA13: Crudité
A14: Plat principaux | B14: Poulet | C14: Poisson | D14: Dinde | E14: Œufs | F14: Abats | H14: Plat principaux | I14: Lapin | J14: Végétarien | K14: Dinde | L14: Poisson | M14: Bœuf non haché | O14: Plat principaux | P14: Poisson | Q14: Agneau non haché | R14: Porc | S14: Charcuterie | T14: Végétarien | V14: Plat principaux | W14: Bœuf haché | X14: Poisson | Y14: Poulet | Z14: Végétarien | AA14: Veau non haché | AC14: Plat principaux
B15: Végétarien | C15: Œufs | D15: Végétarien | E15: Porc | F15: Poisson | I15: Végétarien | J15: Porc | K15: Œufs | L15: Charcuterie | M15: Poisson | P15: Végétarien | Q15: Poisson | R15: Œufs | S15: Végétarien | T15: Poulet | W15: Végétarien | X15: Porc | Y15: Œufs | Z15: Poisson | AA15: Œufs
A16: Garnitures | B16: Féculents | C16: Légumes | D16: Féculents | E16: Légumes | F16: Féculents | H16: Garnitures | I16: Féculents | J16: Légumes | K16: Féculents | L16: Féculents | M16: Légumes | O16: Garnitures | P16: Légumes | Q16: Légumes | R16: Légumes | S16: Féculents | T16: Féculents | V16: Garnitures | W16: Féculents | X16: Légumes | Y16: Légumes | Z16: Légumes | AA16: Féculents | AC16: Garnitures
A18: Produits | B18: Fromage | C18: Fromage | D18: Fromage | E18: Fromage | F18: Fromage | H18: Produits | I18: Fromage | J18: Fromage | K18: Fromage | L18: Fromage | M18: Fromage | O18: Produits | P18: Fromage | Q18: Fromage | R18: Fromage | S18: Fromage | T18: Fromage | V18: Produits | W18: Fromage | X18: Fromage | Y18: Fromage | Z18: Fromage | AA18: Fromage | AC18: Produits
A19: Laitiers | H19: Laitiers | O19: Laitiers | V19: Laitiers | AC19: Laitiers
B20: Laitage | C20: Laitage | D20: Laitage | E20: Laitage | F20: Laitage | I20: Laitage | J20: Laitage | K20: Laitage | L20: Laitage | M20: Laitage | P20: Laitage | Q20: Laitage | R20: Laitage | S20: Laitage | T20: Laitage | W20: Laitage | X20: Laitage | Y20: Laitage | Z20: Laitage | AA20: Laitage
A22: Desserts | B22: Dessert lacté | C22: Fruit cru | D22: Fruit cru | E22: Pâtisserie | F22: Fruit cru | H22: Desserts | I22: Fruit cru | J22: Pâtisserie | K22: Fruit cru | L22: Fruit cuit | M22: Fruit cru | O22: Desserts | P22: Pâtisserie | Q22: Fruit cru | R22: Fruit cru | S22: Fruit cru | T22: Dessert lacté | V22: Desserts | W22: Dessert lacté | X22: Pâtisserie | Y22: Fruit cru | Z22: Fruit cru | AA22: Fruit cru | AC22: Desserts
B24: Fruit cuit | C24: Fruit cuit | D24: Fruit cuit | F24: Fruit cuit | I24: Fruit cuit | K24: Fruit cuit | L24: Fruit cuit | M24: Fruit cuit | Q24: Fruit cuit | R24: Fruit cuit | S24: Fruit cuit | T24: Fruit cuit | W24: Fruit cuit | Y24: Fruit cuit | Z24: Fruit cuit | AA24: Fruit cuit
B25: Fruit cru | C25: Fruit cru | D25: Fruit cru | E25: Fruit cru | F25: Fruit cru | I25: Fruit cru | J25: Fruit cru | K25: Fruit cru | L25: Fruit cru | M25: Fruit cru | P25: Fruit cru | Q25: Fruit cru | R25: Fruit cru | S25: Fruit cru | T25: Fruit cru | W25: Fruit cru | X25: Fruit cru | Y25: Fruit cru | Z25: Fruit cru | AA25: Fruit cru
B27: Menus équilibrés recommandés par le service Diététique & Nutrition de Mille et Un Repas et conformes au GEMRCN | I27: Menus équilibrés recommandés par le service Diététique & Nutrition de Mille et Un Repas et conformes au GEMRCN | P27: Menus équilibrés recommandés par le service Diététique & Nutrition de Mille et Un Repas et conformes au GEMRCN | W27: Menus équilibrés recommandés par le service Diététique & Nutrition de Mille et Un Repas et conformes au GEMRCN | AD27: Menus équilibrés recommandés par le service Diététique & Nutrition de Mille et Un Repas et conformes au GEMRCN

Sheet Menus déjeuner
D1: CHOIX DIRIGÉ | P1: =+D1 -> CHOIX DIRIGÉ | Z1: =+P1 -> CHOIX DIRIGÉ | AN1: =+Z1 -> CHOIX DIRIGÉ | AZ1: =+AN1 -> CHOIX DIRIGÉ
D3: Déjeuners | E3: du | F3: 46265 | G3: au | H3: =F3+4 -> 46269 | P3: Déjeuners | Q3: du | R3: =H3+3 -> 46272 | S3: au | T3: =R3+4 -> 46276 | AB3: Déjeuners | AC3: du | AD3: =T3+3 -> 46279 | AE3: au | AF3: =AD3+4 -> 46283 | AN3: Déjeuners | AO3: du | AP3: =AF3+3 -> 46286 | AQ3: au | AR3: =AP3+4 -> 46290 | AZ3: Déjeuners | BA3: du | BB3: =AR3+3 -> 46293 | BC3: au | BD3: =BB3+4 -> 46297
L4: Poisson MSC | X4: Poisson MSC | AJ4: Poisson MSC | AV4: Poisson MSC
B5: La liste des allergènes présents volontairement dans les préparations est affichée à l'entrée du restaurant, conformément au règlement UE n° 1169/2011 | N5: La liste des allergènes présents volontairement dans les préparations est affichée à l'entrée du restaurant, conformément au règlement UE n° 1169/2011 | Z5: La liste des allergènes présents volontairement dans les préparations est affichée à l'entrée du restaurant, conformément au règlement UE n° 1169/2011 | AL5: La liste des allergènes présents volontairement dans les préparations est affichée à l'entrée du restaurant, conformément au règlement UE n° 1169/2011 | AX5: La liste des allergènes présents volontairement dans les préparations est affichée à l'entrée du restaurant, conformément au règlement UE n° 1169/2011
F7: * Menus indicatifs sous réserve de modifications * | R7: * Menus indicatifs sous réserve de modifications * | AD7: * Menus indicatifs sous réserve de modifications * | AP7: * Menus indicatifs sous réserve de modifications * | BB7: * Menus indicatifs sous réserve de modifications *
A8: SEMAINE 1 | B8: Lundi | C8: Logos | D8: Mardi | E8: Logos | F8: Mercredi | G8: Logos | H8: Jeudi | I8: Logos | J8: Vendredi | K8: Logos | M8: SEMAINE 2 | N8: Lundi | O8: Logos | P8: Mardi | Q8: Logos | R8: Mercredi | S8: Logos | T8: Jeudi | U8: Logos | V8: Vendredi | W8: Logos | Y8: SEMAINE 3 | Z8: Lundi | AA8: Logos | AB8: Mardi | AC8: Logos | AD8: Mercredi | AE8: Logos | AF8: Jeudi | AG8: Logos | AH8: Vendredi | AI8: Logos | AK8: SEMAINE 4 | AL8: Lundi | AM8: Logos | AN8: Mardi | AO8: Logos | AP8: Mercredi | AQ8: Logos | AR8: Jeudi | AS8: Logos | AT8: Vendredi | AU8: Logos | AW8: SEMAINE 5 | AX8: Lundi | AY8: Logos | AZ8: Mardi | BA8: Logos | BB8: Mercredi | BC8: Logos | BD8: Jeudi | BE8: Logos | BF8: 0 | BG8: Logos
A10: Entrées | D10: Melon | F10: Cake aux olives | H10: Concombre à l'aneth | J10: Rosette | L10: Appellation d'origine Contrôlée | M10: Entrées | N10: Salade de blé | P10: Brunoise courgette et tomate | R10: Chou fleur ravigote | T10: Mousse de carottes au curry | V10: Lentilles vertes Isère vinaigrette | X10: Appellation d'origine Contrôlée | Y10: Entrées | Z10: Salade de radis aux fines herbes | AB10: Salade de pommes de terre ciboulette | AD10: Tartine au fromage | AF10: animation Italie | AH10: Tomates et olives noires | AJ10: Appellation d'origine Contrôlée | AK10: Entrées | AL10: Melon (selon météo) | AN10: Salade de pommes de terre & cervelas | AP10: Macédoine vinaigrette au citron | AR10: Concombre au fromage blanc | AT10: Rillettes de sardines | AV10: Appellation d'origine Contrôlée | AW10: Entrées
D11: Salade de courgettes à la mimolette | F11: Salade composée | H11: Salade de courgette & féta | J11: Rillettes de maquereau | L11: Appellation d'origine protégée | N11: Salade de tomate et oignon rouge | P11: Cèleri mayo curry | R11: Macédoine vinaigrette | T11: Betteraves vinaigrette | V11: Taboulé | X11: Appellation d'origine protégée | Z11: Carottes râpées | AB11: Boulgour en salade | AD11: Cake légumes curry | AF11: Salade vert ,jambon crue, melon | AH11: Radis | AJ11: Appellation d'origine protégée | AL11: Cèleri râpé citronné | AN11: Salade de haricots rouges | AP11: Velouté de légumes | AR11: Radis et pomme râpés | AT11: Œufs durs mayonnaise | AV11: Appellation d'origine protégée
D12: Salade de tomate & basilic | F12: Terrine de campagne cornichon | H12: Tomate vinaigrette | J12: Œufs mimosa | N12: Pomelos | P12: Salade composée | R12: Salade de fonds d'artichaut au curry | T12: Salade de petits pois, féta et zeste de citron | V12: Salade de coquillettes | Z12: Chou blanc émincé | AB12: Houmous rose | AD12: Pain perdu salé | AF12: Tomate mozza | AH12: Concombre tzatzíki | AL12: Salade de tomate et maïs | AN12: Salade de riz | AP12: Champignons à la grecque | AR12: Carottes râpées à l'orange | AT12: Jambon cornichon
D13: Salade verte | F13: Salade verte | H13: Salade verte | J13: Salade verte | L13: Indication géographique protégée | N13: Salade verte | P13: Salade verte | R13: Salade verte | T13: Salade verte | V13: Salade verte | X13: Indication géographique protégée | Z13: Salade verte | AB13: Salade verte | AD13: Salade verte | AF13: Salade verte | AH13: Salade verte | AJ13: Indication géographique protégée | AL13: Salade verte | AN13: Salade verte | AP13: Salade verte | AR13: Salade verte | AT13: Salade verte | AV13: Indication géographique protégée
A14: Plats principaux | D14: Bolognaise au bœuf | F14: Escalope de dinde aux herbes (Egalim EE) | H14: Filet de poisson crème citron | J14: Poulet Yassa (moutarde, oignon, ail, citrons jaune & vert) (Egalim EE) | M14: Plats principaux | N14: Filet de poisson au basilic | P14: Gigolette de lapin à la moutarde | R14: Rôti de dinde au jus (Egalim EE) | T14: Quenelles gratinées sauce tomate | V14: Émincé de bœuf au paprika | Y14: Plats principaux | Z14: Tacos haricots rouges et maïs | AB14: Sauté d'agneau aux 4 épices | AD14: Poulet au citron | AF14: Pâtes carbo | AH14: Crumble de poisson | AK14: Plats principaux | AL14: Tajine de pois chiches & légumes (carottes, courgettes, navets) | AN14: Émincé de porc aux olives (CE2) | AP14: Poulet rôti aux épices | AR14: Gratin de poisson aneth citron | AT14: Dinde façon basquaise (Egalim EE) | AW14: Plats principaux
D15: Bolognaise lentilles et légumes | F15: Falafels sauce yaourt | H15: Rôti de porc au jus (CE2) | J15: Omelette roulée | L15: Haute valeur environnementale | N15: Saucisse brassée à l'ail | P15: Curry de pois chiches Rhône/Isère | R15: Croque du Chef au fromage | T15: Sauté de porc sauce charcutière (CE2) | V15: Cassolette de poisson à la provençale | X15: Haute valeur environnementale | Z15: Jambon grillé | AB15: Filet de poisson meunière | AD15: Clafoutis courgette & chèvre | AF15: Pâtes au thon catalane | AH15: Œufs durs gratinés | AJ15: Haute valeur environnementale | AL15: Tajine de poisson | AN15: Omelette aux herbes | AP15: Œufs brouillés | AR15: Foie à l'échalote | AT15: Bolognaise égrené de pois et légumes | AV15: Haute valeur environnementale
A16: Garnitures | D16: Pâtes | F16: Courgettes | H16: Gratin d'aubergine à la tomate | J16: Blé | L16: Label rouge | M16: Garnitures | N16: Frites | P16: Gratin de courgettes | R16: Polenta | T16: Riz | V16: Carottes au beurre | X16: Label rouge | Y16: Garnitures | Z16: Galette de blé à garnir | AB16: Ratatouille | AD16: Chou fleur persillé | AF16: Pennes | AH16: Purée de brocolis | AJ16: Label rouge | AK16: Garnitures | AL16: Semoule semi complète | AN16: Carottes persillées | AP16: Poêlée de légumes | AR16: Haricots verts sautés l'ail | AT16: Boulgour | AV16: Label rouge | AW16: Garnitures
D17: Fondue de courgettes | F17: Boulgour | H17: Semoule semi complète | J17: Épinards à la crème | L17: Région ultra périphérique | N17: Cœur de blé | P17: Boulgour façon pilaf | R17: Tomates à la provençale | T17: Navets glacés au miel | V17: Petit épeautre | X17: Région ultra périphérique | Z17: Fondue de poireaux | AB17: Poêlée de pois chiches aux légumes | AD17: Quinoa blond | AH17: Coquillettes | AJ17: Région ultra périphérique | AL17: Courgettes braisées | AN17: Flageolets | AP17: Riz | AR17: Lentilles vertes Isère | AT17: Aubergines braisées | AV17: Région ultra périphérique
A18: Produits laitiers | D18: 2 fromages à la coupe | F18: 2 fromages à la coupe | H18: 2 fromages à la coupe | J18: 2 fromages à la coupe | M18: Produits laitiers | N18: 2 fromages à la coupe | P18: 2 fromages à la coupe | R18: 2 fromages à la coupe | T18: 2 fromages à la coupe | V18: 2 fromages à la coupe | Y18: Produits laitiers | Z18: 2 fromages à la coupe | AB18: 2 fromages à la coupe | AD18: 2 fromages à la coupe | AF18: 2 fromages à la coupe | AH18: 2 fromages à la coupe | AK18: Produits laitiers | AL18: 2 fromages à la coupe | AN18: 2 fromages à la coupe | AP18: 2 fromages à la coupe | AR18: 2 fromages à la coupe | AT18: 2 fromages à la coupe | AW18: Produits
D19: dont 1 AOP/AOC/IGP | F19: dont 1 AOP/AOC/IGP | H19: dont 1 AOP/AOC/IGP | J19: dont 1 AOP/AOC/IGP | L19: Contient au moins 1 ingrédient bio | N19: dont 1 AOP/AOC/IGP | P19: dont 1 AOP/AOC/IGP | R19: dont 1 AOP/AOC/IGP | T19: dont 1 AOP/AOC/IGP | V19: dont 1 AOP/AOC/IGP | X19: Contient au moins 1 ingrédient bio | Z19: dont 1 AOP/AOC/IGP | AB19: dont 1 AOP/AOC/IGP | AD19: dont 1 AOP/AOC/IGP | AF19: dont 1 AOP/AOC/IGP | AH19: dont 1 AOP/AOC/IGP | AJ19: Contient au moins 1 ingrédient bio | AL19: dont 1 AOP/AOC/IGP | AN19: dont 1 AOP/AOC/IGP | AP19: dont 1 AOP/AOC/IGP | AR19: dont 1 AOP/AOC/IGP | AT19: dont 1 AOP/AOC/IGP | AV19: Contient au moins 1 ingrédient bio | AW19: Laitiers
D20: 2 laitages dont 1 yaourt nature | F20: 2 laitages dont 1 yaourt nature | H20: 2 laitages dont 1 yaourt nature | J20: 2 laitages dont 1 yaourt nature | L20: Contient au moins 1 ingrédient local | N20: 2 laitages dont 1 yaourt nature | P20: 2 laitages dont 1 yaourt nature | R20: 2 laitages dont 1 yaourt nature | T20: 2 laitages dont 1 yaourt nature | V20: 2 laitages dont 1 yaourt nature | X20: Contient au moins 1 ingrédient local | Z20: 2 laitages dont 1 yaourt nature | AB20: 2 laitages dont 1 yaourt nature | AD20: 2 laitages dont 1 yaourt nature | AF20: 2 laitages dont 1 yaourt nature | AH20: 2 laitages dont 1 yaourt nature | AJ20: Contient au moins 1 ingrédient local | AL20: 2 laitages dont 1 yaourt nature | AN20: 2 laitages dont 1 yaourt nature | AP20: 2 laitages dont 1 yaourt nature | AR20: 2 laitages dont 1 yaourt nature | AT20: 2 laitages dont 1 yaourt nature | AV20: Contient au moins 1 ingrédient local
A22: Desserts | D22: Panna Cotta coco | F22: Fromage blanc au caramel | H22: Tarte aux pommes | J22: Salade fruits frais | L22: Poisson frais | M22: Desserts | N22: Poire au chocolat | P22: Far aux pruneaux | R22: Quartiers d'agrumes | T22: Ananas | V22: Salade de fruits frais | X22: Poisson frais | Y22: Desserts | Z22: Beignet | AB22: Pastèque | AD22: Melon | AF22: Pana cotta mangue | AH22: Crème dessert vanille | AJ22: Poisson frais | AK22: Desserts | AL22: Liégeois | AN22: Salade de fruits frais | AP22: Banane caramel | AR22: Marbré | AT22: Ananas | AV22: Poisson frais | AW22: Desserts
D23: Eclaire chocolat | F23: Eclaire chocolat | H23: Quatre quarts au citron | J23: Pastèque | L23: Plat végétarien | N23: Pomme au four | P23: Fondant chocolat | R23: Banane aux amandes | T23: Salade de fruits frais | V23: Smoothie fruits frais | X23: Plat végétarien | Z23: Semoule au lait vanillé | AB23: Salade de fruits frais | AD23: Salade de pommes et fruits rouges | AF23: Raisin italia | AH23: Flan caramel du Chef | AJ23: Plat végétarien | AL23: Flan du Chef chocolat | AN23: Compotée de fruits crus | AP23: Salade d'oranges | AR23: Moelleux fromage blanc, abricots & romarin | AT23: Smoothie aux fruits frais | AV23: Plat végétarien
D24: Compote sans sucre ajouté ARA | F24: Compote sans sucre ajouté ARA | J24: Compote sans sucre ajouté ARA | N24: Compote sans sucre ajouté ARA | R24: Compote sans sucre ajouté ARA | T24: Cocktail de fruits au sirop léger | V24: Dés de pêche au sirop léger | AB24: Pomme au four | AD24: Abricots au sirop léger | AH24: Compote sans sucre ajouté ARA | AL24: Abricots au sirop léger | AN24: Poire aux amandes | AP24: Compote sans sucre ajouté ARA | AT24: Compote sans sucre ajouté ARA
D25: Corbeille de fruits frais | F25: Corbeille de fruits frais | H25: Corbeille de fruits frais | J25: Corbeille de fruits frais | N25: Corbeille de fruits frais | P25: Corbeille de fruits frais | R25: Corbeille de fruits frais | T25: Corbeille de fruits frais | V25: Corbeille de fruits frais | Z25: Corbeille de fruits frais | AB25: Corbeille de fruits frais | AD25: Corbeille de fruits frais | AF25: Corbeille de fruits frais | AH25: Corbeille de fruits frais | AL25: Corbeille de fruits frais | AN25: Corbeille de fruits frais | AP25: Corbeille de fruits frais | AR25: Corbeille de fruits frais | AT25: Corbeille de fruits frais

Sheet All S1
A1: AFFICHAGE DES ALLERGENES PRÉSENTS VOLONTAIREMENT DANS LES MENUS
B2: GLUTEN | C2: LAIT | D2: OEUF | E2: POISSON | F2: SOJA | G2: MOLLUSQUES / CRUSTACÉS | H2: SÉSAME | I2: ARACHIDE | J2: MOUTARDE | K2: LUPIN | L2: CELERI | M2: FRUITS A COQUE | N2: SULFITES
A3: Vinaigrette | J3: X | N3: X
A4: Pain | B4: X
A5: Fromages | C5: X | D5: X
A6: Laitages | C6: X
A7: Corbeille de fruits frais
A8: ='Menus déjeuner'!F3 -> 46265
A9: ='Menus déjeuner'!B10 -> 0
A10: ='Menus déjeuner'!B11 -> 0
A11: ='Menus déjeuner'!B12 -> 0
A12: ='Menus déjeuner'!B13 -> 0
A13: ='Menus déjeuner'!B14 -> 0
A14: ='Menus déjeuner'!B15 -> 0
A15: ='Menus déjeuner'!B16 -> 0
A16: ='Menus déjeuner'!B17 -> 0
A17: ='Menus déjeuner'!B22 -> 0
A18: ='Menus déjeuner'!B23 -> 0
A19: ='Menus déjeuner'!B24 -> 0
A20: =A8+1 -> 46266
A21: ='Menus déjeuner'!D10 -> Melon
A22: ='Menus déjeuner'!D11 -> Salade de courgettes à la mimolette | C22: X | D22: X | J22: X | N22: X
A23: ='Menus déjeuner'!D12 -> Salade de tomate & basilic | J23: X | L23: X
A24: ='Menus déjeuner'!D13 -> Salade verte | J24: X | N24: X
A25: ='Menus déjeuner'!D14 -> Bolognaise au bœuf | N25: X
A26: ='Menus déjeuner'!D15 -> Bolognaise lentilles et légumes
A27: ='Menus déjeuner'!D16 -> Pâtes | B27: X | C27: X | D27: X
A28: ='Menus déjeuner'!D17 -> Fondue de courgettes
A29: ='Menus déjeuner'!D22 -> Panna Cotta coco | C29: X | F29: X | M29: X
A30: ='Menus déjeuner'!D23 -> Eclaire chocolat | B30: X | C30: X | D30: X | L30: X | N30: X
A31: ='Menus déjeuner'!D24 -> Compote sans sucre ajouté ARA
A32: =+A20+1 -> 46267
A33: ='Menus déjeuner'!F10 -> Cake aux olives | B33: X | C33: X | D33: X | N33: X
A34: ='Menus déjeuner'!F11 -> Salade composée | B34: X | J34: X | N34: X
A35: ='Menus déjeuner'!F12 -> Terrine de campagne cornichon | B35: X | C35: X | D35: X | F35: X | J35: X | N35: X
A36: ='Menus déjeuner'!F13 -> Salade verte | J36: X | N36: X
A37: ='Menus déjeuner'!F14 -> Escalope de dinde aux herbes (Egalim EE) | B37: X | C37: X | D37: X | L37: X | N37: X
A38: ='Menus déjeuner'!F15 -> Falafels sauce yaourt | B38: X | C38: X | J38: X | N38: X
A39: ='Menus déjeuner'!F16 -> Courgettes | L39: X
A40: ='Menus déjeuner'!F17 -> Boulgour | B40: X | C40: X
A41: ='Menus déjeuner'!F22 -> Fromage blanc au caramel | C41: X
A42: ='Menus déjeuner'!F23 -> Eclaire chocolat | B42: X | C42: X | D42: X
A43: ='Menus déjeuner'!F24 -> Compote sans sucre ajouté ARA
A44: =+A32+1 -> 46268
A45: ='Menus déjeuner'!H10 -> Concombre à l'aneth | C45: X | J45: X | N45: X
A46: ='Menus déjeuner'!H11 -> Salade de courgette & féta | C46: X | D46: X | J46: X | N46: X
A47: ='Menus déjeuner'!H12 -> Tomate vinaigrette | J47: X | N47: X
A48: ='Menus déjeuner'!H13 -> Salade verte | J48: X | N48: X
A49: ='Menus déjeuner'!H14 -> Filet de poisson crème citron | B49: X | C49: X | D49: X | E49: X
A50: ='Menus déjeuner'!H15 -> Rôti de porc au jus (CE2) | B50: X | C50: X | D50: X | L50: X | N50: X
A51: ='Menus déjeuner'!H16 -> Gratin d'aubergine à la tomate | C51: X
A52: ='Menus déjeuner'!H17 -> Semoule semi complète | B52: X | C52: X
A53: ='Menus déjeuner'!H22 -> Tarte aux pommes | B53: X | C53: X | D53: X | M53: X
A54: ='Menus déjeuner'!H23 -> Quatre quarts au citron | B54: X | C54: X | D54: X | N54: X
A55: ='Menus déjeuner'!H24 -> 0
A56: =+A44+1 -> 46269
A57: ='Menus déjeuner'!J10 -> Rosette | C57: X | J57: X | N57: X
A58: ='Menus déjeuner'!J11 -> Rillettes de maquereau | C58: X | E58: X | J58: X | N58: X
A59: ='Menus déjeuner'!J12 -> Œufs mimosa | C59: X | D59: X | J59: X | N59: X
A60: ='Menus déjeuner'!J13 -> Salade verte | J60: X | N60: X
A61: ='Menus déjeuner'!J14 -> Poulet Yassa (moutarde, oignon, ail, citrons jaune & vert) (Egalim EE) | B61: X | C61: X | D61: X | J61: X | L61: X | N61: X
A62: ='Menus déjeuner'!J15 -> Omelette roulée | C62: X | D62: X
A63: ='Menus déjeuner'!J16 -> Blé | B63: X | C63: X
A64: ='Menus déjeuner'!J17 -> Épinards à la crème | C64: X
A65: ='Menus déjeuner'!J22 -> Salade fruits frais | N65: X
A66: ='Menus déjeuner'!J23 -> Pastèque
A67: ='Menus déjeuner'!J24 -> Compote sans sucre ajouté ARA

Sheet All S2
A1: AFFICHAGE DES ALLERGENES PRÉSENTS VOLONTAIREMENT DANS LES MENUS
B2: GLUTEN | C2: LAIT | D2: OEUF | E2: POISSON | F2: SOJA | G2: MOLLUSQUES / CRUSTACÉS | H2: SÉSAME | I2: ARACHIDE | J2: MOUTARDE | K2: LUPIN | L2: CELERI | M2: FRUITS A COQUE | N2: SULFITES
A3: Vinaigrette | J3: X | N3: X
A4: Pain | B4: X
A5: Fromages | C5: X | D5: X
A6: Laitages | C6: X
A7: Corbeille de fruits frais
A8: ='Menus déjeuner'!R3 -> 46272
A9: ='Menus déjeuner'!N10 -> Salade de blé | B9: X | C9: X | D9: X | J9: X | N9: X
A10: ='Menus déjeuner'!N11 -> Salade de tomate et oignon rouge | J10: X
A11: ='Menus déjeuner'!N12 -> Pomelos
A12: ='Menus déjeuner'!N13 -> Salade verte | J12: X | N12: X
A13: ='Menus déjeuner'!N14 -> Filet de poisson au basilic | B13: X | C13: X | D13: X | E13: X | L13: X
A14: ='Menus déjeuner'!N15 -> Saucisse brassée à l'ail | B14: X | C14: X | D14: X | F14: X | L14: X | N14: X
A15: ='Menus déjeuner'!N16 -> Frites
A16: ='Menus déjeuner'!N17 -> Cœur de blé | B16: X | C16: X | D16: X
A17: ='Menus déjeuner'!N22 -> Poire au chocolat | C17: X | F17: X | M17: X
A18: ='Menus déjeuner'!N23 -> Pomme au four | C18: X | M18: X | N18: X
A19: ='Menus déjeuner'!N24 -> Compote sans sucre ajouté ARA
A20: =+A8+1 -> 46273
A21: ='Menus déjeuner'!P10 -> Brunoise courgette et tomate | J21: X | N21: X
A22: ='Menus déjeuner'!P11 -> Cèleri mayo curry | C22: X | D22: X | J22: X | L22: X | N22: X
A23: ='Menus déjeuner'!P12 -> Salade composée | B23: X | C23: X | D23: X | E23: X | J23: X | N23: X
A24: ='Menus déjeuner'!P13 -> Salade verte | J24: X | N24: X
A25: ='Menus déjeuner'!P14 -> Gigolette de lapin à la moutarde | B25: X | C25: X | D25: X | J25: X | L25: X
A26: ='Menus déjeuner'!P15 -> Curry de pois chiches Rhône/Isère | B26: X | C26: X | D26: X | J26: X | L26: X | N26: X
A27: ='Menus déjeuner'!P16 -> Gratin de courgettes | B27: X | C27: X | D27: X
A28: ='Menus déjeuner'!P17 -> Boulgour façon pilaf | B28: X | C28: X | D28: X | L28: X | N28: X
A29: ='Menus déjeuner'!P22 -> Far aux pruneaux | B29: X | C29: X | D29: X
A30: ='Menus déjeuner'!P23 -> Fondant chocolat | B30: X | C30: X | D30: X | F30: X
A31: ='Menus déjeuner'!P24 -> 0
A32: =+A20+1 -> 46274
A33: ='Menus déjeuner'!R10 -> Chou fleur ravigote | C33: X | D33: X | J33: X | N33: X
A34: ='Menus déjeuner'!R11 -> Macédoine vinaigrette | J34: X | N34: X
A35: ='Menus déjeuner'!R12 -> Salade de fonds d'artichaut au curry | J35: X | N35: X
A36: ='Menus déjeuner'!R13 -> Salade verte | J36: X | N36: X
A37: ='Menus déjeuner'!R14 -> Rôti de dinde au jus (Egalim EE) | B37: X | C37: X | D37: X | L37: X | N37: X
A38: ='Menus déjeuner'!R15 -> Croque du Chef au fromage | B38: X | C38: X | D38: X
A39: ='Menus déjeuner'!R16 -> Polenta | C39: X
A40: ='Menus déjeuner'!R17 -> Tomates à la provençale | C40: X | N40: X
A41: ='Menus déjeuner'!R22 -> Quartiers d'agrumes
A42: ='Menus déjeuner'!R23 -> Banane aux amandes | C42: X | M42: X
A43: ='Menus déjeuner'!R24 -> Compote sans sucre ajouté ARA
A44: =+A32+1 -> 46275
A45: ='Menus déjeuner'!T10 -> Mousse de carottes au curry | C45: X | J45: X | N45: X
A46: ='Menus déjeuner'!T11 -> Betteraves vinaigrette | J46: X | N46: X
A47: ='Menus déjeuner'!T12 -> Salade de petits pois, féta et zeste de citron | J47: X | N47: X
A48: ='Menus déjeuner'!T13 -> Salade verte | J48: X | N48: X
A49: ='Menus déjeuner'!T14 -> Quenelles gratinées sauce tomate | B49: X | C49: X | D49: X | L49: X | N49: X
A50: ='Menus déjeuner'!T15 -> Sauté de porc sauce charcutière (CE2) | B50: X | C50: X | D50: X | L50: X | N50: X
A51: ='Menus déjeuner'!T16 -> Riz | B51: X | C51: X | D51: X | L51: X | N51: X
A52: ='Menus déjeuner'!T17 -> Navets glacés au miel | C52: X
A53: ='Menus déjeuner'!T22 -> Ananas | C53: X | F53: X | M53: X
A54: ='Menus déjeuner'!T23 -> Salade de fruits frais | C54: X | M54: X | N54: X
A55: ='Menus déjeuner'!T24 -> Cocktail de fruits au sirop léger
A56: =+A44+1 -> 46276
A57: ='Menus déjeuner'!V10 -> Lentilles vertes Isère vinaigrette | J57: X | N57: X
A58: ='Menus déjeuner'!V11 -> Taboulé | B58: X | J58: X | L58: X | N58: X
A59: ='Menus déjeuner'!V12 -> Salade de coquillettes | B59: X | C59: X | D59: X | E59: X | J59: X | N59: X
A60: ='Menus déjeuner'!V13 -> Salade verte | J60: X | N60: X
A61: ='Menus déjeuner'!V14 -> Émincé de bœuf au paprika | B61: X | C61: X | D61: X | L61: X | N61: X
A62: ='Menus déjeuner'!V15 -> Cassolette de poisson à la provençale | B62: X | C62: X | D62: X | E62: X | L62: X | N62: X
A63: ='Menus déjeuner'!V16 -> Carottes au beurre | C63: X | N63: X
A64: ='Menus déjeuner'!V17 -> Petit épeautre | B64: X | C64: X
A65: ='Menus déjeuner'!V22 -> Salade de fruits frais | N65: X
A66: ='Menus déjeuner'!V23 -> Smoothie fruits frais | C66: X | N66: X
A67: ='Menus déjeuner'!V24 -> Dés de pêche au sirop léger

Sheet All S3
A1: AFFICHAGE DES ALLERGENES PRÉSENTS VOLONTAIREMENT DANS LES MENUS
B2: GLUTEN | C2: LAIT | D2: OEUF | E2: POISSON | F2: SOJA | G2: MOLLUSQUES / CRUSTACÉS | H2: SÉSAME | I2: ARACHIDE | J2: MOUTARDE | K2: LUPIN | L2: CELERI | M2: FRUITS A COQUE | N2: SULFITES
A3: Vinaigrette | J3: X | N3: X
A4: Pain | B4: X
A5: Fromages | C5: X | D5: X
A6: Laitages | C6: X
A7: Corbeille de fruits frais
A8: ='Menus déjeuner'!AD3 -> 46279
A9: ='Menus déjeuner'!Z10 -> Salade de radis aux fines herbes | C9: X | J9: X | N9: X
A10: ='Menus déjeuner'!Z11 -> Carottes râpées | J10: X | N10: X
A11: ='Menus déjeuner'!Z12 -> Chou blanc émincé | J11: X | N11: X
A12: ='Menus déjeuner'!Z13 -> Salade verte | J12: X | N12: X
A13: ='Menus déjeuner'!Z14 -> Tacos haricots rouges et maïs | B13: X | C13: X | D13: X | L13: X | N13: X
A14: ='Menus déjeuner'!Z15 -> Jambon grillé | B14: X | C14: X | D14: X | L14: X | N14: X
A15: ='Menus déjeuner'!Z16 -> Galette de blé à garnir | B15: X
A16: ='Menus déjeuner'!Z17 -> Fondue de poireaux | C16: X
A17: ='Menus déjeuner'!Z22 -> Beignet | B17: X | C17: X | D17: X | F17: X | M17: X
A18: ='Menus déjeuner'!Z23 -> Semoule au lait vanillé | B18: X | C18: X
A19: ='Menus déjeuner'!Z24 -> 0
A20: =+A8+1 -> 46280
A21: ='Menus déjeuner'!AB10 -> Salade de pommes de terre ciboulette | C21: X | D21: X | J21: X | N21: X
A22: ='Menus déjeuner'!AB11 -> Boulgour en salade | B22: X | C22: X | D22: X | E22: X | J22: X | N22: X
A23: ='Menus déjeuner'!AB12 -> Houmous rose | C23: X | J23: X | N23: X
A24: ='Menus déjeuner'!AB13 -> Salade verte | J24: X | N24: X
A25: ='Menus déjeuner'!AB14 -> Sauté d'agneau aux 4 épices | B25: X | C25: X | D25: X | J25: X | L25: X | N25: X
A26: ='Menus déjeuner'!AB15 -> Filet de poisson meunière | B26: X | C26: X | D26: X | E26: X
A27: ='Menus déjeuner'!AB16 -> Ratatouille
A28: ='Menus déjeuner'!AB17 -> Poêlée de pois chiches aux légumes | C28: X | L28: X
A29: ='Menus déjeuner'!AB22 -> Pastèque | N29: X
A30: ='Menus déjeuner'!AB23 -> Salade de fruits frais
A31: ='Menus déjeuner'!AB24 -> Pomme au four | C31: X | M31: X | N31: X
A32: =+A20+1 -> 46281
A33: ='Menus déjeuner'!AD10 -> Tartine au fromage | B33: X | C33: X | D33: X
A34: ='Menus déjeuner'!AD11 -> Cake légumes curry | B34: X | C34: X | D34: X | J34: X | L34: X
A35: ='Menus déjeuner'!AD12 -> Pain perdu salé | B35: X | C35: X | D35: X | F35: X
A36: ='Menus déjeuner'!AD13 -> Salade verte | J36: X | N36: X
A37: ='Menus déjeuner'!AD14 -> Poulet au citron | B37: X | C37: X | D37: X | L37: X | N37: X
A38: ='Menus déjeuner'!AD15 -> Clafoutis courgette & chèvre | B38: X | C38: X | D38: X
A39: ='Menus déjeuner'!AD16 -> Chou fleur persillé | C39: X | N39: X
A40: ='Menus déjeuner'!AD17 -> Quinoa blond | C40: X
A41: ='Menus déjeuner'!AD22 -> Melon
A42: ='Menus déjeuner'!AD23 -> Salade de pommes et fruits rouges | N42: X
A43: ='Menus déjeuner'!AD24 -> Abricots au sirop léger
A44: =+A32+1 -> 46282
A45: ='Menus déjeuner'!AF10 -> animation Italie
A46: ='Menus déjeuner'!AF11 -> Salade vert ,jambon crue, melon
A47: ='Menus déjeuner'!AF12 -> Tomate mozza
A48: ='Menus déjeuner'!AF13 -> Salade verte | J48: X | N48: X
A49: ='Menus déjeuner'!AF14 -> Pâtes carbo
A50: ='Menus déjeuner'!AF15 -> Pâtes au thon catalane
A51: ='Menus déjeuner'!AF16 -> Pennes
A52: ='Menus déjeuner'!AF17 -> 0
A53: ='Menus déjeuner'!AF22 -> Pana cotta mangue
A54: ='Menus déjeuner'!AF23 -> Raisin italia
A55: ='Menus déjeuner'!AF24 -> 0
A56: =+A44+1 -> 46283
A57: ='Menus déjeuner'!AH10 -> Tomates et olives noires | J57: X | N57: X
A58: ='Menus déjeuner'!AH11 -> Radis | C58: X
A59: ='Menus déjeuner'!AH12 -> Concombre tzatzíki | C59: X | J59: X | N59: X
A60: ='Menus déjeuner'!AH13 -> Salade verte | J60: X | N60: X
A61: ='Menus déjeuner'!AH14 -> Crumble de poisson | B61: X | C61: X | D61: X | E61: X | L61: X | N61: X
A62: ='Menus déjeuner'!AH15 -> Œufs durs gratinés | B62: X | C62: X | D62: X
A63: ='Menus déjeuner'!AH16 -> Purée de brocolis | C63: X
A64: ='Menus déjeuner'!AH17 -> Coquillettes | B64: X | C64: X | D64: X
A65: ='Menus déjeuner'!AH22 -> Crème dessert vanille | C65: X | D65: X
A66: ='Menus déjeuner'!AH23 -> Flan caramel du Chef | C66: X | D66: X | N66: X
A67: ='Menus déjeuner'!AH24 -> Compote sans sucre ajouté ARA

Sheet All S4
A1: AFFICHAGE DES ALLERGENES PRÉSENTS VOLONTAIREMENT DANS LES MENUS
B2: GLUTEN | C2: LAIT | D2: OEUF | E2: POISSON | F2: SOJA | G2: MOLLUSQUES / CRUSTACÉS | H2: SÉSAME | I2: ARACHIDE | J2: MOUTARDE | K2: LUPIN | L2: CELERI | M2: FRUITS A COQUE | N2: SULFITES
A3: Vinaigrette | J3: X | N3: X
A4: Pain | B4: X
A5: Fromages | C5: X | D5: X
A6: Laitages | C6: X
A7: Corbeille de fruits frais
A8: ='Menus déjeuner'!AP3 -> 46286
A9: ='Menus déjeuner'!AL10 -> Melon (selon météo)
A10: ='Menus déjeuner'!AL11 -> Cèleri râpé citronné | J10: X | L10: X | N10: X
A11: ='Menus déjeuner'!AL12 -> Salade de tomate et maïs | J11: X | N11: X
A12: ='Menus déjeuner'!AL13 -> Salade verte | J12: X | N12: X
A13: ='Menus déjeuner'!AL14 -> Tajine de pois chiches & légumes (carottes, courgettes, navets) | B13: X | C13: X | D13: X | J13: X | L13: X | N13: X
A14: ='Menus déjeuner'!AL15 -> Tajine de poisson | B14: X | C14: X | D14: X | E14: X | L14: X | N14: X
A15: ='Menus déjeuner'!AL16 -> Semoule semi complète | B15: X | C15: X
A16: ='Menus déjeuner'!AL17 -> Courgettes braisées | C16: X | N16: X
A17: ='Menus déjeuner'!AL22 -> Liégeois | C17: X
A18: ='Menus déjeuner'!AL23 -> Flan du Chef chocolat | C18: X | D18: X | F18: X
A19: ='Menus déjeuner'!AL24 -> Abricots au sirop léger
A20: =+A8+1 -> 46287
A21: ='Menus déjeuner'!AN10 -> Salade de pommes de terre & cervelas | C21: X | D21: X | J21: X | N21: X
A22: ='Menus déjeuner'!AN11 -> Salade de haricots rouges | J22: X | N22: X
A23: ='Menus déjeuner'!AN12 -> Salade de riz | C23: X | D23: X | E23: X | J23: X | N23: X
A24: ='Menus déjeuner'!AN13 -> Salade verte | J24: X | N24: X
A25: ='Menus déjeuner'!AN14 -> Émincé de porc aux olives (CE2) | B25: X | C25: X | D25: X | L25: X | N25: X
A26: ='Menus déjeuner'!AN15 -> Omelette aux herbes | C26: X | D26: X
A27: ='Menus déjeuner'!AN16 -> Carottes persillées | C27: X | N27: X
A28: ='Menus déjeuner'!AN17 -> Flageolets | C28: X
A29: ='Menus déjeuner'!AN22 -> Salade de fruits frais | N29: X
A30: ='Menus déjeuner'!AN23 -> Compotée de fruits crus | N30: X
A31: ='Menus déjeuner'!AN24 -> Poire aux amandes | M31: X | N31: X
A32: =+A20+1 -> 46288
A33: ='Menus déjeuner'!AP10 -> Macédoine vinaigrette au citron | J33: X | N33: X
A34: ='Menus déjeuner'!AP11 -> Velouté de légumes | C34: X | L34: X
A35: ='Menus déjeuner'!AP12 -> Champignons à la grecque | J35: X | N35: X
A36: ='Menus déjeuner'!AP13 -> Salade verte | J36: X | N36: X
A37: ='Menus déjeuner'!AP14 -> Poulet rôti aux épices | B37: X | C37: X | D37: X | J37: X | L37: X | N37: X
A38: ='Menus déjeuner'!AP15 -> Œufs brouillés | C38: X | D38: X
A39: ='Menus déjeuner'!AP16 -> Poêlée de légumes | C39: X | L39: X | N39: X
A40: ='Menus déjeuner'!AP17 -> Riz | B40: X | C40: X | D40: X | L40: X | N40: X
A41: ='Menus déjeuner'!AP22 -> Banane caramel | C41: X | M41: X | N41: X
A42: ='Menus déjeuner'!AP23 -> Salade d'oranges
A43: ='Menus déjeuner'!AP24 -> Compote sans sucre ajouté ARA
A44: =+A32+1 -> 46289
A45: ='Menus déjeuner'!AR10 -> Concombre au fromage blanc | C45: X | J45: X | N45: X
A46: ='Menus déjeuner'!AR11 -> Radis et pomme râpés | J46: X | N46: X
A47: ='Menus déjeuner'!AR12 -> Carottes râpées à l'orange | J47: X | N47: X
A48: ='Menus déjeuner'!AR13 -> Salade verte | J48: X | N48: X
A49: ='Menus déjeuner'!AR14 -> Gratin de poisson aneth citron | B49: X | C49: X | D49: X | E49: X | L49: X | N49: X
A50: ='Menus déjeuner'!AR15 -> Foie à l'échalote | B50: X | C50: X | D50: X | L50: X | N50: X
A51: ='Menus déjeuner'!AR16 -> Haricots verts sautés l'ail | C51: X | N51: X
A52: ='Menus déjeuner'!AR17 -> Lentilles vertes Isère | J52: X | N52: X
A53: ='Menus déjeuner'!AR22 -> Marbré | B53: X | C53: X | D53: X | F53: X
A54: ='Menus déjeuner'!AR23 -> Moelleux fromage blanc, abricots & romarin | B54: X | C54: X | D54: X
A55: ='Menus déjeuner'!AR24 -> 0
A56: =+A44+1 -> 46290
A57: ='Menus déjeuner'!AT10 -> Rillettes de sardines | C57: X | E57: X | J57: X | N57: X
A58: ='Menus déjeuner'!AT11 -> Œufs durs mayonnaise | C58: X | D58: X | J58: X | N58: X
A59: ='Menus déjeuner'!AT12 -> Jambon cornichon | F59: X | J59: X | L59: X | N59: X
A60: ='Menus déjeuner'!AT13 -> Salade verte | J60: X | N60: X
A61: ='Menus déjeuner'!AT14 -> Dinde façon basquaise (Egalim EE) | B61: X | C61: X | D61: X | L61: X | N61: X
A62: ='Menus déjeuner'!AT15 -> Bolognaise égrené de pois et légumes | B62: X | C62: X | D62: X | L62: X | N62: X
A63: ='Menus déjeuner'!AT16 -> Boulgour | B63: X | C63: X
A64: ='Menus déjeuner'!AT17 -> Aubergines braisées | C64: X
A65: ='Menus déjeuner'!AT22 -> Ananas
A66: ='Menus déjeuner'!AT23 -> Smoothie aux fruits frais | C66: X | N66: X
A67: ='Menus déjeuner'!AT24 -> Compote sans sucre ajouté ARA

Sheet All MS1
A1: AFFICHAGE DES ALLERGENES PRÉSENTS VOLONTAIREMENT DANS LES MENUS
B2: GLUTEN | C2: LAIT | D2: OEUF | E2: POISSON | F2: SOJA | G2: MOLLUSQUES / CRUSTACÉS | H2: SÉSAME | I2: ARACHIDE | J2: MOUTARDE | K2: LUPIN | L2: CELERI | M2: FRUITS A COQUE | N2: SULFITES
A3: Vinaigrette | J3: X | N3: X
A4: Pain | B4: X
A5: Fromages et laitages | C5: X
A6: Déjeuner du | B6: =+'Menus déjeuner'!$F$3 -> 46265
A7: ='Menus déjeuner'!B10 -> 0
A8: ='Menus déjeuner'!B11 -> 0
A9: ='Menus déjeuner'!B12 -> 0
A10: ='Menus déjeuner'!B13 -> 0
A11: ='Menus déjeuner'!B14 -> 0
A12: ='Menus déjeuner'!B15 -> 0
A13: ='Menus déjeuner'!B16 -> 0
A14: ='Menus déjeuner'!B17 -> 0
A15: ='Menus déjeuner'!B22 -> 0
A16: ='Menus déjeuner'!B23 -> 0
A17: ='Menus déjeuner'!B24 -> 0
A18: ='Menus déjeuner'!B25 -> 0
A19: Déjeuner du | B19: =B6+1 -> 46266
A20: ='Menus déjeuner'!D10 -> Melon
A21: ='Menus déjeuner'!D11 -> Salade de courgettes à la mimolette
A22: ='Menus déjeuner'!D12 -> Salade de tomate & basilic
A23: ='Menus déjeuner'!D13 -> Salade verte
A24: ='Menus déjeuner'!D14 -> Bolognaise au bœuf
A25: ='Menus déjeuner'!D15 -> Bolognaise lentilles et légumes
A26: ='Menus déjeuner'!D16 -> Pâtes
A27: ='Menus déjeuner'!D17 -> Fondue de courgettes
A28: ='Menus déjeuner'!D22 -> Panna Cotta coco
A29: ='Menus déjeuner'!D23 -> Eclaire chocolat
A30: ='Menus déjeuner'!D24 -> Compote sans sucre ajouté ARA
A31: ='Menus déjeuner'!D25 -> Corbeille de fruits frais
A32: Déjeuner du | B32: =B19+1 -> 46267
A33: ='Menus déjeuner'!F10 -> Cake aux olives
A34: ='Menus déjeuner'!F11 -> Salade composée
A35: ='Menus déjeuner'!F12 -> Terrine de campagne cornichon
A36: ='Menus déjeuner'!F13 -> Salade verte
A37: ='Menus déjeuner'!F14 -> Escalope de dinde aux herbes (Egalim EE)
A38: ='Menus déjeuner'!F15 -> Falafels sauce yaourt
A39: ='Menus déjeuner'!F16 -> Courgettes
A40: ='Menus déjeuner'!F17 -> Boulgour
A41: ='Menus déjeuner'!F22 -> Fromage blanc au caramel
A42: ='Menus déjeuner'!F23 -> Eclaire chocolat
A43: ='Menus déjeuner'!F24 -> Compote sans sucre ajouté ARA
A44: ='Menus déjeuner'!F25 -> Corbeille de fruits frais
A45: Déjeuner du | B45: =B19+2 -> 46268
A46: ='Menus déjeuner'!H10 -> Concombre à l'aneth | J46: X | N46: X
A47: ='Menus déjeuner'!H11 -> Salade de courgette & féta
A48: ='Menus déjeuner'!H12 -> Tomate vinaigrette | C48: X | J48: X | N48: X
A49: ='Menus déjeuner'!H13 -> Salade verte | J49: X | N49: X
A50: ='Menus déjeuner'!H14 -> Filet de poisson crème citron | B50: X | C50: X | D50: X | L50: X | N50: X
A51: ='Menus déjeuner'!H15 -> Rôti de porc au jus (CE2) | B51: X | C51: X | D51: X | E51: X | L51: X | N51: X
A52: ='Menus déjeuner'!H16 -> Gratin d'aubergine à la tomate | B52: X | C52: X | D52: X
A53: ='Menus déjeuner'!H17 -> Semoule semi complète | C53: X
A54: ='Menus déjeuner'!H22 -> Tarte aux pommes | C54: X | D54: X | F54: X | M54: X
A55: ='Menus déjeuner'!H23 -> Quatre quarts au citron | C55: X | D55: X
A56: ='Menus déjeuner'!H24 -> 0 | B56: X | C56: X | D56: X
A57: ='Menus déjeuner'!H25 -> Corbeille de fruits frais
A58: Déjeuner du | B58: =B45+1 -> 46269
A59: ='Menus déjeuner'!J10 -> Rosette | C59: X | J59: X | N59: X
A60: ='Menus déjeuner'!J11 -> Rillettes de maquereau | J60: X | N60: X
A61: ='Menus déjeuner'!J12 -> Œufs mimosa | B61: X | C61: X | D61: X | E61: X | J61: X | N61: X
A62: ='Menus déjeuner'!J13 -> Salade verte | C62: X | D62: X | E62: X | J62: X | N62: X
A63: ='Menus déjeuner'!J14 -> Poulet Yassa (moutarde, oignon, ail, citrons jaune & vert) (Egalim EE)
A64: ='Menus déjeuner'!J15 -> Omelette roulée | C64: X | D64: X
A65: ='Menus déjeuner'!J16 -> Blé
A66: ='Menus déjeuner'!J17 -> Épinards à la crème | C66: X
A67: ='Menus déjeuner'!J22 -> Salade fruits frais
A68: ='Menus déjeuner'!J23 -> Pastèque
A69: ='Menus déjeuner'!J24 -> Compote sans sucre ajouté ARA | B69: X | C69: X | D69: X | F69: X | I69: X | M69: X
A70: ='Menus déjeuner'!J25 -> Corbeille de fruits frais

Sheet All MS2
A1: AFFICHAGE DES ALLERGENES PRÉSENTS VOLONTAIREMENT DANS LES MENUS
B2: GLUTEN | C2: LAIT | D2: OEUF | E2: POISSON | F2: SOJA | G2: MOLLUSQUES / CRUSTACÉS | H2: SÉSAME | I2: ARACHIDE | J2: MOUTARDE | K2: LUPIN | L2: CELERI | M2: FRUITS A COQUE | N2: SULFITES
A3: Vinaigrette | J3: X | N3: X
A4: Pain | B4: X
A5: Fromages et laitages | C5: X
A6: Déjeuner du | B6: =+'Menus déjeuner'!$R$3 -> 46272
A7: ='Menus déjeuner'!N10 -> Salade de blé | J7: X | N7: X
A8: ='Menus déjeuner'!N11 -> Salade de tomate et oignon rouge | B8: X | C8: X | D8: X | E8: X | J8: X | N8: X
A9: ='Menus déjeuner'!N12 -> Pomelos | J9: X | N9: X
A10: ='Menus déjeuner'!N13 -> Salade verte | J10: X | L10: X | N10: X
A11: ='Menus déjeuner'!N14 -> Filet de poisson au basilic | B11: X | C11: X | D11: X | E11: X | L11: X | N11: X
A12: ='Menus déjeuner'!N15 -> Saucisse brassée à l'ail | B12: X | C12: X | D12: X | L12: X | N12: X
A13: ='Menus déjeuner'!N16 -> Frites | C13: X
A14: ='Menus déjeuner'!N17 -> Cœur de blé | B14: X | C14: X | D14: X
A15: ='Menus déjeuner'!N22 -> Poire au chocolat
A16: ='Menus déjeuner'!N23 -> Pomme au four
A17: ='Menus déjeuner'!N24 -> Compote sans sucre ajouté ARA | C17: X
A18: ='Menus déjeuner'!N25 -> Corbeille de fruits frais | B18: X | C18: X | D18: X | F18: X | M18: X
A19: Déjeuner du | B19: =B6+1 -> 46273
A20: ='Menus déjeuner'!P10 -> Brunoise courgette et tomate | C20: X | J20: X | N20: X
A21: ='Menus déjeuner'!P11 -> Cèleri mayo curry | J21: X | N21: X
A22: ='Menus déjeuner'!P12 -> Salade composée | B22: X | C22: X | D22: X | L22: X
A23: ='Menus déjeuner'!P13 -> Salade verte | B23: X | C23: X | D23: X | E23: X | J23: X | N23: X
A24: ='Menus déjeuner'!P14 -> Gigolette de lapin à la moutarde | B24: X | C24: X | D24: X | J24: X | L24: X | N24: X
A25: ='Menus déjeuner'!P15 -> Curry de pois chiches Rhône/Isère | C25: X | D25: X
A26: ='Menus déjeuner'!P16 -> Gratin de courgettes | C26: X
A27: ='Menus déjeuner'!P17 -> Boulgour façon pilaf | B27: X | C27: X
A28: ='Menus déjeuner'!P22 -> Far aux pruneaux | C28: X
A29: ='Menus déjeuner'!P23 -> Fondant chocolat | C29: X
A30: ='Menus déjeuner'!P24 -> 0 | B30: X | C30: X | D30: X
A31: ='Menus déjeuner'!P25 -> Corbeille de fruits frais
A32: Déjeuner du | B32: =B19+1 -> 46274
A33: ='Menus déjeuner'!R10 -> Chou fleur ravigote | J33: X | N33: X
A34: ='Menus déjeuner'!R11 -> Macédoine vinaigrette | C34: X | J34: X | N34: X
A35: ='Menus déjeuner'!R12 -> Salade de fonds d'artichaut au curry | B35: X | C35: X | D35: X | E35: X | J35: X | N35: X
A36: ='Menus déjeuner'!R13 -> Salade verte | J36: X | N36: X
A37: ='Menus déjeuner'!R14 -> Rôti de dinde au jus (Egalim EE) | B37: X | C37: X | D37: X | F37: X | H37: X | J37: X | L37: X | N37: X
A38: ='Menus déjeuner'!R15 -> Croque du Chef au fromage | B38: X | C38: X | D38: X | E38: X | L38: X | N38: X
A39: ='Menus déjeuner'!R16 -> Polenta | C39: X | L39: X
A40: ='Menus déjeuner'!R17 -> Tomates à la provençale | B40: X | C40: X
A41: ='Menus déjeuner'!R22 -> Quartiers d'agrumes | B41: X | C41: X | D41: X
A42: ='Menus déjeuner'!R23 -> Banane aux amandes | B42: X | C42: X | D42: X | F42: X
A43: ='Menus déjeuner'!R24 -> Compote sans sucre ajouté ARA
A44: ='Menus déjeuner'!R25 -> Corbeille de fruits frais
A45: Déjeuner du | B45: =B19+2 -> 46275
A46: ='Menus déjeuner'!T10 -> Mousse de carottes au curry | C46: X | J46: X | N46: X
A47: ='Menus déjeuner'!T11 -> Betteraves vinaigrette | B47: X | C47: X | D47: X | E47: X | J47: X | L47: X | M47: X | N47: X
A48: ='Menus déjeuner'!T12 -> Salade de petits pois, féta et zeste de citron | J48: X | N48: X
A49: ='Menus déjeuner'!T13 -> Salade verte | D49: X | J49: X | N49: X
A50: ='Menus déjeuner'!T14 -> Quenelles gratinées sauce tomate | B50: X | C50: X | D50: X | J50: X | L50: X | N50: X
A51: ='Menus déjeuner'!T15 -> Sauté de porc sauce charcutière (CE2) | B51: X | C51: X | D51: X | E51: X | L51: X | N51: X
A52: ='Menus déjeuner'!T16 -> Riz | B52: X | C52: X | D52: X | L52: X | N52: X
A53: ='Menus déjeuner'!T17 -> Navets glacés au miel | C53: X
A54: ='Menus déjeuner'!T22 -> Ananas
A55: ='Menus déjeuner'!T23 -> Salade de fruits frais
A56: ='Menus déjeuner'!T24 -> Cocktail de fruits au sirop léger | B56: X | C56: X | D56: X
A57: ='Menus déjeuner'!T25 -> Corbeille de fruits frais | C57: X | D57: X | F57: X
A58: Déjeuner du | B58: =B45+1 -> 46276
A59: ='Menus déjeuner'!V10 -> Lentilles vertes Isère vinaigrette | B59: X | C59: X | E59: X
A60: ='Menus déjeuner'!V11 -> Taboulé | B60: X | C60: X | D60: X
A61: ='Menus déjeuner'!V12 -> Salade de coquillettes | J61: X | N61: X
A62: ='Menus déjeuner'!V13 -> Salade verte | C62: X | J62: X | N62: X
A63: ='Menus déjeuner'!V14 -> Émincé de bœuf au paprika | B63: X | C63: X | D63: X | L63: X | N63: X
A64: ='Menus déjeuner'!V15 -> Cassolette de poisson à la provençale | B64: X | C64: X | D64: X
A65: ='Menus déjeuner'!V16 -> Carottes au beurre
A66: ='Menus déjeuner'!V17 -> Petit épeautre | B66: X | C66: X | D66: X | L66: X | N66: X
A67: ='Menus déjeuner'!V22 -> Salade de fruits frais
A68: ='Menus déjeuner'!V23 -> Smoothie fruits frais
A69: ='Menus déjeuner'!V24 -> Dés de pêche au sirop léger | B69: X | C69: X | D69: X
A70: ='Menus déjeuner'!V25 -> Corbeille de fruits frais | C70: X | D70: X | F70: X | M70: X

Sheet All MS3
A1: AFFICHAGE DES ALLERGENES PRÉSENTS VOLONTAIREMENT DANS LES MENUS
B2: GLUTEN | C2: LAIT | D2: OEUF | E2: POISSON | F2: SOJA | G2: MOLLUSQUES / CRUSTACÉS | H2: SÉSAME | I2: ARACHIDE | J2: MOUTARDE | K2: LUPIN | L2: CELERI | M2: FRUITS A COQUE | N2: SULFITES
A3: Vinaigrette | J3: X | N3: X
A4: Pain | B4: X
A5: Fromages et laitages | C5: X
A6: Déjeuner du | B6: =+'Menus déjeuner'!$AD$3 -> 46279
A7: ='Menus déjeuner'!Z10 -> Salade de radis aux fines herbes | C7: X | J7: X | N7: X
A8: ='Menus déjeuner'!Z11 -> Carottes râpées | J8: X | N8: X
A9: ='Menus déjeuner'!Z12 -> Chou blanc émincé | J9: X | N9: X
A10: ='Menus déjeuner'!Z13 -> Salade verte | J10: X | N10: X
A11: ='Menus déjeuner'!Z14 -> Tacos haricots rouges et maïs | B11: X | C11: X | D11: X | F11: X | H11: X | J11: X | L11: X | N11: X
A12: ='Menus déjeuner'!Z15 -> Jambon grillé | B12: X | C12: X | D12: X | E12: X | J12: X | L12: X | N12: X
A13: ='Menus déjeuner'!Z16 -> Galette de blé à garnir | C13: X
A14: ='Menus déjeuner'!Z17 -> Fondue de poireaux | B14: X | C14: X | F14: X
A15: ='Menus déjeuner'!Z22 -> Beignet | B15: X | C15: X | D15: X
A16: ='Menus déjeuner'!Z23 -> Semoule au lait vanillé | B16: X | C16: X | D16: X | F16: X
A17: ='Menus déjeuner'!Z24 -> 0
A18: ='Menus déjeuner'!Z25 -> Corbeille de fruits frais
A19: Déjeuner du | B19: =B6+1 -> 46280
A20: ='Menus déjeuner'!AB10 -> Salade de pommes de terre ciboulette | J20: X | N20: X
A21: ='Menus déjeuner'!AB11 -> Boulgour en salade | B21: X | C21: X | D21: X | E21: X | J21: X | N21: X
A22: ='Menus déjeuner'!AB12 -> Houmous rose
A23: ='Menus déjeuner'!AB13 -> Salade verte | C23: X
A24: ='Menus déjeuner'!AB14 -> Sauté d'agneau aux 4 épices | C24: X | D24: X
A25: ='Menus déjeuner'!AB15 -> Filet de poisson meunière | B25: X | C25: X | D25: X | E25: X | L25: X | N25: X
A26: ='Menus déjeuner'!AB16 -> Ratatouille | C26: X
A27: ='Menus déjeuner'!AB17 -> Poêlée de pois chiches aux légumes | C27: X | N27: X
A28: ='Menus déjeuner'!AB22 -> Pastèque
A29: ='Menus déjeuner'!AB23 -> Salade de fruits frais
A30: ='Menus déjeuner'!AB24 -> Pomme au four | C30: X | F30: X | M30: X
A31: ='Menus déjeuner'!AB25 -> Corbeille de fruits frais | B31: X | C31: X | D31: X
A32: Déjeuner du | B32: =B19+1 -> 46281
A33: ='Menus déjeuner'!AD10 -> Tartine au fromage | J33: X | N33: X
A34: ='Menus déjeuner'!AD11 -> Cake légumes curry | D34: X | J34: X | L34: X | N34: X
A35: ='Menus déjeuner'!AD12 -> Pain perdu salé | B35: X | C35: X | F35: X | J35: X | N35: X
A36: ='Menus déjeuner'!AD13 -> Salade verte | B36: X | C36: X | D36: X | J36: X | L36: X
A37: ='Menus déjeuner'!AD14 -> Poulet au citron | B37: X | C37: X | D37: X | L37: X | N37: X
A38: ='Menus déjeuner'!AD15 -> Clafoutis courgette & chèvre | B38: X | C38: X | D38: X | E38: X | L38: X | N38: X
A39: ='Menus déjeuner'!AD16 -> Chou fleur persillé | C39: X
A40: ='Menus déjeuner'!AD17 -> Quinoa blond | C40: X
A41: ='Menus déjeuner'!AD22 -> Melon
A42: ='Menus déjeuner'!AD23 -> Salade de pommes et fruits rouges
A43: ='Menus déjeuner'!AD24 -> Abricots au sirop léger
A44: ='Menus déjeuner'!AD25 -> Corbeille de fruits frais | C44: X | D44: X
A45: Déjeuner du | B45: =B19+2 -> 46282
A46: ='Menus déjeuner'!AF10 -> animation Italie | J46: X | N46: X
A47: ='Menus déjeuner'!AF11 -> Salade vert ,jambon crue, melon | J47: X | N47: X
A48: ='Menus déjeuner'!AF12 -> Tomate mozza | H48: X | J48: X | N48: X
A49: ='Menus déjeuner'!AF13 -> Salade verte | C49: X | J49: X | N49: X
A50: ='Menus déjeuner'!AF14 -> Pâtes carbo | B50: X | C50: X | D50: X | J50: X | L50: X | N50: X
A51: ='Menus déjeuner'!AF15 -> Pâtes au thon catalane | B51: X | C51: X | D51: X | L51: X | N51: X
A52: ='Menus déjeuner'!AF16 -> Pennes | B52: X | C52: X
A53: ='Menus déjeuner'!AF17 -> 0
A54: ='Menus déjeuner'!AF22 -> Pana cotta mangue
A55: ='Menus déjeuner'!AF23 -> Raisin italia
A56: ='Menus déjeuner'!AF24 -> 0 | B56: X | C56: X | D56: X | F56: X | M56: X
A57: ='Menus déjeuner'!AF25 -> Corbeille de fruits frais | C57: X | D57: X | F57: X
A58: Déjeuner du | B58: =B45+1 -> 46283
A59: ='Menus déjeuner'!AH10 -> Tomates et olives noires | C59: X | J59: X | N59: X
A60: ='Menus déjeuner'!AH11 -> Radis | J60: X | N60: X
A61: ='Menus déjeuner'!AH12 -> Concombre tzatzíki | D61: X | J61: X | N61: X
A62: ='Menus déjeuner'!AH13 -> Salade verte | C62: X | D62: X | E62: X | J62: X | N62: X
A63: ='Menus déjeuner'!AH14 -> Crumble de poisson | B63: X | C63: X | D63: X | E63: X | G63: X | L63: X | N63: X
A64: ='Menus déjeuner'!AH15 -> Œufs durs gratinés | B64: X | C64: X | D64: X | L64: X | N64: X
A65: ='Menus déjeuner'!AH16 -> Purée de brocolis | B65: X | C65: X | D65: X | L65: X | N65: X
A66: ='Menus déjeuner'!AH17 -> Coquillettes | C66: X | L66: X
A67: ='Menus déjeuner'!AH22 -> Crème dessert vanille | B67: X | C67: X | D67: X | F67: X | I67: X | M67: X
A68: ='Menus déjeuner'!AH23 -> Flan caramel du Chef | C68: X
A69: ='Menus déjeuner'!AH24 -> Compote sans sucre ajouté ARA | B69: X | C69: X | D69: X | F69: X | I69: X | M69: X
A70: ='Menus déjeuner'!AH25 -> Corbeille de fruits frais

Sheet All MS4
A1: AFFICHAGE DES ALLERGENES PRÉSENTS VOLONTAIREMENT DANS LES MENUS
B2: GLUTEN | C2: LAIT | D2: OEUF | E2: POISSON | F2: SOJA | G2: MOLLUSQUES / CRUSTACÉS | H2: SÉSAME | I2: ARACHIDE | J2: MOUTARDE | K2: LUPIN | L2: CELERI | M2: FRUITS A COQUE | N2: SULFITES
A3: Vinaigrette | J3: X | N3: X
A4: Pain | B4: X
A5: Fromages et laitages | C5: X
A6: Déjeuner du | B6: =+'Menus déjeuner'!$AP$3 -> 46286
A7: ='Menus déjeuner'!AL10 -> Melon (selon météo) | C7: X | J7: X | N7: X
A8: ='Menus déjeuner'!AL11 -> Cèleri râpé citronné | J8: X | N8: X
A9: ='Menus déjeuner'!AL12 -> Salade de tomate et maïs | B9: X | C9: X | D9: X
A10: ='Menus déjeuner'!AL13 -> Salade verte | J10: X | N10: X
A11: ='Menus déjeuner'!AL14 -> Tajine de pois chiches & légumes (carottes, courgettes, navets)
A12: ='Menus déjeuner'!AL15 -> Tajine de poisson | C12: X | D12: X
A13: ='Menus déjeuner'!AL16 -> Semoule semi complète | B13: X | C13: X | D13: X
A14: ='Menus déjeuner'!AL17 -> Courgettes braisées | C14: X
A15: ='Menus déjeuner'!AL22 -> Liégeois
A16: ='Menus déjeuner'!AL23 -> Flan du Chef chocolat
A17: ='Menus déjeuner'!AL24 -> Abricots au sirop léger | C17: X
A18: ='Menus déjeuner'!AL25 -> Corbeille de fruits frais | B18: X | C18: X | D18: X
A19: Déjeuner du | B19: =B6+1 -> 46287
A20: ='Menus déjeuner'!AN10 -> Salade de pommes de terre & cervelas | C20: X | J20: X | N20: X
A21: ='Menus déjeuner'!AN11 -> Salade de haricots rouges
A22: ='Menus déjeuner'!AN12 -> Salade de riz | J22: X | L22: X | N22: X
A23: ='Menus déjeuner'!AN13 -> Salade verte | B23: X | C23: X | J23: X | N23: X
A24: ='Menus déjeuner'!AN14 -> Émincé de porc aux olives (CE2) | B24: X | C24: X | D24: X | L24: X | N24: X
A25: ='Menus déjeuner'!AN15 -> Omelette aux herbes | B25: X | C25: X | D25: X | E25: X | L25: X | N25: X
A26: ='Menus déjeuner'!AN16 -> Carottes persillées | C26: X
A27: ='Menus déjeuner'!AN17 -> Flageolets | C27: X
A28: ='Menus déjeuner'!AN22 -> Salade de fruits frais | B28: X | C28: X | D28: X | F28: X | M28: X
A29: ='Menus déjeuner'!AN23 -> Compotée de fruits crus | B29: X | C29: X | D29: X
A30: ='Menus déjeuner'!AN24 -> Poire aux amandes
A31: ='Menus déjeuner'!AN25 -> Corbeille de fruits frais
A32: Déjeuner du | B32: =B19+1 -> 46288
A33: ='Menus déjeuner'!AP10 -> Macédoine vinaigrette au citron | C33: X
A34: ='Menus déjeuner'!AP11 -> Velouté de légumes | J34: X | N34: X
A35: ='Menus déjeuner'!AP12 -> Champignons à la grecque | J35: X | N35: X
A36: ='Menus déjeuner'!AP13 -> Salade verte | J36: X | N36: X
A37: ='Menus déjeuner'!AP14 -> Poulet rôti aux épices | B37: X | C37: X | D37: X | L37: X | N37: X
A38: ='Menus déjeuner'!AP15 -> Œufs brouillés | B38: X | C38: X | D38: X
A39: ='Menus déjeuner'!AP16 -> Poêlée de légumes | C39: X
A40: ='Menus déjeuner'!AP17 -> Riz | C40: X | L40: X
A41: ='Menus déjeuner'!AP22 -> Banane caramel
A42: ='Menus déjeuner'!AP23 -> Salade d'oranges
A43: ='Menus déjeuner'!AP24 -> Compote sans sucre ajouté ARA | C43: X | D43: X | F43: X | M43: X
A44: ='Menus déjeuner'!AP25 -> Corbeille de fruits frais | B44: X | C44: X | D44: X
A45: Déjeuner du | B45: =B19+2 -> 46289
A46: ='Menus déjeuner'!AR10 -> Concombre au fromage blanc | J46: X | N46: X
A47: ='Menus déjeuner'!AR11 -> Radis et pomme râpés | B47: X | D47: X | E47: X | J47: X | N47: X
A48: ='Menus déjeuner'!AR12 -> Carottes râpées à l'orange | D48: X | J48: X | N48: X
A49: ='Menus déjeuner'!AR13 -> Salade verte | J49: X | N49: X
A50: ='Menus déjeuner'!AR14 -> Gratin de poisson aneth citron | B50: X | C50: X | D50: X | E50: X | L50: X | N50: X
A51: ='Menus déjeuner'!AR15 -> Foie à l'échalote | B51: X | C51: X | D51: X | L51: X | N51: X
A52: ='Menus déjeuner'!AR16 -> Haricots verts sautés l'ail | C52: X | L52: X
A53: ='Menus déjeuner'!AR17 -> Lentilles vertes Isère | B53: X | C53: X
A54: ='Menus déjeuner'!AR22 -> Marbré
A55: ='Menus déjeuner'!AR23 -> Moelleux fromage blanc, abricots & romarin
A56: ='Menus déjeuner'!AR24 -> 0 | C56: X | M56: X
A57: ='Menus déjeuner'!AR25 -> Corbeille de fruits frais | C57: X | D57: X | F57: X
A58: Déjeuner du | B58: =B45+1 -> 46290
A59: ='Menus déjeuner'!AT10 -> Rillettes de sardines | C59: X | J59: X | N59: X
A60: ='Menus déjeuner'!AT11 -> Œufs durs mayonnaise | J60: X | L60: X | N60: X
A61: ='Menus déjeuner'!AT12 -> Jambon cornichon | E61: X | N61: X
A62: ='Menus déjeuner'!AT13 -> Salade verte | J62: X | N62: X
A63: ='Menus déjeuner'!AT14 -> Dinde façon basquaise (Egalim EE) | B63: X | C63: X | D63: X | L63: X | N63: X
A64: ='Menus déjeuner'!AT15 -> Bolognaise égrené de pois et légumes | B64: X | C64: X | D64: X | E64: X | L64: X | N64: X
A65: ='Menus déjeuner'!AT16 -> Boulgour
A66: ='Menus déjeuner'!AT17 -> Aubergines braisées | B66: X | C66: X
A67: ='Menus déjeuner'!AT22 -> Ananas | C67: X
A68: ='Menus déjeuner'!AT23 -> Smoothie aux fruits frais | C68: X | D68: X
A69: ='Menus déjeuner'!AT24 -> Compote sans sucre ajouté ARA
A70: ='Menus déjeuner'!AT25 -> Corbeille de fruits frais

Sheet All MS5
A1: AFFICHAGE DES ALLERGENES PRÉSENTS VOLONTAIREMENT DANS LES MENUS
B2: GLUTEN | C2: LAIT | D2: OEUF | E2: POISSON | F2: SOJA | G2: MOLLUSQUES / CRUSTACÉS | H2: SÉSAME | I2: ARACHIDE | J2: MOUTARDE | K2: LUPIN | L2: CELERI | M2: FRUITS A COQUE | N2: SULFITES
A3: Vinaigrette | J3: X | N3: X
A4: Pain | B4: X
A5: Fromages et laitages | C5: X
A6: Déjeuner du | B6: =+'Menus déjeuner'!$BB$3 -> 46293
A7: ='Menus déjeuner'!AX10 -> 0 | B7: X | C7: X | J7: X | N7: X
A8: ='Menus déjeuner'!AX11 -> 0 | J8: X | N8: X
A9: ='Menus déjeuner'!AX12 -> 0 | D9: X | J9: X | N9: X
A10: ='Menus déjeuner'!AX13 -> 0 | B10: X | C10: X | D10: X | E10: X | J10: X | N10: X
A11: ='Menus déjeuner'!AX14 -> 0 | B11: X | C11: X | D11: X | L11: X | N11: X
A12: ='Menus déjeuner'!AX15 -> 0 | C12: X | D12: X
A13: ='Menus déjeuner'!AX16 -> 0
A14: ='Menus déjeuner'!AX17 -> 0 | C14: X
A15: ='Menus déjeuner'!AX22 -> 0 | C15: X | D15: X | F15: X | M15: X
A16: ='Menus déjeuner'!AX23 -> 0 | C16: X | D16: X
A17: ='Menus déjeuner'!AX24 -> 0 | C17: X | F17: X
A18: ='Menus déjeuner'!AX25 -> 0
A19: Déjeuner du | B19: =B6+1 -> 46294
A20: ='Menus déjeuner'!AZ10 -> 0 | C20: X | J20: X | N20: X
A21: ='Menus déjeuner'!AZ11 -> 0
A22: ='Menus déjeuner'!AZ12 -> 0 | C22: X | D22: X | E22: X | J22: X | N22: X
A23: ='Menus déjeuner'!AZ13 -> 0 | D23: X | J23: X | N23: X
A24: ='Menus déjeuner'!AZ14 -> 0 | B24: X
A25: ='Menus déjeuner'!AZ15 -> 0 | B25: X | C25: X | D25: X | E25: X | L25: X | N25: X
A26: ='Menus déjeuner'!AZ16 -> 0 | C26: X
A27: ='Menus déjeuner'!AZ17 -> 0 | B27: X | C27: X
A28: ='Menus déjeuner'!AZ22 -> 0 | B28: X | C28: X | D28: X
A29: ='Menus déjeuner'!AZ23 -> 0 | B29: X | C29: X | D29: X | F29: X
A30: ='Menus déjeuner'!AZ24 -> 0
A31: ='Menus déjeuner'!AZ25 -> 0
A32: Déjeuner du | B32: =B19+1 -> 46295
A33: ='Menus déjeuner'!BB10 -> 0 | C33: X | J33: X | N33: X
A34: ='Menus déjeuner'!BB11 -> 0 | J34: X | N34: X
A35: ='Menus déjeuner'!BB12 -> 0 | B35: X | J35: X | N35: X
A36: ='Menus déjeuner'!BB13 -> 0 | J36: X | N36: X
A37: ='Menus déjeuner'!BB14 -> 0
A38: ='Menus déjeuner'!BB15 -> 0 | B38: X | C38: X | D38: X | E38: X | L38: X | N38: X
A39: ='Menus déjeuner'!BB16 -> 0 | B39: X | C39: X | F39: X
A40: ='Menus déjeuner'!BB17 -> 0 | C40: X
A41: ='Menus déjeuner'!BB22 -> 0 | B41: X | C41: X | D41: X | M41: X
A42: ='Menus déjeuner'!BB23 -> 0 | C42: X
A43: ='Menus déjeuner'!BB24 -> 0 | C43: X
A44: ='Menus déjeuner'!BB25 -> 0
A45: Déjeuner du | B45: =B19+2 -> 46296
A46: ='Menus déjeuner'!BD10 -> 0 | B46: X | C46: X | D46: X
A47: ='Menus déjeuner'!BD11 -> 0 | B47: X | C47: X | D47: X
A48: ='Menus déjeuner'!BD12 -> 0 | J48: X | N48: X
A49: ='Menus déjeuner'!BD13 -> 0 | J49: X | N49: X
A50: ='Menus déjeuner'!BD14 -> 0 | B50: X | C50: X | D50: X | J50: X | L50: X | N50: X
A51: ='Menus déjeuner'!BD15 -> 0 | B51: X | C51: X | D51: X
A52: ='Menus déjeuner'!BD16 -> 0
A53: ='Menus déjeuner'!BD17 -> 0 | B53: X | C53: X | D53: X
A54: ='Menus déjeuner'!BD22 -> 0
A55: ='Menus déjeuner'!BD23 -> 0
A56: ='Menus déjeuner'!BD24 -> 0 | C56: X | D56: X | F56: X | M56: X
A57: ='Menus déjeuner'!BD25 -> 0 | B57: X | C57: X | D57: X
A58: Déjeuner du | B58: =B45+1 -> 46297
A59: ='Menus déjeuner'!BF10 -> 0 | D59: X | J59: X | N59: X
A60: ='Menus déjeuner'!BF11 -> 0 | J60: X | N60: X
A61: ='Menus déjeuner'!BF12 -> 0 | C61: X | D61: X | J61: X | L61: X | N61: X
A62: ='Menus déjeuner'!BF13 -> 0 | B62: X | C62: X | D62: X | L62: X
A63: ='Menus déjeuner'!BF14 -> 0 | B63: X | C63: X | E63: X
A64: ='Menus déjeuner'!BF15 -> 0 | B64: X | C64: X | D64: X | L64: X | N64: X
A65: ='Menus déjeuner'!BF16 -> 0 | B65: X | C65: X | D65: X | L65: X | N65: X
A66: ='Menus déjeuner'!BF17 -> 0 | C66: X
A67: ='Menus déjeuner'!BF22 -> 0
A68: ='Menus déjeuner'!BF23 -> 0
A69: ='Menus déjeuner'!BF24 -> 0
A70: ='Menus déjeuner'!BF25 -> 0 | C70: X

Sheet mois dej unique
B2: ='Menus déjeuner'!D1 -> CHOIX DIRIGÉ
B4: 43709
B5: La liste des allergènes présents volontairement dans les préparations est affichée à l'entrée du restaurant, conformément au règlement UE n° 1169/2011
B7: Semaine du | C7: ='Matrice menus dej uniques'!D4 -> 46265 | D7: au | E7: =C7+4 -> 46269
C8: ='Menus déjeuner'!D10 -> Melon | D8: ='Menus déjeuner'!F10 -> Cake aux olives | E8: ='Menus déjeuner'!H10 -> Concombre à l'aneth | F8: ='Menus déjeuner'!J10 -> Rosette
C9: ='Matrice menus dej uniques'!C21 -> Bolognaise au bœuf | D9: ='Matrice menus dej uniques'!D21 -> Escalope de dinde aux herbes (Egalim EE) | E9: ='Matrice menus dej uniques'!E21 -> Filet de poisson crème citron | F9: ='Matrice menus dej uniques'!F21 -> Poulet Yassa (moutarde, oignon, ail, citrons jaune & vert) (Egalim EE)
C10: ='Matrice menus dej uniques'!C26 -> Pâtes | D10: ='Matrice menus dej uniques'!D26 -> Courgettes | E10: ='Matrice menus dej uniques'!E26 -> Gratin d'aubergine à la tomate | F10: ='Matrice menus dej uniques'!F26 -> Blé
C11: ='Matrice menus dej uniques'!C31 -> 2 fromages à la coupe | D11: ='Matrice menus dej uniques'!D31 -> 2 fromages à la coupe | E11: ='Matrice menus dej uniques'!E31 -> 2 fromages à la coupe | F11: ='Matrice menus dej uniques'!F31 -> 2 fromages à la coupe
C12: ='Matrice menus dej uniques'!C37 -> Panna Cotta coco | D12: ='Matrice menus dej uniques'!D37 -> Fromage blanc au caramel | E12: ='Matrice menus dej uniques'!E37 -> Tarte aux pommes | F12: ='Matrice menus dej uniques'!F37 -> Salade fruits frais
B14: Semaine du | C14: ='Matrice menus dej uniques'!L4 -> 46272 | D14: au | E14: =C14+4 -> 46276
B15: ='Matrice menus dej uniques'!J13 -> Salade de blé | C15: ='Matrice menus dej uniques'!K13 -> Brunoise courgette et tomate | D15: ='Matrice menus dej uniques'!L13 -> Chou fleur ravigote | E15: ='Matrice menus dej uniques'!M13 -> Mousse de carottes au curry | F15: ='Matrice menus dej uniques'!N13 -> Lentilles vertes Isère vinaigrette
B16: ='Matrice menus dej uniques'!J21 -> Filet de poisson au basilic | C16: ='Matrice menus dej uniques'!K21 -> Gigolette de lapin à la moutarde | D16: ='Matrice menus dej uniques'!L21 -> Rôti de dinde au jus (Egalim EE) | E16: ='Matrice menus dej uniques'!M21 -> Quenelles gratinées sauce tomate | F16: ='Matrice menus dej uniques'!N21 -> Émincé de bœuf au paprika
B17: ='Matrice menus dej uniques'!J26 -> Frites | C17: ='Matrice menus dej uniques'!K26 -> Gratin de courgettes | D17: ='Matrice menus dej uniques'!L26 -> Polenta | E17: ='Matrice menus dej uniques'!M26 -> Riz | F17: ='Matrice menus dej uniques'!N26 -> Carottes au beurre
B18: ='Matrice menus dej uniques'!J31 -> 2 fromages à la coupe | C18: ='Matrice menus dej uniques'!K31 -> 2 fromages à la coupe | D18: ='Matrice menus dej uniques'!L31 -> 2 fromages à la coupe | E18: ='Matrice menus dej uniques'!M31 -> 2 fromages à la coupe | F18: ='Matrice menus dej uniques'!N31 -> 2 fromages à la coupe
B19: ='Matrice menus dej uniques'!J37 -> Poire au chocolat | C19: ='Matrice menus dej uniques'!K37 -> Far aux pruneaux | D19: ='Matrice menus dej uniques'!L37 -> Quartiers d'agrumes | E19: ='Matrice menus dej uniques'!M37 -> Ananas | F19: ='Matrice menus dej uniques'!N37 -> Salade de fruits frais
B21: Semaine du | C21: ='Matrice menus dej uniques'!T4 -> 46279 | D21: au | E21: =C21+4 -> 46283
B22: ='Matrice menus dej uniques'!R13 -> Salade de radis aux fines herbes | C22: ='Matrice menus dej uniques'!S13 -> Salade de pommes de terre ciboulette | D22: ='Matrice menus dej uniques'!T13 -> Tartine au fromage | E22: ='Matrice menus dej uniques'!U13 -> animation Italie | F22: ='Matrice menus dej uniques'!V13 -> Tomates et olives noires
B23: ='Matrice menus dej uniques'!R21 -> Tacos haricots rouges et maïs | C23: ='Matrice menus dej uniques'!S21 -> Sauté d'agneau aux 4 épices | D23: ='Matrice menus dej uniques'!T21 -> Poulet au citron | E23: ='Matrice menus dej uniques'!U21 -> Pâtes carbo | F23: ='Matrice menus dej uniques'!V21 -> Crumble de poisson
B24: ='Matrice menus dej uniques'!R26 -> Galette de blé à garnir | C24: ='Matrice menus dej uniques'!S26 -> Ratatouille | D24: ='Matrice menus dej uniques'!T26 -> Chou fleur persillé | E24: ='Matrice menus dej uniques'!U26 -> Pennes | F24: ='Matrice menus dej uniques'!V26 -> Purée de brocolis
B25: ='Matrice menus dej uniques'!R31 -> 2 fromages à la coupe | C25: ='Matrice menus dej uniques'!S31 -> 2 fromages à la coupe | D25: ='Matrice menus dej uniques'!T31 -> 2 fromages à la coupe | E25: ='Matrice menus dej uniques'!U31 -> 2 fromages à la coupe | F25: ='Matrice menus dej uniques'!V31 -> 2 fromages à la coupe
B26: ='Matrice menus dej uniques'!R37 -> Beignet | C26: ='Matrice menus dej uniques'!S37 -> Pastèque | D26: ='Matrice menus dej uniques'!T37 -> Melon | E26: ='Matrice menus dej uniques'!U37 -> Pana cotta mangue | F26: ='Matrice menus dej uniques'!V37 -> Crème dessert vanille
B28: Semaine du | C28: ='Matrice menus dej uniques'!AB4 -> 46286 | D28: au | E28: =C28+4 -> 46290
B29: ='Matrice menus dej uniques'!Z13 -> Melon (selon météo) | C29: ='Matrice menus dej uniques'!AA13 -> Salade de pommes de terre & cervelas | D29: ='Matrice menus dej uniques'!AB13 -> Macédoine vinaigrette au citron | E29: ='Matrice menus dej uniques'!AC13 -> Concombre au fromage blanc | F29: ='Matrice menus dej uniques'!AD13 -> Rillettes de sardines
B30: ='Matrice menus dej uniques'!Z21 -> Tajine de pois chiches & légumes (carottes, courgettes, navets) | C30: ='Matrice menus dej uniques'!AA21 -> Émincé de porc aux olives (CE2) | D30: ='Matrice menus dej uniques'!AB21 -> Poulet rôti aux épices | E30: ='Matrice menus dej uniques'!AC21 -> Gratin de poisson aneth citron | F30: ='Matrice menus dej uniques'!AD21 -> Dinde façon basquaise (Egalim EE)
B31: ='Matrice menus dej uniques'!Z26 -> Semoule semi complète | C31: ='Matrice menus dej uniques'!AA26 -> Carottes persillées | D31: ='Matrice menus dej uniques'!AB26 -> Poêlée de légumes | E31: ='Matrice menus dej uniques'!AC26 -> Haricots verts sautés l'ail | F31: ='Matrice menus dej uniques'!AD26 -> Boulgour
B32: ='Matrice menus dej uniques'!Z31 -> 2 fromages à la coupe | C32: ='Matrice menus dej uniques'!AA31 -> 2 fromages à la coupe | D32: ='Matrice menus dej uniques'!AB31 -> 2 fromages à la coupe | E32: ='Matrice menus dej uniques'!AC31 -> 2 fromages à la coupe | F32: ='Matrice menus dej uniques'!AD31 -> 2 fromages à la coupe
B33: ='Matrice menus dej uniques'!Z37 -> Liégeois | C33: ='Matrice menus dej uniques'!AA37 -> Salade de fruits frais | D33: ='Matrice menus dej uniques'!AB37 -> Banane caramel | E33: ='Matrice menus dej uniques'!AC37 -> Marbré | F33: ='Matrice menus dej uniques'!AD37 -> Ananas
A39: Menus équilibrés recommandés par le service Diététique & Nutrition de Mille et Un Repas et conformes au GEMRCN

Sheet Matrice menus dej uniques
C2: ='Menus déjeuner'!D1:H1 -> #VALUE! | K2: =C2 -> #VALUE! | S2: =C2 -> #VALUE! | AA2: =C2 -> #VALUE! | AI2: =C2 -> #VALUE!
D4: ='Menus déjeuner'!F3 -> 46265 | E4: ='Menus déjeuner'!H3 -> 46269 | L4: ='Menus déjeuner'!R3 -> 46272 | M4: =L4+4 -> 46276 | T4: ='Menus déjeuner'!AD3 -> 46279 | U4: =T4+4 -> 46283 | AB4: ='Menus déjeuner'!AP3 -> 46286 | AC4: =AB4+4 -> 46290 | AJ4: ='Menus déjeuner'!BB3 -> 46293 | AK4: =AJ4+4 -> 46297
B6: La liste des allergènes présents volontairement dans les préparations est affichée à l'entrée du restaurant, conformément au règlement UE n° 1169/2011 | J6: La liste des allergènes présents volontairement dans les préparations est affichée à l'entrée du restaurant, conformément au règlement UE n° 1169/2011 | R6: La liste des allergènes présents volontairement dans les préparations est affichée à l'entrée du restaurant, conformément au règlement UE n° 1169/2011 | Z6: La liste des allergènes présents volontairement dans les préparations est affichée à l'entrée du restaurant, conformément au règlement UE n° 1169/2011 | AH6: La liste des allergènes présents volontairement dans les préparations est affichée à l'entrée du restaurant, conformément au règlement UE n° 1169/2011
D8: * Menus indicatifs sous réserve de modifications * | L8: * Menus indicatifs sous réserve de modifications * | T8: * Menus indicatifs sous réserve de modifications * | AB8: * Menus indicatifs sous réserve de modifications * | AJ8: * Menus indicatifs sous réserve de modifications *
A10: ='Menus déjeuner'!#REF! -> #REF! | I10: ='Menus déjeuner'!#REF! -> #REF! | Q10: ='Menus déjeuner'!#REF! -> #REF! | Y10: ='Menus déjeuner'!#REF! -> #REF! | AG10: ='Menus déjeuner'!#REF! -> #REF!
B13: ='Menus déjeuner'!B10 -> 0 | C13: ='Menus déjeuner'!D10 -> Melon | D13: ='Menus déjeuner'!F10 -> Cake aux olives | E13: ='Menus déjeuner'!H10 -> Concombre à l'aneth | F13: ='Menus déjeuner'!J10 -> Rosette | J13: ='Menus déjeuner'!N10 -> Salade de blé | K13: ='Menus déjeuner'!P10 -> Brunoise courgette et tomate | L13: ='Menus déjeuner'!R10 -> Chou fleur ravigote | M13: ='Menus déjeuner'!T10 -> Mousse de carottes au curry | N13: ='Menus déjeuner'!V10 -> Lentilles vertes Isère vinaigrette | R13: ='Menus déjeuner'!Z10 -> Salade de radis aux fines herbes | S13: ='Menus déjeuner'!AB10 -> Salade de pommes de terre ciboulette | T13: ='Menus déjeuner'!AD10 -> Tartine au fromage | U13: ='Menus déjeuner'!AF10 -> animation Italie | V13: ='Menus déjeuner'!AH10 -> Tomates et olives noires | Z13: ='Menus déjeuner'!AL10 -> Melon (selon météo) | AA13: ='Menus déjeuner'!AN10 -> Salade de pommes de terre & cervelas | AB13: ='Menus déjeuner'!AP10 -> Macédoine vinaigrette au citron | AC13: ='Menus déjeuner'!AR10 -> Concombre au fromage blanc | AD13: ='Menus déjeuner'!AT10 -> Rillettes de sardines | AH13: ='Menus déjeuner'!AX10 -> 0 | AI13: ='Menus déjeuner'!AZ10 -> 0 | AJ13: ='Menus déjeuner'!BB10 -> 0 | AK13: ='Menus déjeuner'!BD10 -> 0 | AL13: ='Menus déjeuner'!BF10 -> 0
B21: ='Menus déjeuner'!B14 -> 0 | C21: ='Menus déjeuner'!D14 -> Bolognaise au bœuf | D21: ='Menus déjeuner'!F14 -> Escalope de dinde aux herbes (Egalim EE) | E21: ='Menus déjeuner'!H14 -> Filet de poisson crème citron | F21: ='Menus déjeuner'!J14 -> Poulet Yassa (moutarde, oignon, ail, citrons jaune & vert) (Egalim EE) | J21: ='Menus déjeuner'!N14 -> Filet de poisson au basilic | K21: ='Menus déjeuner'!P14 -> Gigolette de lapin à la moutarde | L21: ='Menus déjeuner'!R14 -> Rôti de dinde au jus (Egalim EE) | M21: ='Menus déjeuner'!T14 -> Quenelles gratinées sauce tomate | N21: ='Menus déjeuner'!V14 -> Émincé de bœuf au paprika | R21: ='Menus déjeuner'!Z14 -> Tacos haricots rouges et maïs | S21: ='Menus déjeuner'!AB14 -> Sauté d'agneau aux 4 épices | T21: ='Menus déjeuner'!AD14 -> Poulet au citron | U21: ='Menus déjeuner'!AF14 -> Pâtes carbo | V21: ='Menus déjeuner'!AH14 -> Crumble de poisson | Z21: ='Menus déjeuner'!AL14 -> Tajine de pois chiches & légumes (carottes, courgettes, navets) | AA21: ='Menus déjeuner'!AN14 -> Émincé de porc aux olives (CE2) | AB21: ='Menus déjeuner'!AP14 -> Poulet rôti aux épices | AC21: ='Menus déjeuner'!AR14 -> Gratin de poisson aneth citron | AD21: ='Menus déjeuner'!AT14 -> Dinde façon basquaise (Egalim EE) | AH21: ='Menus déjeuner'!AX14 -> 0 | AI21: ='Menus déjeuner'!AZ14 -> 0 | AJ21: ='Menus déjeuner'!BB14 -> 0 | AK21: ='Menus déjeuner'!BD14 -> 0 | AL21: ='Menus déjeuner'!BF14 -> 0
B26: ='Menus déjeuner'!B16 -> 0 | C26: ='Menus déjeuner'!D16 -> Pâtes | D26: ='Menus déjeuner'!F16 -> Courgettes | E26: ='Menus déjeuner'!H16 -> Gratin d'aubergine à la tomate | F26: ='Menus déjeuner'!J16 -> Blé | J26: ='Menus déjeuner'!N16 -> Frites | K26: ='Menus déjeuner'!P16 -> Gratin de courgettes | L26: ='Menus déjeuner'!R16 -> Polenta | M26: ='Menus déjeuner'!T16 -> Riz | N26: ='Menus déjeuner'!V16 -> Carottes au beurre | R26: ='Menus déjeuner'!Z16 -> Galette de blé à garnir | S26: ='Menus déjeuner'!AB16 -> Ratatouille | T26: ='Menus déjeuner'!AD16 -> Chou fleur persillé | U26: ='Menus déjeuner'!AF16 -> Pennes | V26: ='Menus déjeuner'!AH16 -> Purée de brocolis | Z26: ='Menus déjeuner'!AL16 -> Semoule semi complète | AA26: ='Menus déjeuner'!AN16 -> Carottes persillées | AB26: ='Menus déjeuner'!AP16 -> Poêlée de légumes | AC26: ='Menus déjeuner'!AR16 -> Haricots verts sautés l'ail | AD26: ='Menus déjeuner'!AT16 -> Boulgour | AH26: ='Menus déjeuner'!AX16 -> 0 | AI26: ='Menus déjeuner'!AZ16 -> 0 | AJ26: ='Menus déjeuner'!BB16 -> 0 | AK26: ='Menus déjeuner'!BD16 -> 0 | AL26: ='Menus déjeuner'!BF16 -> 0
B31: ='Menus déjeuner'!B18 -> 0 | C31: ='Menus déjeuner'!D18 -> 2 fromages à la coupe | D31: ='Menus déjeuner'!F18 -> 2 fromages à la coupe | E31: ='Menus déjeuner'!H18 -> 2 fromages à la coupe | F31: ='Menus déjeuner'!J18 -> 2 fromages à la coupe | J31: ='Menus déjeuner'!N18 -> 2 fromages à la coupe | K31: ='Menus déjeuner'!P18 -> 2 fromages à la coupe | L31: ='Menus déjeuner'!R18 -> 2 fromages à la coupe | M31: ='Menus déjeuner'!T18 -> 2 fromages à la coupe | N31: ='Menus déjeuner'!V18 -> 2 fromages à la coupe | R31: ='Menus déjeuner'!Z18 -> 2 fromages à la coupe | S31: ='Menus déjeuner'!AB18 -> 2 fromages à la coupe | T31: ='Menus déjeuner'!AD18 -> 2 fromages à la coupe | U31: ='Menus déjeuner'!AF18 -> 2 fromages à la coupe | V31: ='Menus déjeuner'!AH18 -> 2 fromages à la coupe | Z31: ='Menus déjeuner'!AL18 -> 2 fromages à la coupe | AA31: ='Menus déjeuner'!AN18 -> 2 fromages à la coupe | AB31: ='Menus déjeuner'!AP18 -> 2 fromages à la coupe | AC31: ='Menus déjeuner'!AR18 -> 2 fromages à la coupe | AD31: ='Menus déjeuner'!AT18 -> 2 fromages à la coupe | AH31: ='Menus déjeuner'!AX18 -> 0 | AI31: ='Menus déjeuner'!AZ18 -> 0 | AJ31: ='Menus déjeuner'!BB18 -> 0 | AK31: ='Menus déjeuner'!BD18 -> 0 | AL31: ='Menus déjeuner'!BF18 -> 0
B37: ='Menus déjeuner'!B22 -> 0 | C37: ='Menus déjeuner'!D22 -> Panna Cotta coco | D37: ='Menus déjeuner'!F22 -> Fromage blanc au caramel | E37: ='Menus déjeuner'!H22 -> Tarte aux pommes | F37: ='Menus déjeuner'!J22 -> Salade fruits frais | J37: ='Menus déjeuner'!N22 -> Poire au chocolat | K37: ='Menus déjeuner'!P22 -> Far aux pruneaux | L37: ='Menus déjeuner'!R22 -> Quartiers d'agrumes | M37: ='Menus déjeuner'!T22 -> Ananas | N37: ='Menus déjeuner'!V22 -> Salade de fruits frais | R37: ='Menus déjeuner'!Z22 -> Beignet | S37: ='Menus déjeuner'!AB22 -> Pastèque | T37: ='Menus déjeuner'!AD22 -> Melon | U37: ='Menus déjeuner'!AF22 -> Pana cotta mangue | V37: ='Menus déjeuner'!AH22 -> Crème dessert vanille | Z37: ='Menus déjeuner'!AL22 -> Liégeois | AA37: ='Menus déjeuner'!AN22 -> Salade de fruits frais | AB37: ='Menus déjeuner'!AP22 -> Banane caramel | AC37: ='Menus déjeuner'!AR22 -> Marbré | AD37: ='Menus déjeuner'!AT22 -> Ananas | AH37: ='Menus déjeuner'!AX22 -> 0 | AI37: ='Menus déjeuner'!AZ22 -> 0 | AJ37: ='Menus déjeuner'!BB22 -> 0 | AK37: ='Menus déjeuner'!BD22 -> 0 | AL37: ='Menus déjeuner'!BF22 -> 0
B47: Menus équilibrés recommandés par le service Diététique & Nutrition de Mille et Un Repas et conformes au GEMRCN | J47: Menus équilibrés recommandés par le service Diététique & Nutrition de Mille et Un Repas et conformes au GEMRCN | R47: Menus équilibrés recommandés par le service Diététique & Nutrition de Mille et Un Repas et conformes au GEMRCN | Z47: Menus équilibrés recommandés par le service Diététique & Nutrition de Mille et Un Repas et conformes au GEMRCN | AH47: Menus équilibrés recommandés par le service Diététique & Nutrition de Mille et Un Repas et conformes au GEMRCN
B55: porc français | C55: produit labellisé A.B.* | D55: produit local | E55: poisson frais | J55: porc français | K55: produit labellisé A.B.* | L55: produit local | M55: poisson frais | R55: porc français | S55: produit labellisé A.B.* | T55: produit local | U55: poisson frais | Z55: porc français | AA55: produit labellisé A.B.* | AB55: produit local | AC55: poisson frais | AH55: porc français | AI55: produit labellisé A.B.* | AJ55: produit local | AK55: poisson frais
A56: bœuf français | B56: volaille française | C56: * issu de l'agriculture biologique | D56: plat végétarien | E56: cuisiné par nos soins | F56: produit de saison | I56: bœuf français | J56: volaille française | K56: * issu de l'agriculture biologique | L56: plat végétarien | M56: cuisiné par nos soins | N56: produit de saison | Q56: bœuf français | R56: volaille française | S56: * issu de l'agriculture biologique | T56: plat végétarien | U56: cuisiné par nos soins | V56: produit de saison | Y56: bœuf français | Z56: volaille française | AA56: * issu de l'agriculture biologique | AB56: plat végétarien | AC56: cuisiné par nos soins | AD56: produit de saison | AG56: bœuf français | AH56: volaille française | AI56: * issu de l'agriculture biologique | AJ56: plat végétarien | AK56: cuisiné par nos soins | AL56: produit de saison

Sheet Matrice menus diners self
C2: ='Menus déjeuner'!D1:H1 -> #VALUE! | L2: =C2 -> #VALUE! | U2: =L2 -> #VALUE! | AD2: =U2 -> #VALUE! | AM2: =AD2 -> #VALUE!
D4: ='Menus déjeuner'!F3 -> 46265 | E4: =D4+3 -> 46268 | M4: ='Menus déjeuner'!R3 -> 46272 | N4: =M4+3 -> 46275 | V4: ='Menus déjeuner'!AD3 -> 46279 | W4: =V4+3 -> 46282 | AE4: ='Menus déjeuner'!AP3 -> 46286 | AF4: =AE4+3 -> 46289 | AN4: ='Menus déjeuner'!BB3 -> 46293 | AO4: =AN4+3 -> 46296
B6: La liste des allergènes présents volontairement dans les préparations est affichée à l'entrée du restaurant, conformément au règlement UE n° 1169/2011 | K6: La liste des allergènes présents volontairement dans les préparations est affichée à l'entrée du restaurant, conformément au règlement UE n° 1169/2011 | T6: La liste des allergènes présents volontairement dans les préparations est affichée à l'entrée du restaurant, conformément au règlement UE n° 1169/2011 | AC6: La liste des allergènes présents volontairement dans les préparations est affichée à l'entrée du restaurant, conformément au règlement UE n° 1169/2011 | AL6: La liste des allergènes présents volontairement dans les préparations est affichée à l'entrée du restaurant, conformément au règlement UE n° 1169/2011
D8: * Menus indicatifs sous réserve de modifications * | M8: * Menus indicatifs sous réserve de modifications * | V8: * Menus indicatifs sous réserve de modifications * | AE8: * Menus indicatifs sous réserve de modifications * | AN8: * Menus indicatifs sous réserve de modifications *
G13: bœuf français | P13: bœuf français | Y13: bœuf français | AH13: bœuf français | AQ13: bœuf français
G15: porc français | P15: porc français | Y15: porc français | AH15: porc français | AQ15: porc français
G17: volaille française | P17: volaille française | Y17: volaille française | AH17: volaille française | AQ17: volaille française
G20: Produit labellisé A.B.* | P20: Produit labellisé A.B.* | Y20: Produit labellisé A.B.* | AH20: Produit labellisé A.B.* | AQ20: Produit labellisé A.B.*
G21: *issu de l'Agriculture Bio | P21: *issu de l'Agriculture Bio | Y21: *issu de l'Agriculture Bio | AH21: *issu de l'Agriculture Bio | AQ21: *issu de l'Agriculture Bio
G24: plat végétarien | P24: plat végétarien | Y24: plat végétarien | AH24: plat végétarien | AQ24: plat végétarien
G26: produit local | P26: produit local | Y26: produit local | AH26: produit local | AQ26: produit local
G30: cuisiné par nos soins | P30: cuisiné par nos soins | Y30: cuisiné par nos soins | AH30: cuisiné par nos soins | AQ30: cuisiné par nos soins
G34: poisson frais | K34: Chou chantilly | L34: Nectarine | M34: Compote pommes & framboises | N34: Banane | P34: poisson frais | T34: Fruit de saison | U34: Yaourt aux fruits BIO | V34: Brownies | W34: Prunes | Y34: poisson frais | AH34: poisson frais | AQ34: poisson frais
G37: produit de saison | P37: produit de saison | Y37: produit de saison | AH37: produit de saison | AQ37: produit de saison
B40: Menus équilibrés recommandés par le service Diététique & Nutrition de Mille et Un Repas et conformes au GEMRCN | K40: Menus équilibrés recommandés par le service Diététique & Nutrition de Mille et Un Repas et conformes au GEMRCN | T40: Menus équilibrés recommandés par le service Diététique & Nutrition de Mille et Un Repas et conformes au GEMRCN | AC40: Menus équilibrés recommandés par le service Diététique & Nutrition de Mille et Un Repas et conformes au GEMRCN | AL40: Menus équilibrés recommandés par le service Diététique & Nutrition de Mille et Un Repas et conformes au GEMRCN

Sheet All SS1
A1: AFFICHAGE DES ALLERGENES PRÉSENTS VOLONTAIREMENT DANS LES MENUS
B2: GLUTEN | C2: LAIT | D2: OEUF | E2: POISSON | F2: SOJA | G2: MOLLUSQUES / CRUSTACÉS | H2: SÉSAME | I2: ARACHIDE | J2: MOUTARDE | K2: LUPIN | L2: CELERI | M2: FRUITS A COQUE | N2: SULFITES
A3: Vinaigrette | J3: X | N3: X
A4: Pain | B4: X
A5: Fromages et laitages | C5: X
A6: Dîner du | B6: ='Menus déjeuner'!#REF! -> #REF!
A7: ='Menus déjeuner'!#REF! -> #REF!
A8: ='Menus déjeuner'!#REF! -> #REF!
A9: ='Menus déjeuner'!#REF! -> #REF!
A10: ='Menus déjeuner'!#REF! -> #REF!
A11: ='Menus déjeuner'!#REF! -> #REF!
A12: ='Menus déjeuner'!#REF! -> #REF!
A13: ='Menus déjeuner'!#REF! -> #REF!
A14: ='Menus déjeuner'!#REF! -> #REF!
A15: Dîner du | B15: =B6+1 -> #REF!
A16: ='Menus déjeuner'!#REF! -> #REF!
A17: ='Menus déjeuner'!#REF! -> #REF!
A18: ='Menus déjeuner'!#REF! -> #REF!
A19: ='Menus déjeuner'!#REF! -> #REF!
A20: ='Menus déjeuner'!#REF! -> #REF!
A21: ='Menus déjeuner'!#REF! -> #REF!
A22: ='Menus déjeuner'!#REF! -> #REF!
A23: ='Menus déjeuner'!#REF! -> #REF!
A24: Dîner du | B24: =B15+1 -> #REF!
A25: ='Menus déjeuner'!#REF! -> #REF!
A26: ='Menus déjeuner'!#REF! -> #REF!
A27: ='Menus déjeuner'!#REF! -> #REF!
A28: ='Menus déjeuner'!#REF! -> #REF!
A29: ='Menus déjeuner'!#REF! -> #REF!
A30: ='Menus déjeuner'!#REF! -> #REF!
A31: ='Menus déjeuner'!#REF! -> #REF!
A32: ='Menus déjeuner'!#REF! -> #REF!
A33: Dîner du | B33: =B24+1 -> #REF!
A34: ='Menus déjeuner'!#REF! -> #REF! | C34: X
A35: ='Menus déjeuner'!#REF! -> #REF! | C35: X | D35: X | J35: X | N35: X
A36: ='Menus déjeuner'!#REF! -> #REF! | B36: X | C36: X | D36: X | E36: X | L36: X | N36: X
A37: ='Menus déjeuner'!#REF! -> #REF! | B37: X | C37: X | D37: X | L37: X | N37: X
A38: ='Menus déjeuner'!#REF! -> #REF! | C38: X | L38: X
A39: ='Menus déjeuner'!#REF! -> #REF! | B39: X | C39: X | D39: X | L39: X | N39: X
A40: ='Menus déjeuner'!#REF! -> #REF! | B40: X | C40: X | D40: X
A41: ='Menus déjeuner'!#REF! -> #REF!

Sheet All SS2
A1: AFFICHAGE DES ALLERGENES PRÉSENTS VOLONTAIREMENT DANS LES MENUS
B2: GLUTEN | C2: LAIT | D2: OEUF | E2: POISSON | F2: SOJA | G2: MOLLUSQUES / CRUSTACÉS | H2: SÉSAME | I2: ARACHIDE | J2: MOUTARDE | K2: LUPIN | L2: CELERI | M2: FRUITS A COQUE | N2: SULFITES
A3: Vinaigrette | J3: X | N3: X
A4: Pain | B4: X
A5: Fromages et laitages | C5: X
A6: Dîner du | B6: ='Menus déjeuner'!#REF! -> #REF!
A7: ='Menus déjeuner'!#REF! -> #REF! | J7: X | N7: X
A8: ='Menus déjeuner'!#REF! -> #REF! | C8: X | J8: X | N8: X
A9: ='Menus déjeuner'!#REF! -> #REF! | B9: X | C9: X | D9: X | K9: X
A10: ='Menus déjeuner'!#REF! -> #REF! | B10: X | C10: X | D10: X | E10: X | F10: X | J10: X | L10: X | N10: X
A11: ='Menus déjeuner'!#REF! -> #REF!
A12: ='Menus déjeuner'!#REF! -> #REF!
A13: ='Menus déjeuner'!#REF! -> #REF! | B13: X | C13: X | D13: X | F13: X | K13: X
A14: ='Menus déjeuner'!#REF! -> #REF!
A15: Dîner du | B15: =B6+1 -> #REF!
A16: ='Menus déjeuner'!#REF! -> #REF! | B16: X | C16: X | D16: X | F16: X
A17: ='Menus déjeuner'!#REF! -> #REF! | J17: X | N17: X
A18: ='Menus déjeuner'!#REF! -> #REF! | B18: X | C18: X | D18: X | J18: X | L18: X | N18: X
A19: ='Menus déjeuner'!#REF! -> #REF! | B19: X | C19: X | D19: X | E19: X | J19: X | L19: X | N19: X
A20: ='Menus déjeuner'!#REF! -> #REF!
A21: ='Menus déjeuner'!#REF! -> #REF!
A22: ='Menus déjeuner'!#REF! -> #REF!
A23: ='Menus déjeuner'!#REF! -> #REF! | B23: X | C23: X | D23: X | F23: X | I23: X | M23: X
A24: Dîner du | B24: =B15+1 -> #REF!
A25: ='Menus déjeuner'!#REF! -> #REF! | J25: X | N25: X
A26: ='Menus déjeuner'!#REF! -> #REF! | C26: X | J26: X | N26: X
A27: ='Menus déjeuner'!#REF! -> #REF! | C27: X | D27: X | L27: X | N27: X
A28: ='Menus déjeuner'!#REF! -> #REF! | B28: X | C28: X | D28: X | E28: X | G28: X | L28: X | N28: X
A29: ='Menus déjeuner'!#REF! -> #REF! | B29: X | C29: X | D29: X
A30: ='Menus déjeuner'!#REF! -> #REF! | C30: X
A31: ='Menus déjeuner'!#REF! -> #REF!
A32: ='Menus déjeuner'!#REF! -> #REF! | C32: X
A33: Dîner du | B33: =B24+1 -> #REF!
A34: =+'Menus déjeuner'!#REF! -> #REF!
A35: =+'Menus déjeuner'!#REF! -> #REF! | C35: X | J35: X | N35: X
A36: =+'Menus déjeuner'!#REF! -> #REF! | B36: X | C36: X | D36: X | L36: X | N36: X
A37: =+'Menus déjeuner'!#REF! -> #REF! | C37: X | D37: X
A38: =+'Menus déjeuner'!#REF! -> #REF! | C38: X
A39: =+'Menus déjeuner'!#REF! -> #REF!
A40: =+'Menus déjeuner'!#REF! -> #REF! | B40: X | C40: X | D40: X | F40: X | M40: X
A41: =+'Menus déjeuner'!#REF! -> #REF!

Sheet All SS3
A1: AFFICHAGE DES ALLERGENES PRÉSENTS VOLONTAIREMENT DANS LES MENUS
B2: GLUTEN | C2: LAIT | D2: OEUF | E2: POISSON | F2: SOJA | G2: MOLLUSQUES / CRUSTACÉS | H2: SÉSAME | I2: ARACHIDE | J2: MOUTARDE | K2: LUPIN | L2: CELERI | M2: FRUITS A COQUE | N2: SULFITES
A3: Vinaigrette | J3: X | N3: X
A4: Pain | B4: X
A5: Fromages et laitages | C5: X
A6: Dîner du | B6: ='Menus déjeuner'!#REF! -> #REF!
A7: ='Menus déjeuner'!#REF! -> #REF! | C7: X | J7: X | N7: X
A8: ='Menus déjeuner'!#REF! -> #REF! | J8: X | N8: X
A9: ='Menus déjeuner'!#REF! -> #REF! | B9: X | C9: X | D9: X | E9: X | L9: X | N9: X
A10: ='Menus déjeuner'!#REF! -> #REF! | B10: X | C10: X | D10: X | J10: X | L10: X | N10: X
A11: ='Menus déjeuner'!#REF! -> #REF! | C11: X
A12: ='Menus déjeuner'!#REF! -> #REF! | C12: X
A13: ='Menus déjeuner'!#REF! -> #REF!
A14: ='Menus déjeuner'!#REF! -> #REF!
A15: Dîner du | B15: =B6+1 -> #REF!
A16: ='Menus déjeuner'!#REF! -> #REF! | B16: X | C16: X
A17: ='Menus déjeuner'!#REF! -> #REF! | C17: X | J17: X | N17: X
A18: ='Menus déjeuner'!#REF! -> #REF! | B18: X | C18: X | D18: X | L18: X | N18: X
A19: ='Menus déjeuner'!#REF! -> #REF! | B19: X | C19: X | D19: X | E19: X | J19: X | L19: X | N19: X
A20: ='Menus déjeuner'!#REF! -> #REF! | B20: X | C20: X | D20: X
A21: ='Menus déjeuner'!#REF! -> #REF! | C21: X
A22: ='Menus déjeuner'!#REF! -> #REF!
A23: ='Menus déjeuner'!#REF! -> #REF! | B23: X | C23: X | D23: X | N23: X
A24: Dîner du | B24: =B15+1 -> #REF!
A25: ='Menus déjeuner'!#REF! -> #REF! | J25: X | N25: X
A26: ='Menus déjeuner'!#REF! -> #REF! | J26: X | N26: X
A27: ='Menus déjeuner'!#REF! -> #REF! | C27: X | D27: X
A28: ='Menus déjeuner'!#REF! -> #REF! | B28: X | C28: X | D28: X | L28: X | N28: X
A29: ='Menus déjeuner'!#REF! -> #REF!
A30: ='Menus déjeuner'!#REF! -> #REF! | B30: X | C30: X | D30: X
A31: ='Menus déjeuner'!#REF! -> #REF! | B31: X | C31: X | D31: X | F31: X | K31: X
A32: ='Menus déjeuner'!#REF! -> #REF!
A33: Dîner du | B33: =B24+1 -> #REF!
A34: ='Menus déjeuner'!#REF! -> #REF!
A35: ='Menus déjeuner'!#REF! -> #REF! | E35: X
A36: ='Menus déjeuner'!#REF! -> #REF! | B36: X | C36: X | D36: X | F36: X | J36: X | L36: X | N36: X
A37: ='Menus déjeuner'!#REF! -> #REF! | B37: X | C37: X | D37: X | E37: X | L37: X | N37: X
A38: ='Menus déjeuner'!#REF! -> #REF! | C38: X
A39: ='Menus déjeuner'!#REF! -> #REF! | B39: X | C39: X | D39: X
A40: ='Menus déjeuner'!#REF! -> #REF! | B40: X | C40: X | D40: X | F40: X | M40: X
A41: ='Menus déjeuner'!#REF! -> #REF!

Sheet All SS4
A1: AFFICHAGE DES ALLERGENES PRÉSENTS VOLONTAIREMENT DANS LES MENUS
B2: GLUTEN | C2: LAIT | D2: OEUF | E2: POISSON | F2: SOJA | G2: MOLLUSQUES / CRUSTACÉS | H2: SÉSAME | I2: ARACHIDE | J2: MOUTARDE | K2: LUPIN | L2: CELERI | M2: FRUITS A COQUE | N2: SULFITES
A3: Vinaigrette | J3: X | N3: X
A4: Pain | B4: X
A5: Fromages et laitages | C5: X
A6: Dîner du | B6: ='Menus déjeuner'!#REF! -> #REF!
A7: ='Menus déjeuner'!#REF! -> #REF! | B7: X | J7: X | L7: X | N7: X
A8: ='Menus déjeuner'!#REF! -> #REF!
A9: ='Menus déjeuner'!#REF! -> #REF! | B9: X | C9: X | D9: X | F9: X | J9: X | N9: X
A10: ='Menus déjeuner'!#REF! -> #REF! | B10: X | C10: X | D10: X | E10: X | F10: X | J10: X | N10: X
A11: ='Menus déjeuner'!#REF! -> #REF!
A12: ='Menus déjeuner'!#REF! -> #REF!
A13: ='Menus déjeuner'!#REF! -> #REF!
A14: ='Menus déjeuner'!#REF! -> #REF! | C14: X
A15: Dîner du | B15: =B6+1 -> #REF!
A16: ='Menus déjeuner'!#REF! -> #REF!
A17: ='Menus déjeuner'!#REF! -> #REF! | J17: X | N17: X
A18: ='Menus déjeuner'!#REF! -> #REF! | B18: X | C18: X | D18: X | E18: X | L18: X | N18: X
A19: ='Menus déjeuner'!#REF! -> #REF! | B19: X | C19: X | D19: X | J19: X | L19: X | N19: X
A20: ='Menus déjeuner'!#REF! -> #REF! | C20: X
A21: ='Menus déjeuner'!#REF! -> #REF! | C21: X
A22: ='Menus déjeuner'!#REF! -> #REF! | B22: X | C22: X | D22: X | F22: X | I22: X | M22: X
A23: ='Menus déjeuner'!#REF! -> #REF!
A24: Dîner du | B24: =B15+1 -> #REF!
A25: ='Menus déjeuner'!#REF! -> #REF! | B25: X | C25: X | E25: X
A26: ='Menus déjeuner'!#REF! -> #REF! | J26: X | N26: X
A27: ='Menus déjeuner'!#REF! -> #REF! | B27: X | C27: X | D27: X | L27: X | N27: X
A28: ='Menus déjeuner'!#REF! -> #REF! | B28: X | C28: X | D28: X | E28: X | G28: X | L28: X | N28: X
A29: ='Menus déjeuner'!#REF! -> #REF! | C29: X
A30: ='Menus déjeuner'!#REF! -> #REF! | B30: X | C30: X | D30: X
A31: ='Menus déjeuner'!#REF! -> #REF!
A32: ='Menus déjeuner'!#REF! -> #REF! | C32: X
A33: Dîner du | B33: =B24+1 -> #REF!
A34: ='Menus déjeuner'!#REF! -> #REF! | B34: X | C34: X | D34: X | E34: X | J34: X | L34: X | N34: X
A35: ='Menus déjeuner'!#REF! -> #REF! | J35: X | N35: X
A36: ='Menus déjeuner'!#REF! -> #REF! | C36: X | D36: X | J36: X
A37: ='Menus déjeuner'!#REF! -> #REF! | B37: X | D37: X
A38: ='Menus déjeuner'!#REF! -> #REF! | B38: X | C38: X
A39: ='Menus déjeuner'!#REF! -> #REF! | C39: X
A40: ='Menus déjeuner'!#REF! -> #REF! | B40: X | C40: X | D40: X | J40: X | N40: X
A41: ='Menus déjeuner'!#REF! -> #REF!

Sheet All SS5
A1: AFFICHAGE DES ALLERGENES PRÉSENTS VOLONTAIREMENT DANS LES MENUS
B2: GLUTEN | C2: LAIT | D2: OEUF | E2: POISSON | F2: SOJA | G2: MOLLUSQUES / CRUSTACÉS | H2: SÉSAME | I2: ARACHIDE | J2: MOUTARDE | K2: LUPIN | L2: CELERI | M2: FRUITS A COQUE | N2: SULFITES
A3: Vinaigrette | J3: X | N3: X
A4: Pain | B4: X
A5: Fromages et laitages | C5: X
A6: Dîner du | B6: ='Menus déjeuner'!#REF! -> #REF!
A7: ='Menus déjeuner'!#REF! -> #REF! | B7: X | C7: X | D7: X
A8: ='Menus déjeuner'!#REF! -> #REF! | C8: X | D8: X | J8: X | M8: X | N8: X
A9: ='Menus déjeuner'!#REF! -> #REF! | B9: X | C9: X | D9: X | L9: X | N9: X
A10: ='Menus déjeuner'!#REF! -> #REF! | B10: X | C10: X | D10: X | E10: X | L10: X | N10: X
A11: ='Menus déjeuner'!#REF! -> #REF! | C11: X
A12: ='Menus déjeuner'!#REF! -> #REF! | C12: X
A13: ='Menus déjeuner'!#REF! -> #REF!
A14: ='Menus déjeuner'!#REF! -> #REF!
A15: Dîner du | B15: =B6+1 -> #REF!
A16: ='Menus déjeuner'!#REF! -> #REF! | F16: X | J16: X | N16: X
A17: ='Menus déjeuner'!#REF! -> #REF! | J17: X | L17: X | N17: X
A18: ='Menus déjeuner'!#REF! -> #REF! | B18: X | C18: X | D18: X | L18: X | N18: X
A19: ='Menus déjeuner'!#REF! -> #REF! | B19: X | C19: X | D19: X | E19: X | L19: X | N19: X
A20: ='Menus déjeuner'!#REF! -> #REF! | J20: X | N20: X
A21: ='Menus déjeuner'!#REF! -> #REF!
A22: ='Menus déjeuner'!#REF! -> #REF!
A23: ='Menus déjeuner'!#REF! -> #REF! | C23: X | D23: X | F23: X
A24: Dîner du | B24: =B15+1 -> #REF!
A25: ='Menus déjeuner'!#REF! -> #REF! | C25: X | J25: X | N25: X
A26: ='Menus déjeuner'!#REF! -> #REF! | C26: X | F26: X | J26: X | N26: X
A27: ='Menus déjeuner'!#REF! -> #REF! | C27: X | D27: X
A28: ='Menus déjeuner'!#REF! -> #REF! | B28: X | C28: X | D28: X | L28: X | N28: X
A29: ='Menus déjeuner'!#REF! -> #REF! | B29: X | C29: X
A30: ='Menus déjeuner'!#REF! -> #REF! | C30: X
A31: ='Menus déjeuner'!#REF! -> #REF! | B31: X | C31: X | D31: X | F31: X
A32: ='Menus déjeuner'!#REF! -> #REF!
A33: Dîner du | B33: =B24+1 -> #REF!
A34: ='Menus déjeuner'!#REF! -> #REF! | C34: X | J34: X | N34: X
A35: ='Menus déjeuner'!#REF! -> #REF! | J35: X | N35: X
A36: ='Menus déjeuner'!#REF! -> #REF! | B36: X | C36: X | D36: X | E36: X | J36: X | L36: X | N36: X
A37: ='Menus déjeuner'!#REF! -> #REF! | B37: X | C37: X | D37: X | L37: X | N37: X
A38: ='Menus déjeuner'!#REF! -> #REF! | J38: X
A39: ='Menus déjeuner'!#REF! -> #REF! | C39: X
A40: ='Menus déjeuner'!#REF! -> #REF! | C40: X
A41: ='Menus déjeuner'!#REF! -> #REF!

Sheet Menus S1
C3: ='Menus déjeuner'!F3 -> 46265 | H3: =C3+1 -> 46266 | M3: =H3+1 -> 46267 | R3: =C3+3 -> 46268 | W3: =C3+4 -> 46269
C4: DEJEUNER | H4: DEJEUNER | M4: DEJEUNER | R4: DEJEUNER | W4: DEJEUNER
A6: La liste des allergènes présents volontairement dans les préparations est affichée à l'entrée du restaurant, conformément au règlement UE n° 1169/2011 | F6: La liste des allergènes présents volontairement dans les préparations est affichée à l'entrée du restaurant, conformément au règlement UE n° 1169/2011 | K6: La liste des allergènes présents volontairement dans les préparations est affichée à l'entrée du restaurant, conformément au règlement UE n° 1169/2011 | P6: La liste des allergènes présents volontairement dans les préparations est affichée à l'entrée du restaurant, conformément au règlement UE n° 1169/2011 | U6: La liste des allergènes présents volontairement dans les préparations est affichée à l'entrée du restaurant, conformément au règlement UE n° 1169/2011
A12: 0 | F12: 0 | K12: 0 | P12: 0 | U12: 0
A13: ='Menus déjeuner'!B10 -> 0 | F13: ='Menus déjeuner'!D10 -> Melon | K13: ='Menus déjeuner'!F10 -> Cake aux olives | P13: ='Menus déjeuner'!H10 -> Concombre à l'aneth | U13: ='Menus déjeuner'!J10 -> Rosette
A14: ='Menus déjeuner'!B11 -> 0 | F14: ='Menus déjeuner'!D11 -> Salade de courgettes à la mimolette | K14: ='Menus déjeuner'!F11 -> Salade composée | P14: ='Menus déjeuner'!H11 -> Salade de courgette & féta | U14: ='Menus déjeuner'!J11 -> Rillettes de maquereau
A15: ='Menus déjeuner'!B12 -> 0 | F15: ='Menus déjeuner'!D12 -> Salade de tomate & basilic | K15: ='Menus déjeuner'!F12 -> Terrine de campagne cornichon | P15: ='Menus déjeuner'!H12 -> Tomate vinaigrette | U15: ='Menus déjeuner'!J12 -> Œufs mimosa
A16: ='Menus déjeuner'!B13 -> 0 | F16: ='Menus déjeuner'!D13 -> Salade verte | K16: ='Menus déjeuner'!F13 -> Salade verte | P16: ='Menus déjeuner'!H13 -> Salade verte | U16: ='Menus déjeuner'!J13 -> Salade verte
P17: 0
A18: 0 | C18: =A13 -> 0 | F18: 0 | H18: =F13 -> Melon | K18: 0 | M18: =K13 -> Cake aux olives | P18: 0 | R18: =P13 -> Concombre à l'aneth | U18: 0 | W18: =U13 -> Rosette
A23: ='Menus déjeuner'!B14 -> 0 | C23: =A23 -> 0 | F23: ='Menus déjeuner'!D14 -> Bolognaise au bœuf | H23: =F23 -> Bolognaise au bœuf | K23: ='Menus déjeuner'!F14 -> Escalope de dinde aux herbes (Egalim EE) | M23: =K23 -> Escalope de dinde aux herbes (Egalim EE) | P23: ='Menus déjeuner'!H14 -> Filet de poisson crème citron | R23: =P23 -> Filet de poisson crème citron | U23: ='Menus déjeuner'!J14 -> Poulet Yassa (moutarde, oignon, ail, citrons jaune & vert) (Egalim EE) | W23: =U23 -> Poulet Yassa (moutarde, oignon, ail, citrons jaune & vert) (Egalim EE)
A24: ='Menus déjeuner'!B15 -> 0 | F24: ='Menus déjeuner'!D15 -> Bolognaise lentilles et légumes | K24: ='Menus déjeuner'!F15 -> Falafels sauce yaourt | P24: ='Menus déjeuner'!H15 -> Rôti de porc au jus (CE2) | U24: ='Menus déjeuner'!J15 -> Omelette roulée
A26: 0 | F26: 0 | K26: 0 | P26: 0 | U26: 0
C28: =A31 -> 0 | H28: =F31 -> Pâtes | M28: =K31 -> Courgettes | R28: =P31 -> Gratin d'aubergine à la tomate | W28: =U31 -> Blé
A31: ='Menus déjeuner'!B16 -> 0 | F31: ='Menus déjeuner'!D16 -> Pâtes | K31: ='Menus déjeuner'!F16 -> Courgettes | P31: ='Menus déjeuner'!H16 -> Gratin d'aubergine à la tomate | U31: ='Menus déjeuner'!J16 -> Blé
A32: ='Menus déjeuner'!B17 -> 0 | F32: ='Menus déjeuner'!D17 -> Fondue de courgettes | K32: ='Menus déjeuner'!F17 -> Boulgour | P32: ='Menus déjeuner'!H17 -> Semoule semi complète | U32: ='Menus déjeuner'!J17 -> Épinards à la crème
C33: =A38 -> 0 | F33: 0 | H33: =F38 -> 2 fromages à la coupe | M33: =K38 -> 2 fromages à la coupe | P33: 0 | R33: =P38 -> 2 fromages à la coupe | W33: =U38 -> 2 fromages à la coupe
K34: 0 | P34: 0 | U34: 0
A37: 0 | F37: 0 | K37: 0 | P37: 0 | U37: 0
A38: ='Menus déjeuner'!B18 -> 0 | C38: =A46 -> 0 | F38: ='Menus déjeuner'!D18 -> 2 fromages à la coupe | H38: =F46 -> Panna Cotta coco | K38: ='Menus déjeuner'!F18 -> 2 fromages à la coupe | M38: =K46 -> Fromage blanc au caramel | P38: ='Menus déjeuner'!H18 -> 2 fromages à la coupe | R38: =P46 -> Tarte aux pommes | U38: ='Menus déjeuner'!J18 -> 2 fromages à la coupe | W38: =U46 -> Salade fruits frais
A39: ='Menus déjeuner'!B19 -> 0 | F39: ='Menus déjeuner'!D19 -> dont 1 AOP/AOC/IGP | K39: ='Menus déjeuner'!F19 -> dont 1 AOP/AOC/IGP | P39: ='Menus déjeuner'!H19 -> dont 1 AOP/AOC/IGP | U39: ='Menus déjeuner'!J19 -> dont 1 AOP/AOC/IGP
A40: ='Menus déjeuner'!B20 -> 0 | F40: ='Menus déjeuner'!D20 -> 2 laitages dont 1 yaourt nature | K40: ='Menus déjeuner'!F20 -> 2 laitages dont 1 yaourt nature | P40: ='Menus déjeuner'!H20 -> 2 laitages dont 1 yaourt nature | U40: ='Menus déjeuner'!J20 -> 2 laitages dont 1 yaourt nature
A41: ='Menus déjeuner'!B21 -> 0 | F41: ='Menus déjeuner'!D21 -> 0 | K41: ='Menus déjeuner'!F21 -> 0 | P41: ='Menus déjeuner'!H21 -> 0 | U41: ='Menus déjeuner'!J21 -> 0
A45: 0 | F45: 0 | K45: 0 | P45: 0 | U45: 0
A46: ='Menus déjeuner'!B22 -> 0 | F46: ='Menus déjeuner'!D22 -> Panna Cotta coco | K46: ='Menus déjeuner'!F22 -> Fromage blanc au caramel | P46: ='Menus déjeuner'!H22 -> Tarte aux pommes | U46: ='Menus déjeuner'!J22 -> Salade fruits frais
A47: ='Menus déjeuner'!B23 -> 0 | F47: ='Menus déjeuner'!D23 -> Eclaire chocolat | K47: ='Menus déjeuner'!F23 -> Eclaire chocolat | P47: ='Menus déjeuner'!H23 -> Quatre quarts au citron | U47: ='Menus déjeuner'!J23 -> Pastèque
A48: ='Menus déjeuner'!B24 -> 0 | F48: ='Menus déjeuner'!D24 -> Compote sans sucre ajouté ARA | K48: ='Menus déjeuner'!F24 -> Compote sans sucre ajouté ARA | P48: ='Menus déjeuner'!H24 -> 0 | U48: ='Menus déjeuner'!J24 -> Compote sans sucre ajouté ARA
A49: ='Menus déjeuner'!B25 -> 0 | F49: ='Menus déjeuner'!D25 -> Corbeille de fruits frais | K49: ='Menus déjeuner'!F25 -> Corbeille de fruits frais | P49: ='Menus déjeuner'!H25 -> Corbeille de fruits frais | U49: ='Menus déjeuner'!J25 -> Corbeille de fruits frais
U50: 0

Sheet Menus S2
C3: ='Menus déjeuner'!R3 -> 46272 | H3: =C3+1 -> 46273 | M3: =H3+1 -> 46274 | R3: =C3+3 -> 46275 | W3: =C3+4 -> 46276
C4: DEJEUNER | H4: DEJEUNER | M4: DEJEUNER | R4: DEJEUNER | W4: DEJEUNER
A6: La liste des allergènes présents volontairement dans les préparations est affichée à l'entrée du restaurant, conformément au règlement UE n° 1169/2011 | F6: La liste des allergènes présents volontairement dans les préparations est affichée à l'entrée du restaurant, conformément au règlement UE n° 1169/2011 | K6: La liste des allergènes présents volontairement dans les préparations est affichée à l'entrée du restaurant, conformément au règlement UE n° 1169/2011 | P6: La liste des allergènes présents volontairement dans les préparations est affichée à l'entrée du restaurant, conformément au règlement UE n° 1169/2011 | U6: La liste des allergènes présents volontairement dans les préparations est affichée à l'entrée du restaurant, conformément au règlement UE n° 1169/2011
A12: 0 | F12: 0 | P12: 0 | U12: 0
A13: ='Menus déjeuner'!N10 -> Salade de blé | F13: ='Menus déjeuner'!P10 -> Brunoise courgette et tomate | K13: ='Menus déjeuner'!R10 -> Chou fleur ravigote | P13: ='Menus déjeuner'!T10 -> Mousse de carottes au curry | U13: ='Menus déjeuner'!V10 -> Lentilles vertes Isère vinaigrette
A14: ='Menus déjeuner'!N11 -> Salade de tomate et oignon rouge | F14: ='Menus déjeuner'!P11 -> Cèleri mayo curry | K14: ='Menus déjeuner'!R11 -> Macédoine vinaigrette | P14: ='Menus déjeuner'!T11 -> Betteraves vinaigrette | U14: ='Menus déjeuner'!V11 -> Taboulé
A15: ='Menus déjeuner'!N12 -> Pomelos | F15: ='Menus déjeuner'!P12 -> Salade composée | K15: ='Menus déjeuner'!R12 -> Salade de fonds d'artichaut au curry | P15: ='Menus déjeuner'!T12 -> Salade de petits pois, féta et zeste de citron | U15: ='Menus déjeuner'!V12 -> Salade de coquillettes
A16: ='Menus déjeuner'!N13 -> Salade verte | F16: ='Menus déjeuner'!P13 -> Salade verte | K16: ='Menus déjeuner'!R13 -> Salade verte | P16: ='Menus déjeuner'!T13 -> Salade verte | U16: ='Menus déjeuner'!J13 -> Salade verte
P17: 0
A18: 0 | C18: =A13 -> Salade de blé | F18: 0 | H18: =F13 -> Brunoise courgette et tomate | M18: =K13 -> Chou fleur ravigote | P18: 0 | R18: =P13 -> Mousse de carottes au curry | U18: 0 | W18: =U13 -> Lentilles vertes Isère vinaigrette
A23: ='Menus déjeuner'!N14 -> Filet de poisson au basilic | C23: =A23 -> Filet de poisson au basilic | F23: ='Menus déjeuner'!P14 -> Gigolette de lapin à la moutarde | H23: =F23 -> Gigolette de lapin à la moutarde | K23: ='Menus déjeuner'!R14 -> Rôti de dinde au jus (Egalim EE) | M23: =K23 -> Rôti de dinde au jus (Egalim EE) | P23: ='Menus déjeuner'!T14 -> Quenelles gratinées sauce tomate | R23: =P23 -> Quenelles gratinées sauce tomate | U23: ='Menus déjeuner'!V14 -> Émincé de bœuf au paprika | W23: =U23 -> Émincé de bœuf au paprika
A24: ='Menus déjeuner'!N15 -> Saucisse brassée à l'ail | F24: ='Menus déjeuner'!P15 -> Curry de pois chiches Rhône/Isère | K24: ='Menus déjeuner'!R15 -> Croque du Chef au fromage | P24: ='Menus déjeuner'!T15 -> Sauté de porc sauce charcutière (CE2) | U24: ='Menus déjeuner'!V15 -> Cassolette de poisson à la provençale
A26: 0 | F26: 0 | K26: 0 | P26: 0 | U26: 0
C28: =A31 -> Frites | H28: =F31 -> Gratin de courgettes | M28: =K31 -> Polenta | R28: =P31 -> Riz | W28: =U31 -> Carottes au beurre
A31: ='Menus déjeuner'!N16 -> Frites | F31: ='Menus déjeuner'!P16 -> Gratin de courgettes | K31: ='Menus déjeuner'!R16 -> Polenta | P31: ='Menus déjeuner'!T16 -> Riz | U31: ='Menus déjeuner'!V16 -> Carottes au beurre
A32: ='Menus déjeuner'!N17 -> Cœur de blé | F32: ='Menus déjeuner'!P17 -> Boulgour façon pilaf | K32: ='Menus déjeuner'!R17 -> Tomates à la provençale | P32: ='Menus déjeuner'!T17 -> Navets glacés au miel | U32: ='Menus déjeuner'!V17 -> Petit épeautre
C33: =A38 -> 2 fromages à la coupe | F33: ='Menus déjeuner'!#REF! -> #REF! | H33: =F38 -> 2 fromages à la coupe | M33: =K38 -> 2 fromages à la coupe | R33: =P38 -> 2 fromages à la coupe | W33: =U38 -> 2 fromages à la coupe
K34: 0 | P34: 0 | U34: 0
P37: 0 | U37: 0
A38: ='Menus déjeuner'!N18 -> 2 fromages à la coupe | C38: =A46 -> Poire au chocolat | F38: ='Menus déjeuner'!P18 -> 2 fromages à la coupe | H38: =F46 -> Far aux pruneaux | K38: ='Menus déjeuner'!R18 -> 2 fromages à la coupe | M38: =K46 -> Quartiers d'agrumes | P38: ='Menus déjeuner'!T18 -> 2 fromages à la coupe | R38: =P46 -> Ananas | U38: ='Menus déjeuner'!V18 -> 2 fromages à la coupe | W38: =U46 -> Salade de fruits frais
A39: ='Menus déjeuner'!N19 -> dont 1 AOP/AOC/IGP | F39: ='Menus déjeuner'!P19 -> dont 1 AOP/AOC/IGP | K39: ='Menus déjeuner'!R19 -> dont 1 AOP/AOC/IGP | P39: ='Menus déjeuner'!T19 -> dont 1 AOP/AOC/IGP | U39: ='Menus déjeuner'!V19 -> dont 1 AOP/AOC/IGP
A40: ='Menus déjeuner'!N20 -> 2 laitages dont 1 yaourt nature | F40: ='Menus déjeuner'!P20 -> 2 laitages dont 1 yaourt nature | K40: ='Menus déjeuner'!R20 -> 2 laitages dont 1 yaourt nature | P40: ='Menus déjeuner'!T20 -> 2 laitages dont 1 yaourt nature | U40: ='Menus déjeuner'!J20 -> 2 laitages dont 1 yaourt nature
A41: ='Menus déjeuner'!N21 -> 0 | F41: ='Menus déjeuner'!P21 -> 0 | K41: ='Menus déjeuner'!R21 -> 0 | P41: ='Menus déjeuner'!T21 -> 0 | U41: ='Menus déjeuner'!J21 -> 0
P45: 0 | U45: 0
A46: ='Menus déjeuner'!N22 -> Poire au chocolat | F46: ='Menus déjeuner'!P22 -> Far aux pruneaux | K46: ='Menus déjeuner'!R22 -> Quartiers d'agrumes | P46: ='Menus déjeuner'!T22 -> Ananas | U46: ='Menus déjeuner'!V22 -> Salade de fruits frais
A47: ='Menus déjeuner'!N23 -> Pomme au four | F47: ='Menus déjeuner'!P23 -> Fondant chocolat | K47: ='Menus déjeuner'!R23 -> Banane aux amandes | P47: ='Menus déjeuner'!T23 -> Salade de fruits frais | U47: ='Menus déjeuner'!V23 -> Smoothie fruits frais
A48: ='Menus déjeuner'!N24 -> Compote sans sucre ajouté ARA | F48: ='Menus déjeuner'!P24 -> 0 | K48: ='Menus déjeuner'!R24 -> Compote sans sucre ajouté ARA | P48: ='Menus déjeuner'!T24 -> Cocktail de fruits au sirop léger | U48: ='Menus déjeuner'!V24 -> Dés de pêche au sirop léger
A49: ='Menus déjeuner'!N25 -> Corbeille de fruits frais | F49: ='Menus déjeuner'!P25 -> Corbeille de fruits frais | K49: ='Menus déjeuner'!R25 -> Corbeille de fruits frais | P49: ='Menus déjeuner'!H25 -> Corbeille de fruits frais | U49: ='Menus déjeuner'!V25 -> Corbeille de fruits frais
U50: 0

Sheet Menus S3
C3: =+'Menus déjeuner'!AD3 -> 46279 | H3: =C3+1 -> 46280 | M3: =H3+1 -> 46281 | R3: =C3+3 -> 46282 | W3: =C3+4 -> 46283
C4: DEJEUNER | H4: DEJEUNER | M4: DEJEUNER | R4: DEJEUNER | W4: DEJEUNER
A6: La liste des allergènes présents volontairement dans les préparations est affichée à l'entrée du restaurant, conformément au règlement UE n° 1169/2011 | F6: La liste des allergènes présents volontairement dans les préparations est affichée à l'entrée du restaurant, conformément au règlement UE n° 1169/2011 | K6: La liste des allergènes présents volontairement dans les préparations est affichée à l'entrée du restaurant, conformément au règlement UE n° 1169/2011 | P6: La liste des allergènes présents volontairement dans les préparations est affichée à l'entrée du restaurant, conformément au règlement UE n° 1169/2011 | U6: La liste des allergènes présents volontairement dans les préparations est affichée à l'entrée du restaurant, conformément au règlement UE n° 1169/2011
A12: 0 | F12: 0 | P12: 0 | U12: 0
A13: ='Menus déjeuner'!Z10 -> Salade de radis aux fines herbes | F13: ='Menus déjeuner'!AB10 -> Salade de pommes de terre ciboulette | K13: ='Menus déjeuner'!AD10 -> Tartine au fromage | P13: ='Menus déjeuner'!AF10 -> animation Italie | U13: ='Menus déjeuner'!AH10 -> Tomates et olives noires
A14: ='Menus déjeuner'!Z11 -> Carottes râpées | F14: ='Menus déjeuner'!AB11 -> Boulgour en salade | K14: ='Menus déjeuner'!AD11 -> Cake légumes curry | P14: ='Menus déjeuner'!AF11 -> Salade vert ,jambon crue, melon | U14: ='Menus déjeuner'!AH11 -> Radis
A15: ='Menus déjeuner'!Z12 -> Chou blanc émincé | F15: ='Menus déjeuner'!AB12 -> Houmous rose | K15: ='Menus déjeuner'!AD12 -> Pain perdu salé | P15: ='Menus déjeuner'!AF12 -> Tomate mozza | U15: ='Menus déjeuner'!AH12 -> Concombre tzatzíki
A16: ='Menus déjeuner'!Z13 -> Salade verte | F16: ='Menus déjeuner'!AB13 -> Salade verte | K16: ='Menus déjeuner'!AD13 -> Salade verte | P16: ='Menus déjeuner'!T13 -> Salade verte | U16: ='Menus déjeuner'!J13 -> Salade verte
P17: 0
A18: 0 | C18: =A13 -> Salade de radis aux fines herbes | F18: 0 | H18: =F13 -> Salade de pommes de terre ciboulette | M18: =K13 -> Tartine au fromage | P18: 0 | R18: =P13 -> animation Italie | U18: 0 | W18: =U13 -> Tomates et olives noires
A23: ='Menus déjeuner'!Z14 -> Tacos haricots rouges et maïs | C23: =A23 -> Tacos haricots rouges et maïs | F23: ='Menus déjeuner'!AB14 -> Sauté d'agneau aux 4 épices | H23: =F23 -> Sauté d'agneau aux 4 épices | K23: ='Menus déjeuner'!AD14 -> Poulet au citron | M23: =K23 -> Poulet au citron | P23: ='Menus déjeuner'!AF14 -> Pâtes carbo | R23: =P23 -> Pâtes carbo | U23: ='Menus déjeuner'!AH14 -> Crumble de poisson | W23: =U23 -> Crumble de poisson
A24: ='Menus déjeuner'!Z15 -> Jambon grillé | F24: ='Menus déjeuner'!AB15 -> Filet de poisson meunière | K24: ='Menus déjeuner'!AD15 -> Clafoutis courgette & chèvre | P24: ='Menus déjeuner'!AF15 -> Pâtes au thon catalane | U24: ='Menus déjeuner'!AH15 -> Œufs durs gratinés
A26: 0 | K26: 0 | P26: 0 | U26: 0
C28: =A31 -> Galette de blé à garnir | H28: =F31 -> Ratatouille | M28: =K31 -> Chou fleur persillé | R28: =P31 -> Pennes | W28: =U31 -> Purée de brocolis
A31: ='Menus déjeuner'!Z16 -> Galette de blé à garnir | F31: ='Menus déjeuner'!AB16 -> Ratatouille | K31: ='Menus déjeuner'!AD16 -> Chou fleur persillé | P31: ='Menus déjeuner'!AF16 -> Pennes | U31: ='Menus déjeuner'!AH16 -> Purée de brocolis
A32: ='Menus déjeuner'!Z17 -> Fondue de poireaux | F32: ='Menus déjeuner'!AB17 -> Poêlée de pois chiches aux légumes | K32: ='Menus déjeuner'!AD17 -> Quinoa blond | P32: ='Menus déjeuner'!AF17 -> 0 | U32: ='Menus déjeuner'!AH17 -> Coquillettes
C33: =A38 -> 2 fromages à la coupe | H33: =F38 -> 2 fromages à la coupe | M33: =K38 -> 2 fromages à la coupe | R33: =P38 -> 2 fromages à la coupe | W33: =U38 -> 2 fromages à la coupe
K34: 0 | P34: 0 | U34: 0
P37: 0 | U37: 0
A38: ='Menus déjeuner'!Z18 -> 2 fromages à la coupe | C38: =A46 -> Beignet | F38: ='Menus déjeuner'!AB18 -> 2 fromages à la coupe | H38: =F46 -> Pastèque | K38: ='Menus déjeuner'!AD18 -> 2 fromages à la coupe | M38: =K46 -> Melon | P38: ='Menus déjeuner'!AF18 -> 2 fromages à la coupe | R38: =P46 -> Pana cotta mangue | U38: ='Menus déjeuner'!AH18 -> 2 fromages à la coupe | W38: =U46 -> Crème dessert vanille
A39: ='Menus déjeuner'!Z19 -> dont 1 AOP/AOC/IGP | F39: ='Menus déjeuner'!AB19 -> dont 1 AOP/AOC/IGP | K39: ='Menus déjeuner'!AD19 -> dont 1 AOP/AOC/IGP | P39: ='Menus déjeuner'!AF19 -> dont 1 AOP/AOC/IGP | U39: ='Menus déjeuner'!AH19 -> dont 1 AOP/AOC/IGP
A40: ='Menus déjeuner'!Z20 -> 2 laitages dont 1 yaourt nature | F40: ='Menus déjeuner'!AB20 -> 2 laitages dont 1 yaourt nature | K40: ='Menus déjeuner'!AD20 -> 2 laitages dont 1 yaourt nature | P40: ='Menus déjeuner'!AF20 -> 2 laitages dont 1 yaourt nature | U40: ='Menus déjeuner'!AH20 -> 2 laitages dont 1 yaourt nature
A41: ='Menus déjeuner'!Z21 -> 0 | F41: ='Menus déjeuner'!AB21 -> 0 | K41: ='Menus déjeuner'!AD21 -> 0 | P41: ='Menus déjeuner'!AF21 -> 0 | U41: ='Menus déjeuner'!AH21 -> 0
P45: 0 | U45: 0
A46: ='Menus déjeuner'!Z22 -> Beignet | F46: ='Menus déjeuner'!AB22 -> Pastèque | K46: ='Menus déjeuner'!AD22 -> Melon | P46: ='Menus déjeuner'!AF22 -> Pana cotta mangue | U46: ='Menus déjeuner'!AH22 -> Crème dessert vanille
A47: ='Menus déjeuner'!Z23 -> Semoule au lait vanillé | F47: ='Menus déjeuner'!AB23 -> Salade de fruits frais | K47: ='Menus déjeuner'!AD23 -> Salade de pommes et fruits rouges | P47: ='Menus déjeuner'!AF23 -> Raisin italia | U47: ='Menus déjeuner'!AH23 -> Flan caramel du Chef
A48: ='Menus déjeuner'!Z24 -> 0 | F48: ='Menus déjeuner'!AB24 -> Pomme au four | K48: ='Menus déjeuner'!AD24 -> Abricots au sirop léger | P48: ='Menus déjeuner'!AF24 -> 0 | U48: ='Menus déjeuner'!AH24 -> Compote sans sucre ajouté ARA
A49: ='Menus déjeuner'!Z25 -> Corbeille de fruits frais | F49: ='Menus déjeuner'!AB25 -> Corbeille de fruits frais | K49: ='Menus déjeuner'!AD25 -> Corbeille de fruits frais | P49: ='Menus déjeuner'!AF25 -> Corbeille de fruits frais | U49: ='Menus déjeuner'!AH25 -> Corbeille de fruits frais
U50: 0

Sheet Menus S4
C3: ='Menus déjeuner'!AP3 -> 46286 | H3: =C3+1 -> 46287 | M3: =H3+1 -> 46288 | R3: =C3+3 -> 46289 | W3: =C3+4 -> 46290
C4: DEJEUNER | H4: DEJEUNER | M4: DEJEUNER | R4: DEJEUNER | W4: DEJEUNER
A6: La liste des allergènes présents volontairement dans les préparations est affichée à l'entrée du restaurant, conformément au règlement UE n° 1169/2011 | F6: La liste des allergènes présents volontairement dans les préparations est affichée à l'entrée du restaurant, conformément au règlement UE n° 1169/2011 | K6: La liste des allergènes présents volontairement dans les préparations est affichée à l'entrée du restaurant, conformément au règlement UE n° 1169/2011 | P6: La liste des allergènes présents volontairement dans les préparations est affichée à l'entrée du restaurant, conformément au règlement UE n° 1169/2011 | U6: La liste des allergènes présents volontairement dans les préparations est affichée à l'entrée du restaurant, conformément au règlement UE n° 1169/2011
A12: 0 | F12: 0 | P12: 0 | U12: 0
A13: ='Menus déjeuner'!AL10 -> Melon (selon météo) | F13: ='Menus déjeuner'!AN10 -> Salade de pommes de terre & cervelas | K13: ='Menus déjeuner'!AP10 -> Macédoine vinaigrette au citron | P13: ='Menus déjeuner'!AR10 -> Concombre au fromage blanc | U13: ='Menus déjeuner'!AT10 -> Rillettes de sardines
A14: ='Menus déjeuner'!AL11 -> Cèleri râpé citronné | F14: ='Menus déjeuner'!AN11 -> Salade de haricots rouges | K14: ='Menus déjeuner'!AP11 -> Velouté de légumes | P14: ='Menus déjeuner'!AR11 -> Radis et pomme râpés | U14: ='Menus déjeuner'!AT11 -> Œufs durs mayonnaise
A15: ='Menus déjeuner'!AL12 -> Salade de tomate et maïs | F15: ='Menus déjeuner'!AN12 -> Salade de riz | K15: ='Menus déjeuner'!AP12 -> Champignons à la grecque | P15: ='Menus déjeuner'!AR12 -> Carottes râpées à l'orange | U15: ='Menus déjeuner'!AT12 -> Jambon cornichon
A16: ='Menus déjeuner'!AL13 -> Salade verte | F16: ='Menus déjeuner'!AN13 -> Salade verte | K16: ='Menus déjeuner'!AP13 -> Salade verte | P16: ='Menus déjeuner'!AR13 -> Salade verte | U16: ='Menus déjeuner'!AT13 -> Salade verte
P17: 0
A18: 0 | C18: =A13 -> Melon (selon météo) | F18: 0 | H18: =F13 -> Salade de pommes de terre & cervelas | K18: 0 | M18: =K13 -> Macédoine vinaigrette au citron | P18: 0 | R18: =P13 -> Concombre au fromage blanc | U18: 0 | W18: =U13 -> Rillettes de sardines
A23: ='Menus déjeuner'!AL14 -> Tajine de pois chiches & légumes (carottes, courgettes, navets) | C23: =A23 -> Tajine de pois chiches & légumes (carottes, courgettes, navets) | F23: ='Menus déjeuner'!AN14 -> Émincé de porc aux olives (CE2) | H23: =F23 -> Émincé de porc aux olives (CE2) | K23: ='Menus déjeuner'!AP14 -> Poulet rôti aux épices | M23: =K23 -> Poulet rôti aux épices | P23: ='Menus déjeuner'!AR14 -> Gratin de poisson aneth citron | R23: =P23 -> Gratin de poisson aneth citron | U23: ='Menus déjeuner'!AT14 -> Dinde façon basquaise (Egalim EE) | W23: =U23 -> Dinde façon basquaise (Egalim EE)
A24: ='Menus déjeuner'!AL15 -> Tajine de poisson | F24: ='Menus déjeuner'!AN15 -> Omelette aux herbes | K24: ='Menus déjeuner'!AP15 -> Œufs brouillés | P24: ='Menus déjeuner'!AR15 -> Foie à l'échalote | U24: ='Menus déjeuner'!AT15 -> Bolognaise égrené de pois et légumes
A26: 0 | K26: 0 | P26: 0 | U26: 0
C28: =A31 -> Semoule semi complète | H28: =F31 -> Carottes persillées | M28: =K31 -> Poêlée de légumes | R28: =P31 -> Haricots verts sautés l'ail | W28: =U31 -> Boulgour
A31: ='Menus déjeuner'!AL16 -> Semoule semi complète | F31: ='Menus déjeuner'!AN16 -> Carottes persillées | K31: ='Menus déjeuner'!AP16 -> Poêlée de légumes | P31: ='Menus déjeuner'!AR16 -> Haricots verts sautés l'ail | U31: ='Menus déjeuner'!AT16 -> Boulgour
A32: ='Menus déjeuner'!AL17 -> Courgettes braisées | F32: ='Menus déjeuner'!AN17 -> Flageolets | K32: ='Menus déjeuner'!AP17 -> Riz | P32: ='Menus déjeuner'!AR17 -> Lentilles vertes Isère | U32: ='Menus déjeuner'!AT17 -> Aubergines braisées
C33: =A38 -> 2 fromages à la coupe | H33: =F38 -> 2 fromages à la coupe | M33: =K38 -> 2 fromages à la coupe | R33: =P38 -> 2 fromages à la coupe | W33: =U38 -> 2 fromages à la coupe
K34: 0 | P34: 0 | U34: 0
P37: 0 | U37: 0
A38: ='Menus déjeuner'!AL18 -> 2 fromages à la coupe | C38: =A46 -> Liégeois | F38: ='Menus déjeuner'!AN18 -> 2 fromages à la coupe | H38: =F46 -> Salade de fruits frais | K38: ='Menus déjeuner'!AP18 -> 2 fromages à la coupe | M38: =K46 -> Banane caramel | P38: ='Menus déjeuner'!AR18 -> 2 fromages à la coupe | R38: =P46 -> Marbré | U38: ='Menus déjeuner'!AT18 -> 2 fromages à la coupe | W38: =U46 -> Ananas
A39: ='Menus déjeuner'!AL19 -> dont 1 AOP/AOC/IGP | F39: ='Menus déjeuner'!AN19 -> dont 1 AOP/AOC/IGP | K39: ='Menus déjeuner'!AP19 -> dont 1 AOP/AOC/IGP | P39: ='Menus déjeuner'!AR19 -> dont 1 AOP/AOC/IGP | U39: ='Menus déjeuner'!AT19 -> dont 1 AOP/AOC/IGP
A40: ='Menus déjeuner'!AL20 -> 2 laitages dont 1 yaourt nature | F40: ='Menus déjeuner'!AN20 -> 2 laitages dont 1 yaourt nature | K40: ='Menus déjeuner'!AP20 -> 2 laitages dont 1 yaourt nature | P40: ='Menus déjeuner'!AR20 -> 2 laitages dont 1 yaourt nature | U40: ='Menus déjeuner'!AT20 -> 2 laitages dont 1 yaourt nature
A41: ='Menus déjeuner'!AL21 -> 0 | F41: ='Menus déjeuner'!AN21 -> 0 | K41: ='Menus déjeuner'!AP21 -> 0 | P41: ='Menus déjeuner'!AR21 -> 0 | U41: ='Menus déjeuner'!AT21 -> 0
P45: 0 | U45: 0
A46: ='Menus déjeuner'!AL22 -> Liégeois | F46: ='Menus déjeuner'!AN22 -> Salade de fruits frais | K46: ='Menus déjeuner'!AP22 -> Banane caramel | P46: ='Menus déjeuner'!AR22 -> Marbré | U46: ='Menus déjeuner'!AT22 -> Ananas
A47: ='Menus déjeuner'!AL23 -> Flan du Chef chocolat | F47: ='Menus déjeuner'!AN23 -> Compotée de fruits crus | K47: ='Menus déjeuner'!AP23 -> Salade d'oranges | P47: ='Menus déjeuner'!AR23 -> Moelleux fromage blanc, abricots & romarin | U47: ='Menus déjeuner'!AT23 -> Smoothie aux fruits frais
A48: ='Menus déjeuner'!AL24 -> Abricots au sirop léger | F48: ='Menus déjeuner'!AN24 -> Poire aux amandes | K48: ='Menus déjeuner'!AP24 -> Compote sans sucre ajouté ARA | P48: ='Menus déjeuner'!AR24 -> 0 | U48: ='Menus déjeuner'!AT24 -> Compote sans sucre ajouté ARA
A49: ='Menus déjeuner'!AL25 -> Corbeille de fruits frais | F49: ='Menus déjeuner'!AN25 -> Corbeille de fruits frais | K49: ='Menus déjeuner'!AP25 -> Corbeille de fruits frais | P49: ='Menus déjeuner'!AR25 -> Corbeille de fruits frais | U49: ='Menus déjeuner'!AT25 -> Corbeille de fruits frais
U50: 0

Sheet Menus M+S S5
C3: ='Menus déjeuner'!BB3 -> 46293 | H3: =C3+1 -> 46294 | M3: =H3+1 -> 46295 | R3: =C3+3 -> 46296 | W3: =C3+4 -> 46297
C4: DEJEUNER | H4: DEJEUNER | M4: DEJEUNER | R4: DEJEUNER | W4: DEJEUNER
A6: La liste des allergènes présents volontairement dans les préparations est affichée à l'entrée du restaurant, conformément au règlement UE n° 1169/2011 | F6: La liste des allergènes présents volontairement dans les préparations est affichée à l'entrée du restaurant, conformément au règlement UE n° 1169/2011 | K6: La liste des allergènes présents volontairement dans les préparations est affichée à l'entrée du restaurant, conformément au règlement UE n° 1169/2011 | P6: La liste des allergènes présents volontairement dans les préparations est affichée à l'entrée du restaurant, conformément au règlement UE n° 1169/2011 | U6: La liste des allergènes présents volontairement dans les préparations est affichée à l'entrée du restaurant, conformément au règlement UE n° 1169/2011
A12: 0 | F12: 0 | P12: 0 | U12: 0
A13: ='Menus déjeuner'!AX10 -> 0 | F13: ='Menus déjeuner'!AZ10 -> 0 | K13: ='Menus déjeuner'!BB10 -> 0 | P13: ='Menus déjeuner'!BD10 -> 0 | U13: ='Menus déjeuner'!BF10 -> 0
A14: ='Menus déjeuner'!AX11 -> 0 | F14: ='Menus déjeuner'!AZ11 -> 0 | K14: ='Menus déjeuner'!BB11 -> 0 | P14: ='Menus déjeuner'!BD11 -> 0 | U14: ='Menus déjeuner'!BF11 -> 0
A15: ='Menus déjeuner'!AX12 -> 0 | F15: ='Menus déjeuner'!AZ12 -> 0 | K15: ='Menus déjeuner'!BB12 -> 0 | P15: ='Menus déjeuner'!BD12 -> 0 | U15: ='Menus déjeuner'!BF12 -> 0
A16: ='Menus déjeuner'!AX13 -> 0 | F16: ='Menus déjeuner'!AZ13 -> 0 | K16: ='Menus déjeuner'!BB13 -> 0 | P16: ='Menus déjeuner'!BD13 -> 0 | U16: ='Menus déjeuner'!BF13 -> 0
P17: 0
A18: 0 | C18: =A13 -> 0 | F18: 0 | H18: =F13 -> 0 | M18: =K13 -> 0 | P18: 0 | R18: =P13 -> 0 | U18: 0 | W18: =U13 -> 0
A23: ='Menus déjeuner'!AX14 -> 0 | C23: =A23 -> 0 | F23: ='Menus déjeuner'!AZ14 -> 0 | H23: =F23 -> 0 | K23: ='Menus déjeuner'!BB14 -> 0 | M23: =K23 -> 0 | P23: ='Menus déjeuner'!BD14 -> 0 | R23: =P23 -> 0 | U23: ='Menus déjeuner'!BF14 -> 0 | W23: =U23 -> 0
A24: ='Menus déjeuner'!AX15 -> 0 | F24: ='Menus déjeuner'!AZ15 -> 0 | K24: ='Menus déjeuner'!BB15 -> 0 | P24: ='Menus déjeuner'!BD15 -> 0 | U24: ='Menus déjeuner'!BF15 -> 0
A26: 0 | K26: 0 | P26: 0 | U26: 0
C28: =A31 -> 0 | H28: =F31 -> 0 | M28: =K31 -> 0 | R28: =P31 -> 0 | W28: =U31 -> 0
A31: ='Menus déjeuner'!AX16 -> 0 | F31: ='Menus déjeuner'!AZ16 -> 0 | K31: ='Menus déjeuner'!BB16 -> 0 | P31: ='Menus déjeuner'!BD16 -> 0 | U31: ='Menus déjeuner'!BF16 -> 0
A32: ='Menus déjeuner'!AX17 -> 0 | F32: ='Menus déjeuner'!AZ17 -> 0 | K32: ='Menus déjeuner'!BB17 -> 0 | P32: ='Menus déjeuner'!BD17 -> 0 | U32: ='Menus déjeuner'!BF17 -> 0
C33: =A38 -> 0 | H33: =F38 -> 0 | M33: =K38 -> 0 | R33: =P38 -> 0 | W33: =U38 -> 0
K34: 0 | P34: 0 | U34: 0
P37: 0 | U37: 0
A38: ='Menus déjeuner'!AX18 -> 0 | C38: =A46 -> 0 | F38: ='Menus déjeuner'!AZ18 -> 0 | H38: =F46 -> 0 | K38: ='Menus déjeuner'!BB18 -> 0 | M38: =K46 -> 0 | P38: ='Menus déjeuner'!BD18 -> 0 | R38: =P46 -> 0 | U38: ='Menus déjeuner'!BF18 -> 0 | W38: =U46 -> 0
A39: ='Menus déjeuner'!AX19 -> 0 | F39: ='Menus déjeuner'!AZ19 -> 0 | K39: ='Menus déjeuner'!BB19 -> 0 | P39: ='Menus déjeuner'!BD19 -> 0 | U39: ='Menus déjeuner'!BF19 -> 0
A40: ='Menus déjeuner'!AX20 -> 0 | F40: ='Menus déjeuner'!AZ20 -> 0 | K40: ='Menus déjeuner'!BB20 -> 0 | P40: ='Menus déjeuner'!BD20 -> 0 | U40: ='Menus déjeuner'!BF20 -> 0
A41: ='Menus déjeuner'!AX21 -> 0 | F41: ='Menus déjeuner'!AZ21 -> 0 | K41: ='Menus déjeuner'!BB21 -> 0 | P41: ='Menus déjeuner'!BD21 -> 0 | U41: ='Menus déjeuner'!BF21 -> 0
P45: 0 | U45: 0
A46: ='Menus déjeuner'!AX22 -> 0 | F46: ='Menus déjeuner'!AZ22 -> 0 | K46: ='Menus déjeuner'!BB22 -> 0 | P46: ='Menus déjeuner'!BD22 -> 0 | U46: ='Menus déjeuner'!BF22 -> 0
A47: ='Menus déjeuner'!AX23 -> 0 | F47: ='Menus déjeuner'!AZ23 -> 0 | K47: ='Menus déjeuner'!BB23 -> 0 | P47: ='Menus déjeuner'!BD23 -> 0 | U47: ='Menus déjeuner'!BF23 -> 0
A48: ='Menus déjeuner'!AX24 -> 0 | F48: ='Menus déjeuner'!AZ24 -> 0 | K48: ='Menus déjeuner'!BB24 -> 0 | P48: ='Menus déjeuner'!BD24 -> 0 | U48: ='Menus déjeuner'!BF24 -> 0
A49: ='Menus déjeuner'!AX25 -> 0 | F49: ='Menus déjeuner'!AZ25 -> 0 | K49: ='Menus déjeuner'!BB25 -> 0 | P49: ='Menus déjeuner'!BD25 -> 0 | U49: ='Menus déjeuner'!BF25 -> 0
U50: 0
C54: =C3 -> 46293 | H54: =C54+1 -> 46294 | M54: =C54+2 -> 46295 | R54: =C54+3 -> 46296
C55: DÎNER | H55: DÎNER | M55: DÎNER | R55: DÎNER
A63: 0 | F63: 0 | K63: 0 | P63: 0
A64: ='Menus déjeuner'!#REF! -> #REF! | F64: ='Menus déjeuner'!#REF! -> #REF! | K64: ='Menus déjeuner'!#REF! -> #REF! | P64: ='Menus déjeuner'!#REF! -> #REF!
A65: ='Menus déjeuner'!#REF! -> #REF! | F65: ='Menus déjeuner'!#REF! -> #REF! | K65: ='Menus déjeuner'!#REF! -> #REF! | P65: ='Menus déjeuner'!#REF! -> #REF!
A66: ='Matrice menus diners self'!AL15 -> 0 | F66: ='Matrice menus diners self'!AM15 -> 0 | K66: ='Matrice menus diners self'!AN15 -> 0 | P66: ='Matrice menus diners self'!AO15 -> 0
A67: ='Matrice menus diners self'!AL16 -> 0 | F67: ='Matrice menus diners self'!AM16 -> 0 | K67: ='Matrice menus diners self'!AN16 -> 0 | P67: ='Matrice menus diners self'!AO16 -> 0
P68: ='Matrice menus diners self'!AO17 -> 0
A69: 0 | C69: =A64 -> #REF! | H69: =F64 -> #REF! | K69: 0 | M69: =K64 -> #REF! | R69: =P64 -> #REF!
K72: ='Menus déjeuner'!#REF! -> #REF! | P72: ='Menus déjeuner'!#REF! -> #REF!
A73: ='Menus déjeuner'!#REF! -> #REF! | F73: ='Menus déjeuner'!#REF! -> #REF! | K73: ='Menus déjeuner'!#REF! -> #REF! | P73: ='Menus déjeuner'!#REF! -> #REF!
A74: ='Menus déjeuner'!#REF! -> #REF! | C74: =A73 -> #REF! | F74: ='Menus déjeuner'!#REF! -> #REF! | H74: =F73 -> #REF! | K74: ='Matrice menus diners self'!AN19 -> 0 | M74: =K72 -> #REF! | P74: ='Matrice menus diners self'!AO19 -> 0 | R74: =P72 -> #REF!
A75: ='Matrice menus diners self'!AL20 -> 0 | F75: ='Matrice menus diners self'!AM20 -> 0 | K75: ='Matrice menus diners self'!AN20 -> 0 | P75: ='Matrice menus diners self'!AO20 -> 0
A76: ='Matrice menus diners self'!AL21 -> 0 | F76: ='Matrice menus diners self'!AM21 -> 0 | K76: ='Matrice menus diners self'!AN21 -> 0 | P76: ='Matrice menus diners self'!AO21 -> 0
A77: ='Matrice menus diners self'!AL22 -> 0 | F77: 0 | K77: ='Matrice menus diners self'!AN22 -> 0 | P77: ='Matrice menus diners self'!AO22 -> 0
C79: =A82 -> #REF! | H79: =F82 -> #REF! | M79: =K82 -> #REF! | R79: =P82 -> #REF!
A82: ='Menus déjeuner'!#REF! -> #REF! | F82: ='Menus déjeuner'!#REF! -> #REF! | K82: ='Menus déjeuner'!#REF! -> #REF! | P82: ='Menus déjeuner'!#REF! -> #REF!
A83: ='Menus déjeuner'!#REF! -> #REF! | F83: ='Menus déjeuner'!#REF! -> #REF! | K83: ='Menus déjeuner'!#REF! -> #REF! | P83: ='Menus déjeuner'!#REF! -> #REF!
A84: ='Matrice menus diners self'!AL26 -> 0 | C84: =A89 -> #REF! | F84: ='Matrice menus diners self'!AM26 -> 0 | H84: =F89 -> #REF! | K84: ='Matrice menus diners self'!AN26 -> 0 | M84: =K89 -> #REF! | P84: ='Matrice menus diners self'!AO26 -> 0 | R84: =P89 -> #REF!
A88: 0 | F88: 0 | K88: 0 | P88: 0
A89: ='Menus déjeuner'!#REF! -> #REF! | C89: =A97 -> #REF! | F89: ='Menus déjeuner'!#REF! -> #REF! | H89: =F97 -> #REF! | K89: ='Menus déjeuner'!#REF! -> #REF! | M89: =K97 -> #REF! | P89: ='Menus déjeuner'!#REF! -> #REF! | R89: =P97 -> #REF!
A90: ='Menus déjeuner'!#REF! -> #REF! | F90: ='Menus déjeuner'!#REF! -> #REF! | K90: ='Menus déjeuner'!#REF! -> #REF! | P90: ='Menus déjeuner'!#REF! -> #REF!
A91: ='Matrice menus diners self'!AL31 -> 0 | F91: ='Matrice menus diners self'!AM31 -> 0 | K91: ='Matrice menus diners self'!AN31 -> 0 | P91: ='Matrice menus diners self'!AO31 -> 0
A92: 0 | F92: ='Matrice menus diners self'!AM32 -> 0 | K92: 0 | P92: 0
A93: 0
A96: 0 | F96: 0 | K96: 0 | P96: 0
A97: ='Menus déjeuner'!#REF! -> #REF! | F97: ='Menus déjeuner'!#REF! -> #REF! | K97: ='Menus déjeuner'!#REF! -> #REF! | P97: ='Menus déjeuner'!#REF! -> #REF!
A98: ='Menus déjeuner'!#REF! -> #REF! | F98: ='Menus déjeuner'!#REF! -> #REF! | K98: ='Menus déjeuner'!#REF! -> #REF! | P98: ='Menus déjeuner'!#REF! -> #REF!
A99: ='Matrice menus diners self'!AL36 -> 0 | F99: ='Matrice menus diners self'!AM36 -> 0 | K99: ='Matrice menus diners self'!AN36 -> 0 | P99: ='Matrice menus diners self'!AO36 -> 0
A100: ='Matrice menus diners self'!AL37 -> 0 | F100: ='Matrice menus diners self'!AM37 -> 0 | K100: ='Matrice menus diners self'!AN37 -> 0 | P100: ='Matrice menus diners self'!AO37 -> 0
